From mboxrd@z Thu Jan 1 00:00:00 1970 Return-Path: Received: from mails.dpdk.org (mails.dpdk.org [217.70.189.124]) by inbox.dpdk.org (Postfix) with ESMTP id 776C048B06 for ; Fri, 14 Nov 2025 10:20:23 +0100 (CET) Received: from mails.dpdk.org (localhost [127.0.0.1]) by mails.dpdk.org (Postfix) with ESMTP id 5A3EB40151; Fri, 14 Nov 2025 10:20:23 +0100 (CET) Received: from mail-ua1-f98.google.com (mail-ua1-f98.google.com [209.85.222.98]) by mails.dpdk.org (Postfix) with ESMTP id A937440151 for ; Fri, 14 Nov 2025 10:20:22 +0100 (CET) Received: by mail-ua1-f98.google.com with SMTP id a1e0cc1a2514c-9371f6f2813so544086241.0 for ; Fri, 14 Nov 2025 01:20:22 -0800 (PST) DKIM-Signature: v=1; a=rsa-sha256; c=relaxed/relaxed; d=iol.unh.edu; s=unh-iol; t=1763112022; x=1763716822; darn=dpdk.org; h=references:in-reply-to:cc:to:from:subject:message-id:date:from:to :cc:subject:date:message-id:reply-to; bh=zwCVGPl1grHdArNZO3QDLMM+V9qtUSDVxfJvt3K4+cc=; b=c9SFfWrnzYExUlitTlZYBnFqyTySYBpKbywGlcy18w9WPzu7Zrjcg2XWz98NiqsXh/ w6uQkKC+ZMtSPm1cEs/sBS6wd12edYy45ZUYKwc4nAz+QbX7PmP2lUCFrd77/4Jvyjv8 5LbAoLr1JHW9lLYwttnwmjjCBtYWQmYMJv58w= X-Google-DKIM-Signature: v=1; a=rsa-sha256; c=relaxed/relaxed; d=1e100.net; s=20230601; t=1763112022; x=1763716822; h=references:in-reply-to:cc:to:from:subject:message-id:date:x-gm-gg :x-gm-message-state:from:to:cc:subject:date:message-id:reply-to; bh=zwCVGPl1grHdArNZO3QDLMM+V9qtUSDVxfJvt3K4+cc=; b=pnrL6NFTvY2YrxaPrUxm5BM1pLjooh/HdiVY21czatYD5Mt0FGQIG6cydKJ6Mx9nd5 vwETmNQlnUSK0dJ1iknPZVFabWNjQCG2+OqvkSHqpBuAwDJk4rorOWCtt3MOBBqyaYw9 Js2CL4nKSjggmaDIgKaTR9cixjXpwaOY8v6pXkXS72qUp/akV0/a55dQwoI9MyXjKiF6 3Hm45NZE2QgT4z5jdOLCcxZQ9tPDGimYBuTMrcqUmhG9RJzGeHTfBhOQCS3iuNNAGM0c gO+SyCOykiQ1agpQ/w9N+UbD9o9LolEpNzgYBem7Q37AaZEgkQ2Kl9BzLgsydS2N2Sqd 5d3A== X-Gm-Message-State: AOJu0YyIw5mMkl7DzX8onA2BtyzZgzE7OQqfGdD+3xFdcSMyrXHVbRBp Q0uQ82OxrmMf6aQOOfZuW5t1qUH16G9iIl8u4YfPcJ34iPY3/ssSWy81TT8aD/L2byfAguafFI7 PRyNRjjbK+ji65rxo8frC/GJw7jYkinNZjwFNw6L41kTI X-Gm-Gg: ASbGncs6Hul9V0KyVzSC9QEKzEf0tT/kGlZ9eXcSye31/JrFWoJ9CA8ZQVPf1besLsB XlTv3eCfxa+TdORYc+AuhpfQyL9cYxPXzVkONSoyhqrUuDv12tLt/yOJBBXoIkn4He6/t5P1bwF mjreu1eLPqOyjEJC6mpjA82bGSNFClxipCgy6ASIM1PmLOvpSzZeenrZeSg1r9kyJEMBLEOYaDI c9e7RG9/mIyO0J9sI1+ZU9xuay4O/w+EDGFl6pCLbOBiPwFOeP5NX4JRSIi1DJFR6eTOZt3KI7M i7MOwIoJnXSmKbJdWFJcf5jY/uyhMW7b1dY1uJx15RUjhnVpveMFJuSZ5Zj3QwVcZ82BzljcaBf VyHCyS1YpjNdeW+946r0mXaspwwvvlx8= X-Google-Smtp-Source: AGHT+IGskkaIcTtKKuyho7ATe1aIuDVVZv/WGOHpqLnjaLVeEfaq9CQ29VQjpRMcGkbKlpZLrFwEJicENDYj X-Received: by 2002:a05:6102:26d1:b0:5dd:84f1:b51a with SMTP id ada2fe7eead31-5dfc5b99ed7mr948225137.43.1763112022013; Fri, 14 Nov 2025 01:20:22 -0800 (PST) Received: from postal.iol.unh.edu (postal.iol.unh.edu. [132.177.123.84]) by smtp-relay.gmail.com with ESMTPS id ada2fe7eead31-5dfb71d92aesm465831137.3.2025.11.14.01.20.21 (version=TLS1_2 cipher=ECDHE-ECDSA-AES128-GCM-SHA256 bits=128/128); Fri, 14 Nov 2025 01:20:22 -0800 (PST) X-Relaying-Domain: iol.unh.edu Date: Fri, 14 Nov 2025 01:20:22 -0800 (PST) Message-ID: <6916f456.050a0220.1e94.5a6bSMTPIN_ADDED_MISSING@mx.google.com> Received: from [172.21.0.3] (unknown [172.18.0.240]) by postal.iol.unh.edu (Postfix) with ESMTP id AB5CC6050A61; Fri, 14 Nov 2025 04:20:21 -0500 (EST) Subject: |SUCCESS| pw158755 [PATCH] [v1] net/axgbe: fix the build warninig fo From: dpdklab@iol.unh.edu To: Test Report Cc: dpdk-test-reports@iol.unh.edu, Stephen Hemminger In-Reply-To: <20251113113055.371-1-VenkatKumar.Ande@amd.com> References: <20251113113055.371-1-VenkatKumar.Ande@amd.com> Content-Type: text/plain X-BeenThere: test-report@dpdk.org X-Mailman-Version: 2.1.29 Precedence: list List-Id: automatic DPDK test reports List-Unsubscribe: , List-Archive: List-Post: List-Help: List-Subscribe: , Errors-To: test-report-bounces@dpdk.org Test-Label: iol-compile-arm64-testing Test-Status: SUCCESS http://dpdk.org/patch/158755 _Testing PASS_ Submitter: Venkat Kumar Ande Date: Thursday, November 13 2025 11:30:55 DPDK git baseline: Repo:dpdk-next-net Branch: master CommitID:29807269854f9bfc72f1323273de8e23adc724d4 158755 --> testing pass Upstream job id: Generic-DPDK-Compile-Meson#443991 Test environment and result as below: +------------------------------+--------------------+ | Environment | dpdk_meson_compile | +==============================+====================+ | Red Hat Enterprise Linux 9.5 | PASS | +------------------------------+--------------------+ | Ubuntu 20.04 | PASS | +------------------------------+--------------------+ | Debian GNU/Linux 12 | PASS | +------------------------------+--------------------+ | Fedora Linux 42 | PASS | +------------------------------+--------------------+ | Ubuntu 22.04 | PASS | +------------------------------+--------------------+ | Ubuntu 24.04 | PASS | +------------------------------+--------------------+ | CentOS Stream 9 | PASS | +------------------------------+--------------------+ | CentOS Stream 10 | PASS | +------------------------------+--------------------+ Red Hat Enterprise Linux 9.5 Kernel: 5.4 Compiler: gcc gcc (GCC) 11.5.0 20240719 (Red Hat 11.5.0-2) Ubuntu 20.04 Kernel: 5.15 Compiler: aarch64-linux-gnu-gcc gcc (Ubuntu 9.4.0-1ubuntu1~20.04.2) 9.4.0 Debian GNU/Linux 12 Kernel: 5.4 Compiler: gcc gcc (Debian 12.2.0-14+deb12u1) 12.2.0 Fedora Linux 42 Kernel: 5.4 Compiler: gcc gcc (GCC) 15.2.1 20250808 (Red Hat 15.2.1-1) Ubuntu 22.04 Kernel: 5.4 Compiler: gcc gcc (Ubuntu 11.4.0-1ubuntu1~22.04) 11.4.0 Ubuntu 24.04 Kernel: 5.4 Compiler: gcc gcc (Ubuntu 13.3.0-6ubuntu2~24.04) 13.3.0 CentOS Stream 9 Kernel: 5.4 Compiler: gcc gcc (GCC) 11.5.0 20240719 (Red Hat 11.5.0-11) CentOS Stream 10 Kernel: 5.4 Compiler: gcc gcc (GCC) 14.2.1 20250110 (Red Hat 14.2.1-8) To view detailed results, visit: https://lab.dpdk.org/results/dashboard/patchsets/34572/ UNH-IOL DPDK Community Lab To manage your email subscriptions, visit: https://lab.dpdk.org/results/dashboard/preferences/subscriptions/