From mboxrd@z Thu Jan 1 00:00:00 1970 Return-Path: Received: from mails.dpdk.org (mails.dpdk.org [217.70.189.124]) by inbox.dpdk.org (Postfix) with ESMTP id 462B348B06 for ; Fri, 14 Nov 2025 10:28:56 +0100 (CET) Received: from mails.dpdk.org (localhost [127.0.0.1]) by mails.dpdk.org (Postfix) with ESMTP id 2521240657; Fri, 14 Nov 2025 10:28:56 +0100 (CET) Received: from mail-yx1-f97.google.com (mail-yx1-f97.google.com [74.125.224.97]) by mails.dpdk.org (Postfix) with ESMTP id 786AD40657 for ; Fri, 14 Nov 2025 10:28:55 +0100 (CET) Received: by mail-yx1-f97.google.com with SMTP id 956f58d0204a3-640d790d444so1595098d50.0 for ; Fri, 14 Nov 2025 01:28:55 -0800 (PST) DKIM-Signature: v=1; a=rsa-sha256; c=relaxed/relaxed; d=iol.unh.edu; s=unh-iol; t=1763112535; x=1763717335; darn=dpdk.org; h=references:in-reply-to:cc:to:from:subject:message-id:date:from:to :cc:subject:date:message-id:reply-to; bh=CO67YJmFNyu7UbjWW5mfQVcrWUY3bKOQ7EqQaOpa6lw=; b=BQ5COtGIKj27PK8hbBbjH/2DARGavyNaNv4+7/05NktcH9oEl/7nxsCy23Kc2wGNOS IJFBd2riS83h89hRyv+vO0vvnvQL1n+wjPw+Jl1ifXY6CVC8l8hAHWnVGcGD7E0G8Tas oCkwjTy6P++Lt9M/hl1k9nDFGKDMkIyzfmz7M= X-Google-DKIM-Signature: v=1; a=rsa-sha256; c=relaxed/relaxed; d=1e100.net; s=20230601; t=1763112535; x=1763717335; h=references:in-reply-to:cc:to:from:subject:message-id:date:x-gm-gg :x-gm-message-state:from:to:cc:subject:date:message-id:reply-to; bh=CO67YJmFNyu7UbjWW5mfQVcrWUY3bKOQ7EqQaOpa6lw=; b=TaZpU8OSX0WTIBVCTdVnt+pA3/IyJIoQeQ/NZrzmpauuttXQ+KQjR5wY43RS7TOd9o ycxvurQGa0ksz7Zl6qxSr6XN9o+IamMczBnDRELi0T4KZSi05QXqmLbcYCAW3rQbozOO /+xUSnMfaVyeGN63mOq+ovy7fVh/Hx2iZwejy+0Z3PNJJL8a+o+w4AsnUXL2INh6syPP Tmyl4DIcbBHpZMF/xTl3C656iD6NeR55V8iT/cC8r/gO3nB07AjcdsIv8/elppjqPUQO hXR63D7ZEToyAqvSUwi+I4GM9XLp0jEE4KPWF2Wk9Q1W3BtG61rEicX8IEYl0Q8RdGBS QwPg== X-Gm-Message-State: AOJu0YwupM2kbsn2HRlSq2BzVwXdEVjM6EFi7VhkCnaO0ybXghGARMXl S2ANbWZ5hdPj1u9elyqyNelcQZ/npL2ReWAVOA98Ww6KIszDHsY/pkULaMDU5bi0hMPVBkWVy6H f+QCHVfJ1ynDPeN00Sx8e9Maifx3jGdcDPAp/Mfa9H3OGi/QKvO7y3EnNIHyb X-Gm-Gg: ASbGncvDL7OsTXmlqphLXsDlFS3hmf1mWDXcQfgDAr7K5JPQQxnXunYtSmb0DpeAQwc WyRkW0BwSU5re+/91+dCZcP8fHH3ZpmaGnjwD6TfKhL8ubQKVVugKms3vGYi20ddxXInugUPJlu OwDFUG2PEi7W+vvViIwTprh6w6TcJMPXdfmW4KD/51M4m5mmDXm4WeVe5A/8M9J/p0KROYZiyu1 6jZMcZ+qmlSb7pDOqK2R5HQ/823o0dtWK32hHr0kGAE1rGWBXB2afwC0xIVc3N9KK67PIA33dJr 4vbwbJVMZBe3pJPnTzaQIaKP/mGhYJBQlZpl5lq9StAyySVWabQRT2m1m4kXlyN6M1FN9gkg3Ot /zAYo4ZUB X-Google-Smtp-Source: AGHT+IE7prXRJXW73R0rxGUOhoVmC1jzp949sHB49OEyg1p6f8mnuk2axuDlJ+D5Avc2SvG2y4XxmaYqmp1u X-Received: by 2002:a05:690e:154b:20b0:63f:b367:3218 with SMTP id 956f58d0204a3-641e755572cmr1691952d50.11.1763112534755; Fri, 14 Nov 2025 01:28:54 -0800 (PST) Received: from postal.iol.unh.edu (postal.iol.unh.edu. [2606:4100:3880:1234::84]) by smtp-relay.gmail.com with ESMTPS id 00721157ae682-78821df1e1bsm2212997b3.5.2025.11.14.01.28.54 (version=TLS1_2 cipher=ECDHE-ECDSA-AES128-GCM-SHA256 bits=128/128); Fri, 14 Nov 2025 01:28:54 -0800 (PST) X-Relaying-Domain: iol.unh.edu Date: Fri, 14 Nov 2025 01:28:54 -0800 (PST) Message-ID: <6916f656.050a0220.332943.a1d2SMTPIN_ADDED_MISSING@mx.google.com> Received: from [172.21.0.2] (unknown [172.18.0.240]) by postal.iol.unh.edu (Postfix) with ESMTP id 5E3956051830; Fri, 14 Nov 2025 04:28:54 -0500 (EST) Subject: |SUCCESS| pw158746 [PATCH] app/proc-info: allow overriding defaults From: dpdklab@iol.unh.edu To: Test Report Cc: dpdk-test-reports@iol.unh.edu In-Reply-To: <20251112130326.2674728-1-mprajapat@marvell.com> References: <20251112130326.2674728-1-mprajapat@marvell.com> Content-Type: text/plain X-BeenThere: test-report@dpdk.org X-Mailman-Version: 2.1.29 Precedence: list List-Id: automatic DPDK test reports List-Unsubscribe: , List-Archive: List-Post: List-Help: List-Subscribe: , Errors-To: test-report-bounces@dpdk.org Test-Label: iol-unit-arm64-testing Test-Status: SUCCESS http://dpdk.org/patch/158746 _Testing PASS_ Submitter: Mohit Kumar Parjapat Date: Wednesday, November 12 2025 13:03:13 DPDK git baseline: Repo:dpdk Branch: master CommitID:be0112878b4fc3a1b918370ed2fe615c52039d77 158746 --> testing pass Upstream job id: Generic-Unit-Test-DPDK#391975 Test environment and result as below: +------------------------------+----------------+---------------------------+--------------+------------------------------+ | Environment | dpdk_unit_test | cryptodev_sw_zuc_autotest | lpm_autotest | cryptodev_sw_snow3g_autotest | +==============================+================+===========================+==============+==============================+ | Debian GNU/Linux 12 | PASS | SKIPPED | SKIPPED | SKIPPED | +------------------------------+----------------+---------------------------+--------------+------------------------------+ | Fedora Linux 40 | PASS | SKIPPED | SKIPPED | SKIPPED | +------------------------------+----------------+---------------------------+--------------+------------------------------+ | CentOS Stream 9 | PASS | SKIPPED | SKIPPED | SKIPPED | +------------------------------+----------------+---------------------------+--------------+------------------------------+ | Ubuntu 22.04 | PASS | SKIPPED | SKIPPED | SKIPPED | +------------------------------+----------------+---------------------------+--------------+------------------------------+ | Fedora Linux 41 | PASS | SKIPPED | SKIPPED | SKIPPED | +------------------------------+----------------+---------------------------+--------------+------------------------------+ | Fedora Linux 42 | PASS | SKIPPED | SKIPPED | SKIPPED | +------------------------------+----------------+---------------------------+--------------+------------------------------+ | Red Hat Enterprise Linux 9.5 | PASS | SKIPPED | SKIPPED | SKIPPED | +------------------------------+----------------+---------------------------+--------------+------------------------------+ | Ubuntu 24.04 | PASS | SKIPPED | SKIPPED | SKIPPED | +------------------------------+----------------+---------------------------+--------------+------------------------------+ | CentOS Stream 10 | PASS | SKIPPED | SKIPPED | SKIPPED | +------------------------------+----------------+---------------------------+--------------+------------------------------+ | Ubuntu 20.04 | PASS | SKIPPED | PASS | SKIPPED | +------------------------------+----------------+---------------------------+--------------+------------------------------+ | Debian 12 (arm) | SKIPPED | PASS | SKIPPED | PASS | +------------------------------+----------------+---------------------------+--------------+------------------------------+ Debian GNU/Linux 12 Kernel: 5.4 Compiler: gcc gcc (Debian 12.2.0-14+deb12u1) 12.2.0 Fedora Linux 40 Kernel: 5.4 Compiler: gcc gcc (GCC) 14.2.1 20240912 (Red Hat 14.2.1-3) CentOS Stream 9 Kernel: 5.4 Compiler: gcc gcc (GCC) 11.5.0 20240719 (Red Hat 11.5.0-11) Ubuntu 22.04 Kernel: 5.15 Compiler: gcc gcc (Ubuntu 11.4.0-1ubuntu1~22.04.2) 11.4.0 Fedora Linux 41 Kernel: 5.4 Compiler: gcc gcc (GCC) 14.3.1 20250523 (Red Hat 14.3.1-1) Fedora Linux 42 Kernel: 5.4 Compiler: clang gcc (GCC) 15.2.1 20250808 (Red Hat 15.2.1-1) Red Hat Enterprise Linux 9.5 Kernel: 5.4 Compiler: gcc gcc (GCC) 11.5.0 20240719 (Red Hat 11.5.0-2) Ubuntu 24.04 Kernel: 5.4 Compiler: gcc gcc (Ubuntu 13.3.0-6ubuntu2~24.04) 13.3.0 CentOS Stream 10 Kernel: 5.4 Compiler: gcc gcc (GCC) 14.2.1 20250110 (Red Hat 14.2.1-8) Ubuntu 20.04 Kernel: 5.4 Compiler: gcc gcc (Ubuntu 9.4.0-1ubuntu1~20.04.2) 9.4.0 Debian 12 (arm) Kernel: Depends on container host Compiler: gcc (Debian 12.2.0-14) 12.2.0 To view detailed results, visit: https://lab.dpdk.org/results/dashboard/patchsets/34566/ UNH-IOL DPDK Community Lab To manage your email subscriptions, visit: https://lab.dpdk.org/results/dashboard/preferences/subscriptions/