From: dpdklab@iol.unh.edu
To: Test Report <test-report@dpdk.org>
Cc: dpdk-test-reports@iol.unh.edu,
Stephen Hemminger <stephen@networkplumber.org>
Subject: |SUCCESS| pw158783 [PATCH] [v2] ethdev: add GENEVE encapsulation and
Date: Fri, 14 Nov 2025 01:36:05 -0800 (PST) [thread overview]
Message-ID: <6916f805.050a0220.26405d.0f31SMTPIN_ADDED_MISSING@mx.google.com> (raw)
In-Reply-To: <20251114061917.20948-1-sunyang.wu@jaguarmicro.com>
Test-Label: iol-compile-amd64-testing
Test-Status: SUCCESS
http://dpdk.org/patch/158783
_Testing PASS_
Submitter: Sunyang Wu <sunyang.wu@jaguarmicro.com>
Date: Friday, November 14 2025 06:19:17
DPDK git baseline: Repo:dpdk-next-net
Branch: master
CommitID:fca6f2910345c25a5050a0b586e0d324ca616cbb
158783 --> testing pass
Upstream job id: Generic-DPDK-Compile-Meson#444095
Test environment and result as below:
+--------------+--------------------+
| Environment | dpdk_meson_compile |
+==============+====================+
| Ubuntu 20.04 | PASS |
+--------------+--------------------+
| FreeBSD 14.2 | PASS |
+--------------+--------------------+
| Ubuntu 22.04 | PASS |
+--------------+--------------------+
Ubuntu 20.04
Kernel: 4.19
Compiler: gcc gcc (Ubuntu 9.4.0-1ubuntu1~20.04.2) 9.4.0
FreeBSD 14.2
Kernel: 14.2-RELEASE
Compiler: clang 18.1.6
Ubuntu 22.04
Kernel: 5.15
Compiler: gcc gcc (Ubuntu 11.4.0-1ubuntu1~22.04) 11.4.0
To view detailed results, visit:
https://lab.dpdk.org/results/dashboard/patchsets/34587/
UNH-IOL DPDK Community Lab
To manage your email subscriptions, visit:
https://lab.dpdk.org/results/dashboard/preferences/subscriptions/
prev parent reply other threads:[~2025-11-14 9:36 UTC|newest]
Thread overview: 21+ messages / expand[flat|nested] mbox.gz Atom feed top
[not found] <20251114061917.20948-1-sunyang.wu@jaguarmicro.com>
2025-11-14 5:45 ` |SUCCESS| pw158783 [PATCH v2] ethdev: add GENEVE encapsulation and decapsulation actions qemudev
2025-11-14 5:50 ` qemudev
2025-11-14 6:19 ` |WARNING| " checkpatch
2025-11-14 6:57 ` |SUCCESS| pw158783 [PATCH] [v2] ethdev: add GENEVE encapsulation and dpdklab
2025-11-14 6:59 ` dpdklab
2025-11-14 6:59 ` dpdklab
2025-11-14 7:02 ` dpdklab
2025-11-14 7:17 ` dpdklab
2025-11-14 7:22 ` |PENDING| " dpdklab
2025-11-14 7:31 ` dpdklab
2025-11-14 7:32 ` dpdklab
2025-11-14 7:42 ` |SUCCESS| pw158783 [PATCH v2] ethdev: add GENEVE encapsulation and decapsulation actions 0-day Robot
2025-11-14 7:42 ` 0-day Robot
2025-11-14 7:43 ` |SUCCESS| pw158783 [PATCH] [v2] ethdev: add GENEVE encapsulation and dpdklab
2025-11-14 7:47 ` dpdklab
2025-11-14 7:47 ` dpdklab
2025-11-14 8:08 ` dpdklab
2025-11-14 8:21 ` dpdklab
2025-11-14 8:31 ` dpdklab
2025-11-14 8:54 ` dpdklab
2025-11-14 9:36 ` dpdklab [this message]
Reply instructions:
You may reply publicly to this message via plain-text email
using any one of the following methods:
* Save the following mbox file, import it into your mail client,
and reply-to-all from there: mbox
Avoid top-posting and favor interleaved quoting:
https://en.wikipedia.org/wiki/Posting_style#Interleaved_style
* Reply using the --to, --cc, and --in-reply-to
switches of git-send-email(1):
git send-email \
--in-reply-to=6916f805.050a0220.26405d.0f31SMTPIN_ADDED_MISSING@mx.google.com \
--to=dpdklab@iol.unh.edu \
--cc=dpdk-test-reports@iol.unh.edu \
--cc=stephen@networkplumber.org \
--cc=test-report@dpdk.org \
/path/to/YOUR_REPLY
https://kernel.org/pub/software/scm/git/docs/git-send-email.html
* If your mail client supports setting the In-Reply-To header
via mailto: links, try the mailto: link
Be sure your reply has a Subject: header at the top and a blank line
before the message body.
This is a public inbox, see mirroring instructions
for how to clone and mirror all data and code used for this inbox;
as well as URLs for NNTP newsgroup(s).