From mboxrd@z Thu Jan 1 00:00:00 1970 Return-Path: Received: from mails.dpdk.org (mails.dpdk.org [217.70.189.124]) by inbox.dpdk.org (Postfix) with ESMTP id E798A48B06 for ; Fri, 14 Nov 2025 10:36:06 +0100 (CET) Received: from mails.dpdk.org (localhost [127.0.0.1]) by mails.dpdk.org (Postfix) with ESMTP id E2EC340151; Fri, 14 Nov 2025 10:36:06 +0100 (CET) Received: from mail-oa1-f97.google.com (mail-oa1-f97.google.com [209.85.160.97]) by mails.dpdk.org (Postfix) with ESMTP id 5B16E40151 for ; Fri, 14 Nov 2025 10:36:06 +0100 (CET) Received: by mail-oa1-f97.google.com with SMTP id 586e51a60fabf-3c96de7fe7eso1172507fac.0 for ; Fri, 14 Nov 2025 01:36:06 -0800 (PST) DKIM-Signature: v=1; a=rsa-sha256; c=relaxed/relaxed; d=iol.unh.edu; s=unh-iol; t=1763112965; x=1763717765; darn=dpdk.org; h=references:in-reply-to:cc:to:from:subject:message-id:date:from:to :cc:subject:date:message-id:reply-to; bh=vKL3zW9cIxDUOTGEVvO+Qr19i5qchHF4dMEcqjNHOVc=; b=SUdJgB3IZtLdorWjbZZePQQQ4X4UqoqcZGBdeM47wSD9M55IpMdd4nKz2M8qbgdYmi coGt/Gwr81gbHyiJk3+gXJ1uCwv1i6AfAixV3WEWT0acXaS7izZv4a4t1C9tzYdmzfkm zHjc1krySQrO0bD7MbmYP7arISG0UbN4mXYWQ= X-Google-DKIM-Signature: v=1; a=rsa-sha256; c=relaxed/relaxed; d=1e100.net; s=20230601; t=1763112965; x=1763717765; h=references:in-reply-to:cc:to:from:subject:message-id:date:x-gm-gg :x-gm-message-state:from:to:cc:subject:date:message-id:reply-to; bh=vKL3zW9cIxDUOTGEVvO+Qr19i5qchHF4dMEcqjNHOVc=; b=aSe51iaXyWRLyloHK671CFkuiMI0NdyHKEcZeIK1PKcreJIUleDYS9pbuQFy00lj2t 9U2OisaFyUAqogMODvcoVjBylkIDUROsyb8duiBRrbGX2BaN11GoSJCsE4uqy5t2YBZu SpYx0zLz629WwH7uodq8OXkNPj19Hpjfg4x6RW8TCKVyTl4xVUz+dTogprTmu+wN/OQ9 8Oj8oIXSHbOXMay0dUPLiDSrZkxipu+WGxbdFsQL2jxK5LshI5DjFS5SWs0z5aC6RvbT BgeAAF/TcUW5do6i54Tdk11MyC8ne2wT/Xr21RMLbGw8GCbHEW7lkstHacKaI/UVeBDC oD8A== X-Gm-Message-State: AOJu0YwBwVY0vO42UxF2ZCS9lwrW0bRGCXo3E48CRAzPDOJABoERc6EF l+9yDM//Zk3g6kb/feBX4fHhO5SxLa//XVCwGhwhAL9Vwt2/mhk8P0roWuVhLkvdYtLEN8CpjaH GXchBdHkxcKr5wv6r1lTUQwi82Vdzz6NStK8ErdP3ANyR X-Gm-Gg: ASbGncv0OQi9W+55ZgZ88wgvxbXRFx8jzqiqLZr5kkpXX1J5yK4/6m0r55w5zVzv0ma UbPIhiKnagZkR08UffPDc43k+89rzDtNct1OaijOPQzNGSZ8xoTlRpfkvBtKlw5VKxjdL9tta/D nmNQv4ZEiLYvZbVNKNJo90Ci6BrBhCChVR1inj1C5nuumCRH6PWvf9tl+RrZyLxId/t8ZvLTzfA f32p8CEoEqE/Zbfyq2a9/FnSsMiJsENXaxXfcqpgj0yQGnWE9hko/ghONVQifi4hlmR1abLY56Y YKP5dx7Zaow7jGR5rXNHyz8C2NLS61mj6h6BcefeM5jKFltX05uAsiU5aATRgz3n4l0nWQh+g6v QgiRJLS1lNHXCE/j+Ie1jKuzOB2ShhZs= X-Google-Smtp-Source: AGHT+IGswZS038mUBmF7mMI9TJdUv1u3/2LnDJf7N2VQewvR4ctIZKzAXEO+IZwFpsUlwDSZ2rjREHSUa/V5 X-Received: by 2002:a05:6870:7182:b0:3d4:cea7:62b5 with SMTP id 586e51a60fabf-3e86920a732mr1401292fac.48.1763112965510; Fri, 14 Nov 2025 01:36:05 -0800 (PST) Received: from postal.iol.unh.edu (postal.iol.unh.edu. [132.177.123.84]) by smtp-relay.gmail.com with ESMTPS id 586e51a60fabf-3e8522adbb3sm354752fac.17.2025.11.14.01.36.05 (version=TLS1_2 cipher=ECDHE-ECDSA-AES128-GCM-SHA256 bits=128/128); Fri, 14 Nov 2025 01:36:05 -0800 (PST) X-Relaying-Domain: iol.unh.edu Date: Fri, 14 Nov 2025 01:36:05 -0800 (PST) Message-ID: <6916f805.050a0220.26405d.0f31SMTPIN_ADDED_MISSING@mx.google.com> Received: from [172.21.0.2] (unknown [172.18.0.240]) by postal.iol.unh.edu (Postfix) with ESMTP id F034960003E7; Fri, 14 Nov 2025 04:36:04 -0500 (EST) Subject: |SUCCESS| pw158783 [PATCH] [v2] ethdev: add GENEVE encapsulation and From: dpdklab@iol.unh.edu To: Test Report Cc: dpdk-test-reports@iol.unh.edu, Stephen Hemminger In-Reply-To: <20251114061917.20948-1-sunyang.wu@jaguarmicro.com> References: <20251114061917.20948-1-sunyang.wu@jaguarmicro.com> Content-Type: text/plain X-BeenThere: test-report@dpdk.org X-Mailman-Version: 2.1.29 Precedence: list List-Id: automatic DPDK test reports List-Unsubscribe: , List-Archive: List-Post: List-Help: List-Subscribe: , Errors-To: test-report-bounces@dpdk.org Test-Label: iol-compile-amd64-testing Test-Status: SUCCESS http://dpdk.org/patch/158783 _Testing PASS_ Submitter: Sunyang Wu Date: Friday, November 14 2025 06:19:17 DPDK git baseline: Repo:dpdk-next-net Branch: master CommitID:fca6f2910345c25a5050a0b586e0d324ca616cbb 158783 --> testing pass Upstream job id: Generic-DPDK-Compile-Meson#444095 Test environment and result as below: +--------------+--------------------+ | Environment | dpdk_meson_compile | +==============+====================+ | Ubuntu 20.04 | PASS | +--------------+--------------------+ | FreeBSD 14.2 | PASS | +--------------+--------------------+ | Ubuntu 22.04 | PASS | +--------------+--------------------+ Ubuntu 20.04 Kernel: 4.19 Compiler: gcc gcc (Ubuntu 9.4.0-1ubuntu1~20.04.2) 9.4.0 FreeBSD 14.2 Kernel: 14.2-RELEASE Compiler: clang 18.1.6 Ubuntu 22.04 Kernel: 5.15 Compiler: gcc gcc (Ubuntu 11.4.0-1ubuntu1~22.04) 11.4.0 To view detailed results, visit: https://lab.dpdk.org/results/dashboard/patchsets/34587/ UNH-IOL DPDK Community Lab To manage your email subscriptions, visit: https://lab.dpdk.org/results/dashboard/preferences/subscriptions/