From mboxrd@z Thu Jan 1 00:00:00 1970 Return-Path: Received: from mails.dpdk.org (mails.dpdk.org [217.70.189.124]) by inbox.dpdk.org (Postfix) with ESMTP id 75A1148B06 for ; Fri, 14 Nov 2025 10:39:45 +0100 (CET) Received: from mails.dpdk.org (localhost [127.0.0.1]) by mails.dpdk.org (Postfix) with ESMTP id 3DD1340151; Fri, 14 Nov 2025 10:39:45 +0100 (CET) Received: from mail-ot1-f100.google.com (mail-ot1-f100.google.com [209.85.210.100]) by mails.dpdk.org (Postfix) with ESMTP id 20A8740151 for ; Fri, 14 Nov 2025 10:39:44 +0100 (CET) Received: by mail-ot1-f100.google.com with SMTP id 46e09a7af769-7c70c718a3dso1385863a34.0 for ; Fri, 14 Nov 2025 01:39:44 -0800 (PST) DKIM-Signature: v=1; a=rsa-sha256; c=relaxed/relaxed; d=iol.unh.edu; s=unh-iol; t=1763113183; x=1763717983; darn=dpdk.org; h=references:in-reply-to:cc:to:from:subject:message-id:date:from:to :cc:subject:date:message-id:reply-to; bh=HKD+QlTFBVBtv0dlo28OgMkrnleXekiNmU6b/Ir3rvo=; b=XP1XjFgBvsam9NgBWPU1n0I3tHN0ttUQR6xa8Z1VXpe+AuJp8tddCzS/jgpGpP+gri TxqAglrQTxA9YoHtrrvV9aZUOn80rapra518DtzOs/wvF5XiU0NRKtOZAV4S0kn+s2+k xykAmV9hgkLHj/8MFpgtx8y6e+xiOkmq/xOuA= X-Google-DKIM-Signature: v=1; a=rsa-sha256; c=relaxed/relaxed; d=1e100.net; s=20230601; t=1763113183; x=1763717983; h=references:in-reply-to:cc:to:from:subject:message-id:date:x-gm-gg :x-gm-message-state:from:to:cc:subject:date:message-id:reply-to; bh=HKD+QlTFBVBtv0dlo28OgMkrnleXekiNmU6b/Ir3rvo=; b=hhxrSbpJlWDj97NtSaX95cGVSFSVSzjPp4JXsLaEy6AVCrF47Rcp5cnLAxz6QEE2lZ jNARMlIV+6bqgmG/UidEGoFFnT6NZlu6XjAG61xwBf2Z9BWG+VdmPUiu5drO9IjHAk3z bNW9eirsoWt7/IK+wDEW/eLst6VlOMuL6AAfc2sTh6bBa/fYTKidcG/g8N91C0p9Fbdn an6RliY7pY0La9MXg/WyXc9TcHSxFPxB9mkbUOSTBvyno9pwILTmnWL8mCmqdRC+9Gnk +Aod88paYnIWO35sN8BonuXA3csH9RAHldOvhJX/nfYQnNa4roFHAFc+BLRBmoVQFc0O LCaw== X-Gm-Message-State: AOJu0YzQA7nF2MGfP3iSGNtt7HNbaEGPHGMF31WJ3xWu9TPP0AEA0fxX WJcEaVLYsKDjrE8K1BcedcZhxmDYHMPi2wWT6XAIXXqpXynQvZ1TQ3U6VRMCYDQVaw/v4VZgt9U AvplKKdAo39BCpcbzsP8rDJr3FWigF9nH6Jtd81tnqK6uy3PbQbtdsb891IT5 X-Gm-Gg: ASbGnct+kJnfHXz5QJTdUnSvYqw4OO0hkFjm4lggzG/NbNr3XrNCk+q1s9TKEo345r7 Umy/u3SZBtD0En0nwz2hnbBu3eSsxOEDwTJBRcmIlZ6bnsHcW1W2vKAIhOQNAB5wq4nZjo3xCaM 2qhRja06Kp2RODp7cdUS3+yTE5xmMjJ9KcDv9maWwo4RNitmG2tDbxFWqAjBRcCROSxMsvlbSoT K+E9RwOGPW8TER1v82X0DcDD8SxoTPvnxR/Vb6GEhlCtXWoEYZ27gSAbDxV8z7sLZuEZdtVmwij XZuiMxv+c4U01j2Pbls72RWJBTdbcG5JWDoW/GqSHPYmksmwe1/sWUy2urCaAQLS3DtagPwRa47 g1SN7+Ydf X-Google-Smtp-Source: AGHT+IGgjQ/2a5LbF/+aiEIA3V1nMRMNd3qQgl3H1Yk9iaWIl7hPflT96x9Uyzchmf4dlHkSd0GoEli/OS+q X-Received: by 2002:a05:6830:920:b0:7c2:779a:5c4f with SMTP id 46e09a7af769-7c7442aed40mr1295141a34.2.1763113183245; Fri, 14 Nov 2025 01:39:43 -0800 (PST) Received: from postal.iol.unh.edu (postal.iol.unh.edu. [2606:4100:3880:1234::84]) by smtp-relay.gmail.com with ESMTPS id 46e09a7af769-7c73a35dcedsm443741a34.7.2025.11.14.01.39.43 (version=TLS1_2 cipher=ECDHE-ECDSA-AES128-GCM-SHA256 bits=128/128); Fri, 14 Nov 2025 01:39:43 -0800 (PST) X-Relaying-Domain: iol.unh.edu Date: Fri, 14 Nov 2025 01:39:43 -0800 (PST) Message-ID: <6916f8df.050a0220.19c9e0.5520SMTPIN_ADDED_MISSING@mx.google.com> Received: from [172.21.0.2] (unknown [172.18.0.240]) by postal.iol.unh.edu (Postfix) with ESMTP id 7E54E6051830; Fri, 14 Nov 2025 04:39:42 -0500 (EST) Subject: |SUCCESS| pw158765-158768 [PATCH] [v5,4/4] vhost_user: Function defs From: dpdklab@iol.unh.edu To: Test Report Cc: dpdk-test-reports@iol.unh.edu, Chenbo Xia , Maxime Coquelin In-Reply-To: <20251113124425.2913881-5-pravin.bathija@dell.com> References: <20251113124425.2913881-5-pravin.bathija@dell.com> Content-Type: text/plain X-BeenThere: test-report@dpdk.org X-Mailman-Version: 2.1.29 Precedence: list List-Id: automatic DPDK test reports List-Unsubscribe: , List-Archive: List-Post: List-Help: List-Subscribe: , Errors-To: test-report-bounces@dpdk.org Test-Label: iol-compile-amd64-testing Test-Status: SUCCESS http://dpdk.org/patch/158768 _Testing PASS_ Submitter: Bathija, Pravin Date: Thursday, November 13 2025 12:44:25 DPDK git baseline: Repo:dpdk-next-virtio Branch: master CommitID:6b37c26a95388aa41bb5267c7c42f604fd571a38 158765-158768 --> testing pass Upstream job id: Generic-DPDK-Compile-Meson#444090 Test environment and result as below: +-------------------------------+--------------------+------------------+-------------------+ | Environment | dpdk_meson_compile | dpdk_compile_ovs | dpdk_msvc_compile | +===============================+====================+==================+===================+ | Ubuntu 20.04 | PASS | SKIPPED | SKIPPED | +-------------------------------+--------------------+------------------+-------------------+ | FreeBSD 14.2 | PASS | SKIPPED | SKIPPED | +-------------------------------+--------------------+------------------+-------------------+ | CentOS Stream 9 | PASS | SKIPPED | SKIPPED | +-------------------------------+--------------------+------------------+-------------------+ | CentOS Stream 10 | PASS | SKIPPED | SKIPPED | +-------------------------------+--------------------+------------------+-------------------+ | Debian GNU/Linux 12 | PASS | SKIPPED | SKIPPED | +-------------------------------+--------------------+------------------+-------------------+ | Fedora Linux 42 | PASS | PASS | SKIPPED | +-------------------------------+--------------------+------------------+-------------------+ | openSUSE Leap 15.6 | PASS | SKIPPED | SKIPPED | +-------------------------------+--------------------+------------------+-------------------+ | Red Hat Enterprise Linux 8.10 | PASS | SKIPPED | SKIPPED | +-------------------------------+--------------------+------------------+-------------------+ | Red Hat Enterprise Linux 9.5 | PASS | SKIPPED | SKIPPED | +-------------------------------+--------------------+------------------+-------------------+ | Ubuntu 22.04 | PASS | SKIPPED | SKIPPED | +-------------------------------+--------------------+------------------+-------------------+ | Ubuntu 24.04 | PASS | PASS | SKIPPED | +-------------------------------+--------------------+------------------+-------------------+ | Alpine Linux 3.22.0 | PASS | SKIPPED | SKIPPED | +-------------------------------+--------------------+------------------+-------------------+ | Windows Server 2022 | SKIPPED | SKIPPED | PASS | +-------------------------------+--------------------+------------------+-------------------+ Ubuntu 20.04 Kernel: 4.19 Compiler: gcc gcc (Ubuntu 9.4.0-1ubuntu1~20.04.2) 9.4.0 FreeBSD 14.2 Kernel: 14.2-RELEASE Compiler: clang 18.1.6 CentOS Stream 9 Kernel: 5.15 Compiler: gcc gcc (GCC) 11.5.0 20240719 (Red Hat 11.5.0-11) CentOS Stream 10 Kernel: 5.15 Compiler: gcc gcc (GCC) 14.2.1 20250110 (Red Hat 14.2.1-8) Debian GNU/Linux 12 Kernel: 5.15 Compiler: gcc gcc (Debian 12.2.0-14+deb12u1) 12.2.0 Fedora Linux 42 Kernel: 5.15 Compiler: clang gcc (GCC) 15.2.1 20250808 (Red Hat 15.2.1-1) openSUSE Leap 15.6 Kernel: 5.15 Compiler: gcc gcc (SUSE Linux) 7.5.0 Red Hat Enterprise Linux 8.10 Kernel: 5.15 Compiler: gcc gcc (GCC) 8.5.0 20210514 (Red Hat 8.5.0-22) Red Hat Enterprise Linux 9.5 Kernel: 5.15 Compiler: gcc gcc (GCC) 11.5.0 20240719 (Red Hat 11.5.0-2) Ubuntu 22.04 Kernel: 5.15 Compiler: gcc gcc (Ubuntu 11.4.0-1ubuntu1~22.04) 11.4.0 Ubuntu 24.04 Kernel: 5.15 Compiler: gcc gcc (Ubuntu 13.3.0-6ubuntu2~24.04) 13.3.0 Alpine Linux 3.22.0 Kernel: 5.15 Compiler: gcc gcc (Alpine 14.2.0) 14.2.0 Windows Server 2022 Kernel: 10.0.20348.2031 Compiler: clang 15.0.7, gcc 14.1.0 (MinGW), and MSVC VS 19.39.33521 To view detailed results, visit: https://lab.dpdk.org/results/dashboard/patchsets/34576/ UNH-IOL DPDK Community Lab To manage your email subscriptions, visit: https://lab.dpdk.org/results/dashboard/preferences/subscriptions/