From mboxrd@z Thu Jan 1 00:00:00 1970 Return-Path: Received: from mails.dpdk.org (mails.dpdk.org [217.70.189.124]) by inbox.dpdk.org (Postfix) with ESMTP id 6C49548B06 for ; Fri, 14 Nov 2025 10:40:58 +0100 (CET) Received: from mails.dpdk.org (localhost [127.0.0.1]) by mails.dpdk.org (Postfix) with ESMTP id 67B9140151; Fri, 14 Nov 2025 10:40:58 +0100 (CET) Received: from mail-vs1-f97.google.com (mail-vs1-f97.google.com [209.85.217.97]) by mails.dpdk.org (Postfix) with ESMTP id CE50140151 for ; Fri, 14 Nov 2025 10:40:56 +0100 (CET) Received: by mail-vs1-f97.google.com with SMTP id ada2fe7eead31-5dfc3c7de2dso684048137.3 for ; Fri, 14 Nov 2025 01:40:56 -0800 (PST) DKIM-Signature: v=1; a=rsa-sha256; c=relaxed/relaxed; d=iol.unh.edu; s=unh-iol; t=1763113256; x=1763718056; darn=dpdk.org; h=cc:to:from:subject:message-id:date:from:to:cc:subject:date :message-id:reply-to; bh=b87ofDYIOIZkZVA9qnkJ8ymhw6mFYigHdeMr9ZmYg0w=; b=N3Ie0+t/35VXu9VYSLC3eex5IytFv7XgB52+4bk0Wjtg9sv/iKhURY668YTDUPzTlo UlkB2+MCLTlnKPVbFEZV4vCNTduqBSf24WLJJ5+w9w0M/U3r2Gw7pwk2D6APgQwymn2X daV3heAhHioM/maaGACx53B+dNnlHru2zbfXs= X-Google-DKIM-Signature: v=1; a=rsa-sha256; c=relaxed/relaxed; d=1e100.net; s=20230601; t=1763113256; x=1763718056; h=cc:to:from:subject:message-id:date:x-gm-gg:x-gm-message-state:from :to:cc:subject:date:message-id:reply-to; bh=b87ofDYIOIZkZVA9qnkJ8ymhw6mFYigHdeMr9ZmYg0w=; b=Ay7HI5ekp62E00I94NyMossU8F3iPWmN2t6hYZ5FydltKMa3XasKJwAbfgp1Sr6Pfc ZsbY+O5xmraUiOo6QXaBHHpJmyF08A4adETcvyF5HZOwbVXSPxjaoxRY98DIK1dMyYG4 wkBPE8XhZp+guIUoP/2fa/R6+2EkyVDv289kbDMZos48GYNsPhJwcDxPNAIhsFq9Su2+ A53Xy3DYTALzSRFYx594bFM9uc5FT3N6eYQ0xn36Xii2OYfxLD6d5PvcFKawRI5Yv5U0 xg9NCNv/91zkU0hfl8Fg7bPnkldxzhsyXUgMPy6VBzLQb+Zta2T+TpWgfjSB9/yo7zkQ QfnA== X-Gm-Message-State: AOJu0Yyx14TqqMkRzez7iV6nsiMVE/XZOCkA8yXJPga9dte2AnhdMRiv Gojm8I1FtaLhCXPOuAkgqxfLrIMATubjazTLZTYh+PTQ2CeDPkT3b/ENnNEchssTWE4c2SncuRB x7zhZsObJgbESC9JEFIkoYCh3hjMZvMSMibul X-Gm-Gg: ASbGnctoTmGowOzwqRB/fFkM3fIPTDC+ymvQ3wsanKx6Bn+ApRA/5mdZOW2VsM2u9ld o5Bh4HK3iBtnwPTuKzF/m/y35zG5xSMTdAgpuiNQK31hf58OMTsDicR8mjJDtWY5CzO+fRwyoXu vGWviWc00Hs+s7HsPakMkVEtOGMjwGqcY5ql+zABwcCSUI+f8GeHL6r8VeSp83AqXs9tIKQPj7/ AFRTwJWpT/MIU9ZvVSq2qTDFPaBDcPZp6+b5J8/FqO/uB/a8HCdw2G3WGJevCkmV3IOvg7puKMC 07eDPhfI0yWvfssWGMYnnludj4hPrhsdqKhP/JuPk96ItDmnI19JPBI4DzIKqJm1XHJmPKXL15s BL1Z5hb18/bKpRRqgX92xh0DnF73wsZ4= X-Google-Smtp-Source: AGHT+IEx7mH01105FoQznLQTdVL/bsKYlBBNhDTHcTm6j/NITvettba85RL+ijcA3JcnfMpUGCPvkTvW9TPd X-Received: by 2002:a05:6102:d92:b0:5db:f8aa:3a5f with SMTP id ada2fe7eead31-5dfc5b9e6bfmr997496137.38.1763113256224; Fri, 14 Nov 2025 01:40:56 -0800 (PST) Received: from postal.iol.unh.edu (postal.iol.unh.edu. [132.177.123.84]) by smtp-relay.gmail.com with ESMTPS id ada2fe7eead31-5dfb71d92aesm470391137.3.2025.11.14.01.40.56 (version=TLS1_2 cipher=ECDHE-ECDSA-AES128-GCM-SHA256 bits=128/128); Fri, 14 Nov 2025 01:40:56 -0800 (PST) X-Relaying-Domain: iol.unh.edu Date: Fri, 14 Nov 2025 01:40:56 -0800 (PST) Message-ID: <6916f928.050a0220.1e94.5e33SMTPIN_ADDED_MISSING@mx.google.com> Received: from [172.21.0.3] (unknown [172.18.0.240]) by postal.iol.unh.edu (Postfix) with ESMTP id E58726051830; Fri, 14 Nov 2025 04:40:55 -0500 (EST) Subject: |SUCCESS| [GIT MASTER] 0bd935abcb823f581ce53986986aa54eaf6f8140 From: dpdklab@iol.unh.edu To: Test Report Cc: dpdk-test-reports@iol.unh.edu, Xueming Li , Christian Ehrhardt , Kevin Traynor , Luca Boccassi Content-Type: text/plain X-BeenThere: test-report@dpdk.org X-Mailman-Version: 2.1.29 Precedence: list List-Id: automatic DPDK test reports List-Unsubscribe: , List-Archive: List-Post: List-Help: List-Subscribe: , Errors-To: test-report-bounces@dpdk.org _Testing PASS_ Branch: tags/v24.11 0bd935abcb823f581ce53986986aa54eaf6f8140 --> testing pass Upstream job id: Windows-Compile-DPDK-Native#32316 Test environment and result as below: +-------------------------------+--------------------+------------------+-------------------+-------------------------+ | Environment | dpdk_meson_compile | dpdk_compile_ovs | dpdk_msvc_compile | dpdk_llvm_clang_compile | +===============================+====================+==================+===================+=========================+ | Ubuntu 20.04 | PASS | SKIPPED | SKIPPED | SKIPPED | +-------------------------------+--------------------+------------------+-------------------+-------------------------+ | FreeBSD 14.2 | PASS | SKIPPED | SKIPPED | SKIPPED | +-------------------------------+--------------------+------------------+-------------------+-------------------------+ | CentOS Stream 9 | PASS | SKIPPED | SKIPPED | SKIPPED | +-------------------------------+--------------------+------------------+-------------------+-------------------------+ | CentOS Stream 10 | PASS | SKIPPED | SKIPPED | SKIPPED | +-------------------------------+--------------------+------------------+-------------------+-------------------------+ | Debian GNU/Linux 12 | PASS | SKIPPED | SKIPPED | SKIPPED | +-------------------------------+--------------------+------------------+-------------------+-------------------------+ | Fedora Linux 42 | PASS | PASS | SKIPPED | SKIPPED | +-------------------------------+--------------------+------------------+-------------------+-------------------------+ | openSUSE Leap 15.6 | PASS | SKIPPED | SKIPPED | SKIPPED | +-------------------------------+--------------------+------------------+-------------------+-------------------------+ | Red Hat Enterprise Linux 8.10 | PASS | SKIPPED | SKIPPED | SKIPPED | +-------------------------------+--------------------+------------------+-------------------+-------------------------+ | Red Hat Enterprise Linux 9.5 | PASS | SKIPPED | SKIPPED | SKIPPED | +-------------------------------+--------------------+------------------+-------------------+-------------------------+ | Ubuntu 22.04 | PASS | SKIPPED | SKIPPED | SKIPPED | +-------------------------------+--------------------+------------------+-------------------+-------------------------+ | Ubuntu 24.04 | PASS | PASS | SKIPPED | SKIPPED | +-------------------------------+--------------------+------------------+-------------------+-------------------------+ | Alpine Linux 3.22.0 | PASS | SKIPPED | SKIPPED | SKIPPED | +-------------------------------+--------------------+------------------+-------------------+-------------------------+ | Windows Server 2022 | SKIPPED | SKIPPED | PASS | PASS | +-------------------------------+--------------------+------------------+-------------------+-------------------------+ Ubuntu 20.04 Kernel: 4.19 Compiler: gcc gcc (Ubuntu 9.4.0-1ubuntu1~20.04.2) 9.4.0 FreeBSD 14.2 Kernel: 14.2-RELEASE Compiler: clang 18.1.6 CentOS Stream 9 Kernel: 5.15 Compiler: gcc gcc (GCC) 11.5.0 20240719 (Red Hat 11.5.0-11) CentOS Stream 10 Kernel: 5.15 Compiler: gcc gcc (GCC) 14.2.1 20250110 (Red Hat 14.2.1-8) Debian GNU/Linux 12 Kernel: 5.15 Compiler: gcc gcc (Debian 12.2.0-14+deb12u1) 12.2.0 Fedora Linux 42 Kernel: 5.15 Compiler: clang gcc (GCC) 15.2.1 20250808 (Red Hat 15.2.1-1) openSUSE Leap 15.6 Kernel: 5.15 Compiler: gcc gcc (SUSE Linux) 7.5.0 Red Hat Enterprise Linux 8.10 Kernel: 5.15 Compiler: gcc gcc (GCC) 8.5.0 20210514 (Red Hat 8.5.0-22) Red Hat Enterprise Linux 9.5 Kernel: 5.15 Compiler: gcc gcc (GCC) 11.5.0 20240719 (Red Hat 11.5.0-2) Ubuntu 22.04 Kernel: 5.15 Compiler: gcc gcc (Ubuntu 11.4.0-1ubuntu1~22.04) 11.4.0 Ubuntu 24.04 Kernel: 5.15 Compiler: gcc gcc (Ubuntu 13.3.0-6ubuntu2~24.04) 13.3.0 Alpine Linux 3.22.0 Kernel: 5.15 Compiler: gcc gcc (Alpine 14.2.0) 14.2.0 Windows Server 2022 Kernel: 10.0.20348.2031 Compiler: clang 15.0.7, gcc 14.1.0 (MinGW), and MSVC VS 19.39.33521 To view detailed results, visit: https://lab.dpdk.org/results/dashboard/tarballs/35551/ UNH-IOL DPDK Community Lab To manage your email subscriptions, visit: https://lab.dpdk.org/results/dashboard/preferences/subscriptions/