From mboxrd@z Thu Jan 1 00:00:00 1970 Return-Path: Received: from mails.dpdk.org (mails.dpdk.org [217.70.189.124]) by inbox.dpdk.org (Postfix) with ESMTP id 5F2CE48B06 for ; Fri, 14 Nov 2025 10:51:09 +0100 (CET) Received: from mails.dpdk.org (localhost [127.0.0.1]) by mails.dpdk.org (Postfix) with ESMTP id 3977440151; Fri, 14 Nov 2025 10:51:09 +0100 (CET) Received: from mail-io1-f97.google.com (mail-io1-f97.google.com [209.85.166.97]) by mails.dpdk.org (Postfix) with ESMTP id CB45640151 for ; Fri, 14 Nov 2025 10:51:07 +0100 (CET) Received: by mail-io1-f97.google.com with SMTP id ca18e2360f4ac-9486251090eso72517739f.2 for ; Fri, 14 Nov 2025 01:51:07 -0800 (PST) DKIM-Signature: v=1; a=rsa-sha256; c=relaxed/relaxed; d=iol.unh.edu; s=unh-iol; t=1763113867; x=1763718667; darn=dpdk.org; h=references:in-reply-to:cc:to:from:subject:message-id:date:from:to :cc:subject:date:message-id:reply-to; bh=uIkoj8RCJuvtXO8ODQYW4rngZpXnV8Ktj1uuyKZJPlw=; b=GY7OG8IgeF36eKAnK15ekIaeRcKWhCNHte98rAS36zAd+bI8FXYPIRFBhrj/aTOE6C OYz4jFjTKqNP5MabSNAT+cH4a99JIavaLdqbPNFPhUOp5YkzJnM3aj7b4BcRfr5jr4yX t/E/Gc8XvVQLn8tER3rH7OK4S0u/iseaXuovM= X-Google-DKIM-Signature: v=1; a=rsa-sha256; c=relaxed/relaxed; d=1e100.net; s=20230601; t=1763113867; x=1763718667; h=references:in-reply-to:cc:to:from:subject:message-id:date:x-gm-gg :x-gm-message-state:from:to:cc:subject:date:message-id:reply-to; bh=uIkoj8RCJuvtXO8ODQYW4rngZpXnV8Ktj1uuyKZJPlw=; b=lPZwlqRAZtvSiddpjvRGuiTkdyEgRhdA+5tXwYQ+teJySnWtZWeEsnNAAd3LnIXn2t Qsd59uZ7VOvpq/KTQIdNfYmeQVE2NbnkT3i/D/cNHHLv5/2QvZKo9JemcL18ev/0TMLc nn8UDvyxTUaNa/YyRCzCiNlJAIrUMHter1GkYH49HnfaWHkly/N1nxJvYcstbP9DkI3O xMloHc+qg6FtMWBFmqDtt7wqh9mzCc6ERbVkkXM6hU6Ty49ZdVcczRXrT1okjVg719ML 2zNTHeX7oZzisT83R2cQhB374z5oyXPMVX9E2pfGVG/G2LkdXA49EMCg/jZbLK8MnyWu OV3g== X-Gm-Message-State: AOJu0YwYCXOFaZod1a/nqBPF3ZmzJEmfHsM1xYXmx7dnuphc/KrPlxeh EP1PlefFuNxuUiP/lphAg+na71s56Wfr1eVzz4D/01vrjXt9SibYzj+c0AZsp98+XICHip2hHzC 0qogjaMCBShB01v3cvTijALw8OYY12TlMhOn25HD216+l X-Gm-Gg: ASbGncuqNVMn9oa2fU4h1J5dR80oWQYKAn5UyoNknSWPpdz5dD8Vcb04aJ1mk+FggS5 8QfZFxYy977kUiQca9INkhtFQ72Ae+ipDtbz7ejbEM/TzyO21GOZOivvxre3sy0UeUnmIoqIwbA eA65mz+CEUnBVcbEU12YstZcEBFdNkZxvkYfTGkOGQUxq5L//xQDNULftStiaFMyprbeN4QFTnS Ab+TZ9Lji1bZ0SseoT28d3ostbaTG3RO9P8XfqGloYSUNkAhDqj42W64FLAI4Div6ZJd9GJAtsQ YKD+JMZWM2pFazYQK76gzlOfgf2ZScd/OF+ubhJfJ3v1l5UHeswUtEkpBOxmC31mx24hJP0az4K p0ti11i86RXnxTdsNrNXUuf2gyiHZJaE= X-Google-Smtp-Source: AGHT+IG+y1cRrMXGmQu3PeeG77gfiJi8Pqjrc286I7fJ+ggrybvFxGMUZR8R+6hJr0Wx33N2VcQ13645gy57 X-Received: by 2002:a05:6e02:12ea:b0:433:29a9:32e2 with SMTP id e9e14a558f8ab-4348c941bdfmr44210915ab.32.1763113867122; Fri, 14 Nov 2025 01:51:07 -0800 (PST) Received: from postal.iol.unh.edu (postal.iol.unh.edu. [132.177.123.84]) by smtp-relay.gmail.com with ESMTPS id e9e14a558f8ab-434839e2d05sm4063375ab.29.2025.11.14.01.51.07 (version=TLS1_2 cipher=ECDHE-ECDSA-AES128-GCM-SHA256 bits=128/128); Fri, 14 Nov 2025 01:51:07 -0800 (PST) X-Relaying-Domain: iol.unh.edu Date: Fri, 14 Nov 2025 01:51:07 -0800 (PST) Message-ID: <6916fb8b.920a0220.34f53e.2e94SMTPIN_ADDED_MISSING@mx.google.com> Received: from [172.21.0.3] (unknown [172.18.0.240]) by postal.iol.unh.edu (Postfix) with ESMTP id 8B0DD6051830; Fri, 14 Nov 2025 04:51:06 -0500 (EST) Subject: |SUCCESS| pw158747-158750 [PATCH] [v3,4/4] bus/fslmc: add support fo From: dpdklab@iol.unh.edu To: Test Report Cc: dpdk-test-reports@iol.unh.edu, Stephen Hemminger In-Reply-To: <20251113095917.1973514-4-hemant.agrawal@nxp.com> References: <20251113095917.1973514-4-hemant.agrawal@nxp.com> Content-Type: text/plain X-BeenThere: test-report@dpdk.org X-Mailman-Version: 2.1.29 Precedence: list List-Id: automatic DPDK test reports List-Unsubscribe: , List-Archive: List-Post: List-Help: List-Subscribe: , Errors-To: test-report-bounces@dpdk.org Test-Label: iol-unit-amd64-testing Test-Status: SUCCESS http://dpdk.org/patch/158750 _Testing PASS_ Submitter: Hemant Agrawal Date: Thursday, November 13 2025 09:59:17 DPDK git baseline: Repo:dpdk-next-net Branch: master CommitID:29807269854f9bfc72f1323273de8e23adc724d4 158747-158750 --> testing pass Upstream job id: Generic-VM-Unit-Test-DPDK#32528 Test environment and result as below: +-------------------------------+----------------+ | Environment | dpdk_unit_test | +===============================+================+ | Fedora Linux 40 | PASS | +-------------------------------+----------------+ | CentOS Stream 9 | PASS | +-------------------------------+----------------+ | Debian GNU/Linux 12 | PASS | +-------------------------------+----------------+ | CentOS Stream 10 | PASS | +-------------------------------+----------------+ | Fedora Linux 41 | PASS | +-------------------------------+----------------+ | Ubuntu 20.04 | PASS | +-------------------------------+----------------+ | Fedora Linux 42 | PASS | +-------------------------------+----------------+ | Red Hat Enterprise Linux 8.10 | PASS | +-------------------------------+----------------+ | Red Hat Enterprise Linux 9.5 | PASS | +-------------------------------+----------------+ | Ubuntu 24.04 | PASS | +-------------------------------+----------------+ | Ubuntu 22.04 | PASS | +-------------------------------+----------------+ | Windows Server 2022 | PASS | +-------------------------------+----------------+ Fedora Linux 40 Kernel: 5.15 Compiler: gcc gcc (GCC) 14.2.1 20240912 (Red Hat 14.2.1-3) CentOS Stream 9 Kernel: 5.15 Compiler: gcc gcc (GCC) 11.5.0 20240719 (Red Hat 11.5.0-11) Debian GNU/Linux 12 Kernel: 5.15 Compiler: gcc gcc (Debian 12.2.0-14+deb12u1) 12.2.0 CentOS Stream 10 Kernel: 5.15 Compiler: gcc gcc (GCC) 14.2.1 20250110 (Red Hat 14.2.1-8) Fedora Linux 41 Kernel: 5.15 Compiler: gcc gcc (GCC) 14.3.1 20250523 (Red Hat 14.3.1-1) Ubuntu 20.04 Kernel: 5.15 Compiler: gcc gcc (Ubuntu 9.4.0-1ubuntu1~20.04.2) 9.4.0 Fedora Linux 42 Kernel: 5.15 Compiler: gcc gcc (GCC) 15.2.1 20250808 (Red Hat 15.2.1-1) Red Hat Enterprise Linux 8.10 Kernel: 5.15 Compiler: gcc gcc (GCC) 8.5.0 20210514 (Red Hat 8.5.0-22) Red Hat Enterprise Linux 9.5 Kernel: 5.15 Compiler: gcc gcc (GCC) 11.5.0 20240719 (Red Hat 11.5.0-2) Ubuntu 24.04 Kernel: 5.15 Compiler: gcc gcc (Ubuntu 13.3.0-6ubuntu2~24.04) 13.3.0 Ubuntu 22.04 Kernel: 5.15 Compiler: gcc gcc (Ubuntu 11.4.0-1ubuntu1~22.04) 11.4.0 Windows Server 2022 Kernel: 10.0.20348.2031 Compiler: clang 15.0.7, gcc 14.1.0 (MinGW), and MSVC VS 19.39.33521 To view detailed results, visit: https://lab.dpdk.org/results/dashboard/patchsets/34568/ UNH-IOL DPDK Community Lab To manage your email subscriptions, visit: https://lab.dpdk.org/results/dashboard/preferences/subscriptions/