From mboxrd@z Thu Jan 1 00:00:00 1970 Return-Path: Received: from mails.dpdk.org (mails.dpdk.org [217.70.189.124]) by inbox.dpdk.org (Postfix) with ESMTP id A1A4448B06 for ; Fri, 14 Nov 2025 10:54:07 +0100 (CET) Received: from mails.dpdk.org (localhost [127.0.0.1]) by mails.dpdk.org (Postfix) with ESMTP id 9ACD740151; Fri, 14 Nov 2025 10:54:07 +0100 (CET) Received: from mail-yw1-f226.google.com (mail-yw1-f226.google.com [209.85.128.226]) by mails.dpdk.org (Postfix) with ESMTP id D0B7340151 for ; Fri, 14 Nov 2025 10:54:06 +0100 (CET) Received: by mail-yw1-f226.google.com with SMTP id 00721157ae682-7869deffb47so17539917b3.1 for ; Fri, 14 Nov 2025 01:54:06 -0800 (PST) DKIM-Signature: v=1; a=rsa-sha256; c=relaxed/relaxed; d=iol.unh.edu; s=unh-iol; t=1763114046; x=1763718846; darn=dpdk.org; h=references:in-reply-to:cc:to:from:subject:message-id:date:from:to :cc:subject:date:message-id:reply-to; bh=Tf1Udli3NKbc62r58iBVy6jWSK2coDrmagzxYq1kgAQ=; b=NwW0WZ4D/Wyp8eeZBBvFJfQszFsqZs3s0KsNEoDbOWvpKz0RjHseUcfockVb7H9mw2 Kbg8h+aVP9XkpveDM3/9E9QdXZwGvozOZvGz//rgYMg7Eq6n9IhxWr7mCzdpjelGRzrr z+3pg5/wFF3ifUrmWcSxs4a6CQAVLpCV7VODQ= X-Google-DKIM-Signature: v=1; a=rsa-sha256; c=relaxed/relaxed; d=1e100.net; s=20230601; t=1763114046; x=1763718846; h=references:in-reply-to:cc:to:from:subject:message-id:date:x-gm-gg :x-gm-message-state:from:to:cc:subject:date:message-id:reply-to; bh=Tf1Udli3NKbc62r58iBVy6jWSK2coDrmagzxYq1kgAQ=; b=qRfq2bHSjZ/jlCHM2rK1zcJE3Uoi+5pDU9CPxkrSCZyUQaZv9mNGsmPTEI6NjIGvXG gDZ5xRusNOp+Mgzs3Agb/3QqW/fIcpEF04Ki7Uo2wo3QBX1uemmi85UrrY4raxjfFrf1 eHqjmlA6aUpAi63OBCCfaZBgV02GahsWzeZtd9aKhm1srMR1skuy9tRt+Bw6uIjOTEkF 6EblXSLk/kzzmA6Hy+uHqlylVvnJLM4XNqV89zHC/1PqIYvS9EChL8ypNZhGIPBxK3gV hVenuHrJxKVgUcldYLPr8Kwh5EPIUW1qrnpW8L+0ZdjDBbFVAobxGFYeDtBcALDrngNv PBVQ== X-Gm-Message-State: AOJu0Yw7QLG4cU42oFBfzkzSNkux06ZpzpeKgK2TLOxMLg3CN8/IxH8y 4NYDgBng/YoS8khxKg5MtT/cVWqMHCLN0nGQEV3ADl+sBz1jPQgq4qh9O3u0xO74LgDNn40+8Td 5rrISmX05VvjE8WId/R7LVJrCqAXXfC5K+StWVCITaCFhKt1CPmyZuVLQrYC3 X-Gm-Gg: ASbGncuHoibiVRVhFUg2+53HNeGSZ0N11fYXkAn6XuGYdvV/zijUEpkqzknOXW/m6c9 u/HBLUh+y3V2CPoQ4LAoWIOFuhToo1HEZeTQD9hnucaC2iJ8pBme6JdAkgf2uxvTsEZ1+y/OwLZ eWnqjFpkj0IXUpVjFdp71KSMUYRCvwSGiBaBP12OTYm2UwRTnWX+Uyd55wBiAJ9FAeJPcBz2+pu zcHhkFt0qbtFpMLdMMlfYeXvNYfpY0pmV75gJYZTBdn2/3LLOnGHvmvD1jY67+vP/wLGjB03ZOz LT/2X4xKXL+frMn9KKnUPyvg/rWZmnyIVaKCBvqew0VKU+Zu+M+Edelhq2f2useb1mdQYSHQgls 2hNregh6K X-Google-Smtp-Source: AGHT+IFc2JrvxjaufSeJDMXmTl38vxlPdF4fLcNKhWi1fj6KbTxA23yuF+n8dhFiarFzBA0BdsRPlx1UgblT X-Received: by 2002:a05:690c:9b08:b0:786:a967:5a8a with SMTP id 00721157ae682-78929f13d54mr21651077b3.51.1763114046152; Fri, 14 Nov 2025 01:54:06 -0800 (PST) Received: from postal.iol.unh.edu (postal.iol.unh.edu. [2606:4100:3880:1234::84]) by smtp-relay.gmail.com with ESMTPS id 00721157ae682-78821f6d17asm2405897b3.19.2025.11.14.01.54.06 (version=TLS1_2 cipher=ECDHE-ECDSA-AES128-GCM-SHA256 bits=128/128); Fri, 14 Nov 2025 01:54:06 -0800 (PST) X-Relaying-Domain: iol.unh.edu Date: Fri, 14 Nov 2025 01:54:06 -0800 (PST) Message-ID: <6916fc3e.050a0220.294234.c010SMTPIN_ADDED_MISSING@mx.google.com> Received: from [172.21.0.2] (unknown [172.18.0.240]) by postal.iol.unh.edu (Postfix) with ESMTP id C8BBF6051830; Fri, 14 Nov 2025 04:54:05 -0500 (EST) Subject: |SUCCESS| pw158769 [PATCH] [v2] net/mlx5: remove representor matchin From: dpdklab@iol.unh.edu To: Test Report Cc: dpdk-test-reports@iol.unh.edu In-Reply-To: <20251113131758.1524043-1-dsosnowski@nvidia.com> References: <20251113131758.1524043-1-dsosnowski@nvidia.com> Content-Type: text/plain X-BeenThere: test-report@dpdk.org X-Mailman-Version: 2.1.29 Precedence: list List-Id: automatic DPDK test reports List-Unsubscribe: , List-Archive: List-Post: List-Help: List-Subscribe: , Errors-To: test-report-bounces@dpdk.org Test-Label: iol-compile-amd64-testing Test-Status: SUCCESS http://dpdk.org/patch/158769 _Testing PASS_ Submitter: Dariusz Sosnowski Date: Thursday, November 13 2025 13:17:58 DPDK git baseline: Repo:dpdk-next-net-mlx Branch: master CommitID:ae657d56b1f0ea979b3f611edf28d773efc2ddcf 158769 --> testing pass Upstream job id: Generic-DPDK-Compile-Meson#444125 Test environment and result as below: +-------------------------------+--------------------+------------------+ | Environment | dpdk_meson_compile | dpdk_compile_ovs | +===============================+====================+==================+ | FreeBSD 14.2 | PASS | SKIPPED | +-------------------------------+--------------------+------------------+ | Ubuntu 20.04 | PASS | SKIPPED | +-------------------------------+--------------------+------------------+ | CentOS Stream 9 | PASS | SKIPPED | +-------------------------------+--------------------+------------------+ | CentOS Stream 10 | PASS | SKIPPED | +-------------------------------+--------------------+------------------+ | Debian GNU/Linux 12 | PASS | SKIPPED | +-------------------------------+--------------------+------------------+ | Fedora Linux 42 | PASS | PASS | +-------------------------------+--------------------+------------------+ | openSUSE Leap 15.6 | PASS | SKIPPED | +-------------------------------+--------------------+------------------+ | Red Hat Enterprise Linux 8.10 | PASS | SKIPPED | +-------------------------------+--------------------+------------------+ | Red Hat Enterprise Linux 9.5 | PASS | SKIPPED | +-------------------------------+--------------------+------------------+ | Ubuntu 22.04 | PASS | SKIPPED | +-------------------------------+--------------------+------------------+ | Ubuntu 24.04 | PASS | PASS | +-------------------------------+--------------------+------------------+ | Alpine Linux 3.22.0 | PASS | SKIPPED | +-------------------------------+--------------------+------------------+ FreeBSD 14.2 Kernel: 14.2-RELEASE Compiler: clang 18.1.6 Ubuntu 20.04 Kernel: 4.19 Compiler: gcc gcc (Ubuntu 9.4.0-1ubuntu1~20.04.2) 9.4.0 CentOS Stream 9 Kernel: 5.15 Compiler: gcc gcc (GCC) 11.5.0 20240719 (Red Hat 11.5.0-11) CentOS Stream 10 Kernel: 5.15 Compiler: gcc gcc (GCC) 14.2.1 20250110 (Red Hat 14.2.1-8) Debian GNU/Linux 12 Kernel: 5.15 Compiler: gcc gcc (Debian 12.2.0-14+deb12u1) 12.2.0 Fedora Linux 42 Kernel: 5.15 Compiler: clang gcc (GCC) 15.2.1 20250808 (Red Hat 15.2.1-1) openSUSE Leap 15.6 Kernel: 5.15 Compiler: gcc gcc (SUSE Linux) 7.5.0 Red Hat Enterprise Linux 8.10 Kernel: 5.15 Compiler: gcc gcc (GCC) 8.5.0 20210514 (Red Hat 8.5.0-22) Red Hat Enterprise Linux 9.5 Kernel: 5.15 Compiler: gcc gcc (GCC) 11.5.0 20240719 (Red Hat 11.5.0-2) Ubuntu 22.04 Kernel: 5.15 Compiler: gcc gcc (Ubuntu 11.4.0-1ubuntu1~22.04) 11.4.0 Ubuntu 24.04 Kernel: 5.15 Compiler: gcc gcc (Ubuntu 13.3.0-6ubuntu2~24.04) 13.3.0 Alpine Linux 3.22.0 Kernel: 5.15 Compiler: gcc gcc (Alpine 14.2.0) 14.2.0 To view detailed results, visit: https://lab.dpdk.org/results/dashboard/patchsets/34577/ UNH-IOL DPDK Community Lab To manage your email subscriptions, visit: https://lab.dpdk.org/results/dashboard/preferences/subscriptions/