From mboxrd@z Thu Jan 1 00:00:00 1970 Return-Path: Received: from mails.dpdk.org (mails.dpdk.org [217.70.189.124]) by inbox.dpdk.org (Postfix) with ESMTP id 0ECA748B06 for ; Fri, 14 Nov 2025 10:57:14 +0100 (CET) Received: from mails.dpdk.org (localhost [127.0.0.1]) by mails.dpdk.org (Postfix) with ESMTP id E2E3740151; Fri, 14 Nov 2025 10:57:13 +0100 (CET) Received: from mail-qv1-f99.google.com (mail-qv1-f99.google.com [209.85.219.99]) by mails.dpdk.org (Postfix) with ESMTP id 06C1F40151 for ; Fri, 14 Nov 2025 10:57:13 +0100 (CET) Received: by mail-qv1-f99.google.com with SMTP id 6a1803df08f44-880499b2bc7so16665516d6.3 for ; Fri, 14 Nov 2025 01:57:12 -0800 (PST) DKIM-Signature: v=1; a=rsa-sha256; c=relaxed/relaxed; d=iol.unh.edu; s=unh-iol; t=1763114232; x=1763719032; darn=dpdk.org; h=references:in-reply-to:cc:to:from:subject:message-id:date:from:to :cc:subject:date:message-id:reply-to; bh=82ytpR8hWX+eG/SDf2F/EVgMXsfy6GK1b8shdX3M+KM=; b=Lr9glIYQ7en5jUblPeDPyQbhNeaGKnOPhEFu4OR1NeN90js0TXtl5t98t5HxZPRn4g I2fbvc7QhCCesSsh8M8rdw0tX+6rrXENGlhjinILrc4BS9n/P4ZBLI50sAldIa+shNrs SmYHcBjF2wUvp3tAUZVzzvnxUiQQMHnwdwWzo= X-Google-DKIM-Signature: v=1; a=rsa-sha256; c=relaxed/relaxed; d=1e100.net; s=20230601; t=1763114232; x=1763719032; h=references:in-reply-to:cc:to:from:subject:message-id:date:x-gm-gg :x-gm-message-state:from:to:cc:subject:date:message-id:reply-to; bh=82ytpR8hWX+eG/SDf2F/EVgMXsfy6GK1b8shdX3M+KM=; b=dG8UU5vUe2L9opgvowzH1r00movGkioYaidErqBkA4Ub+BpQq5Ors+P7sPVErKJkcI pj/vdPrp6BzX54JK3rqxgs3KlSwSHypxHL3vHBoIGxqYUlIlw4Yw1weNIZ90RtmUk389 YajcDTjU9supVuPo1RS3+Du+idrbrc8st1HOdtPYGqwZOxwjmoDd436y54QLMXep5Fap 7kGykbj1hlttjGPIHCEa3CPUaodGvrH5cC4PYyrBWzzGdYxahhQuFq6U24ihVE5JMmBs j0Bas4S4aeiXEiOUpuhoiVSbiz3qmSNAg84eAFTiqkKHYn2s18esyYzYyBTD3GVep5hN 1i0Q== X-Gm-Message-State: AOJu0Yx3lR01ba8E0PcUWVAA85oJjyDTspDK7dKiXc3EFD5720J9TJQS Zvyek12FU12jmYrJMzKi+j4cduNzo5+UbIPtHdhb4S+Krayh/bmI4qFpPOeBSFiY7DwfzWH8mYa 4CAhbof5IZsUP51M9kuwdqYvMm660LAhw34EbshMra5YRLZTSWmUa2meG949d X-Gm-Gg: ASbGncvv+kDMhT6Kl1aRnjODDo/pg2FJl7XyS/1+sWOnS0otqozPfnVMOy+vfP/CECC PymfrweixW2RDDIFrFo2XZX0iOGRbi4kth7nPz/7Yl8/59mKh6PSlf2BJ6luUTJe8HBhqcWqJkg Q+7pplbpVrO8NdfTq3W7HbBKqDoxeTZjE2bRSpR2/uaQiArULl7AujCaPaW7Is7GWTFVe9xUdSM Frjlz1PHHk1PNjzh6LJt/DvSdBrlo2HU6WjLFy9GO/DCYUvFy67Qc5n2JmXq5OXL39l2lEwlUtb VH+f5VuXZ1XS3z/svm92dIjTPGWpyuxHzj0GGjoszNK/mVS6xWUQiYJn4N6tC8lm3Z8HmTsElt4 PKPY7AD4M X-Google-Smtp-Source: AGHT+IEjHL1lnm2phrKQh0W14vVaSY47BPwQn3kl80b0thCN8y+LIN1aVgDKiZQEtvcsPcOt3jL4z0soRaJl X-Received: by 2002:ad4:5ca4:0:b0:7c2:d5b7:dd54 with SMTP id 6a1803df08f44-882925b15e0mr32027606d6.18.1763114232388; Fri, 14 Nov 2025 01:57:12 -0800 (PST) Received: from postal.iol.unh.edu (postal.iol.unh.edu. [2606:4100:3880:1234::84]) by smtp-relay.gmail.com with ESMTPS id 6a1803df08f44-882862b348asm5151966d6.2.2025.11.14.01.57.12 (version=TLS1_2 cipher=ECDHE-ECDSA-AES128-GCM-SHA256 bits=128/128); Fri, 14 Nov 2025 01:57:12 -0800 (PST) X-Relaying-Domain: iol.unh.edu Date: Fri, 14 Nov 2025 01:57:12 -0800 (PST) Message-ID: <6916fcf8.050a0220.bc0de.7cc5SMTPIN_ADDED_MISSING@mx.google.com> Received: from [172.21.0.3] (unknown [172.18.0.240]) by postal.iol.unh.edu (Postfix) with ESMTP id 19A8D6051830; Fri, 14 Nov 2025 04:57:12 -0500 (EST) Subject: |SUCCESS| pw158770 [PATCH] net/idpf: fix missing offload from conver From: dpdklab@iol.unh.edu To: Test Report Cc: dpdk-test-reports@iol.unh.edu, Bruce Richardson In-Reply-To: <20251113145021.3793930-1-ciara.loftus@intel.com> References: <20251113145021.3793930-1-ciara.loftus@intel.com> Content-Type: text/plain X-BeenThere: test-report@dpdk.org X-Mailman-Version: 2.1.29 Precedence: list List-Id: automatic DPDK test reports List-Unsubscribe: , List-Archive: List-Post: List-Help: List-Subscribe: , Errors-To: test-report-bounces@dpdk.org Test-Label: iol-compile-amd64-testing Test-Status: SUCCESS http://dpdk.org/patch/158770 _Testing PASS_ Submitter: Ciara Loftus Date: Thursday, November 13 2025 14:50:21 DPDK git baseline: Repo:dpdk-next-net-intel Branch: master CommitID:e5357d609907d504f4705e4899f3dad43cb4b70f 158770 --> testing pass Upstream job id: Generic-DPDK-Compile-Meson#444156 Test environment and result as below: +------------------+--------------------+ | Environment | dpdk_meson_compile | +==================+====================+ | FreeBSD 14.2 | PASS | +------------------+--------------------+ | Ubuntu 20.04 | PASS | +------------------+--------------------+ | CentOS Stream 9 | PASS | +------------------+--------------------+ | CentOS Stream 10 | PASS | +------------------+--------------------+ FreeBSD 14.2 Kernel: 14.2-RELEASE Compiler: clang 18.1.6 Ubuntu 20.04 Kernel: 4.19 Compiler: gcc gcc (Ubuntu 9.4.0-1ubuntu1~20.04.2) 9.4.0 CentOS Stream 9 Kernel: 5.15 Compiler: gcc gcc (GCC) 11.5.0 20240719 (Red Hat 11.5.0-11) CentOS Stream 10 Kernel: 5.15 Compiler: gcc gcc (GCC) 14.2.1 20250110 (Red Hat 14.2.1-8) To view detailed results, visit: https://lab.dpdk.org/results/dashboard/patchsets/34578/ UNH-IOL DPDK Community Lab To manage your email subscriptions, visit: https://lab.dpdk.org/results/dashboard/preferences/subscriptions/