From mboxrd@z Thu Jan 1 00:00:00 1970 Return-Path: Received: from mails.dpdk.org (mails.dpdk.org [217.70.189.124]) by inbox.dpdk.org (Postfix) with ESMTP id 8025748B06 for ; Fri, 14 Nov 2025 11:01:23 +0100 (CET) Received: from mails.dpdk.org (localhost [127.0.0.1]) by mails.dpdk.org (Postfix) with ESMTP id 4B7D040151; Fri, 14 Nov 2025 11:01:23 +0100 (CET) Received: from mail-oa1-f97.google.com (mail-oa1-f97.google.com [209.85.160.97]) by mails.dpdk.org (Postfix) with ESMTP id 2FEC440151 for ; Fri, 14 Nov 2025 11:01:22 +0100 (CET) Received: by mail-oa1-f97.google.com with SMTP id 586e51a60fabf-3d1bc63d5f0so861913fac.0 for ; Fri, 14 Nov 2025 02:01:22 -0800 (PST) DKIM-Signature: v=1; a=rsa-sha256; c=relaxed/relaxed; d=iol.unh.edu; s=unh-iol; t=1763114481; x=1763719281; darn=dpdk.org; h=references:in-reply-to:cc:to:from:subject:message-id:date:from:to :cc:subject:date:message-id:reply-to; bh=fMMtmHBDmbwV8cCZKX0gi//MDXfmG+SeYP1sL/2VeTs=; b=MNZamsAqm9CdyiUHp8YCEUb9A69y8hHGYIw43qosA88SRqsTDSV/xotNwB0RFg+Kg/ e9fC4sC719/apu9njylN0ZbP5Iv6ehR8ko/okqeK8OfU0f7OWfhsftHYuHNBdwDLT8jk z130+rC0dw+/h1ddH1s/Xlz1T/ti5TuF1yXVA= X-Google-DKIM-Signature: v=1; a=rsa-sha256; c=relaxed/relaxed; d=1e100.net; s=20230601; t=1763114481; x=1763719281; h=references:in-reply-to:cc:to:from:subject:message-id:date:x-gm-gg :x-gm-message-state:from:to:cc:subject:date:message-id:reply-to; bh=fMMtmHBDmbwV8cCZKX0gi//MDXfmG+SeYP1sL/2VeTs=; b=vHfrPDHBdTsKxVxjC+EvdgtSCqtBfrxJfBxDSX7Kpmx8SvUDo24UGNuky6oU6CTlM7 Z+DTtEOdf+5qt00nqSbjWDdUsRvHnuXfv11BE4mZhoaZl9zZMnUO9HHNeC2SL+FTt40Q qWcjFbXg0+kU4+ye25CnZH/ahGsjNOppmqc1inwHxoMI5hUTMcwn6miAfeQ7b3f2VZZK zU5dvHGUPCSZJcA/Zzg+F4i1TfFbNEndJdKn+bZU+kb1RHYhDTxqS+OSHjDecPaEweUF 7Edlrxc+1wlAx1gccpmIkrjeAJ2/L/o71QM9vIQMw69mZAqRLCwGRX3Y2er/cCwrO/1W gxEA== X-Gm-Message-State: AOJu0YwHqXzBUW9amPQmf73AW7yN+zO1sVNOzJgl6V8qTCc1Xsu1JnTp TMvvHw80s7tjW4Zuxv9+QYuL6NOrg1skiPtId3J8NznDRoqEcpBFTgfeYwbd8+MSF7IzbfcQn7x S++1YntvCq25/DJU+Sa/70WfjD6fd60zMdvNGWw2UID2w X-Gm-Gg: ASbGncsrc3LREZk8o1NOMGdbY6Zv2VOtljYdMa1F1o6IUv2jqi+4HTfR8138DBJB37Y c1PEPT4IkFmvWZ20dBIvdjc96oN5vyzlC/7N86HzUmIePvAuS1DPkNHYKG0/dQ0dNNueha/cGe+ 6BMQOCt0MN9IgaGyc0iX5EeFB5EwMfU6RNuJlwgxNGNNTD6L7IahC3wATmTAe14nppESdKHFUxa tDTj/m4VPEMttOGtgQkodzEqtAPOmFlpBVL4IEAKKaoeZAvOHeeiRKp9KZtWrEStQCi8gkB72VU wHCKMOIjkcJv9ITf3BzRvUzei+D1WHMhstFk96Lg0eWCwh1fz1bVdV3skx0BFA/Byxn3oM3xsmW OqD47RbYsEQtRbBgjdEcf9ArZaLaZJVY= X-Google-Smtp-Source: AGHT+IFeV18nGdJS3u87qjgBSvOAWryApjRBoNtS8qk+LTZIiBNDrgRdAlUp+JhGW/DstNRKdVvIpnztN/V3 X-Received: by 2002:a05:6871:784:b0:396:3593:d19c with SMTP id 586e51a60fabf-3e8691844d2mr1469867fac.51.1763114481499; Fri, 14 Nov 2025 02:01:21 -0800 (PST) Received: from postal.iol.unh.edu (postal.iol.unh.edu. [132.177.123.84]) by smtp-relay.gmail.com with ESMTPS id 586e51a60fabf-3e85201323fsm424828fac.6.2025.11.14.02.01.21 (version=TLS1_2 cipher=ECDHE-ECDSA-AES128-GCM-SHA256 bits=128/128); Fri, 14 Nov 2025 02:01:21 -0800 (PST) X-Relaying-Domain: iol.unh.edu Date: Fri, 14 Nov 2025 02:01:21 -0800 (PST) Message-ID: <6916fdf1.050a0220.271ded.3fccSMTPIN_ADDED_MISSING@mx.google.com> Received: from [172.21.0.3] (unknown [172.18.0.240]) by postal.iol.unh.edu (Postfix) with ESMTP id 0E32E6051830; Fri, 14 Nov 2025 05:01:21 -0500 (EST) Subject: |SUCCESS| pw158770 [PATCH] net/idpf: fix missing offload from conver From: dpdklab@iol.unh.edu To: Test Report Cc: dpdk-test-reports@iol.unh.edu, Bruce Richardson In-Reply-To: <20251113145021.3793930-1-ciara.loftus@intel.com> References: <20251113145021.3793930-1-ciara.loftus@intel.com> Content-Type: text/plain X-BeenThere: test-report@dpdk.org X-Mailman-Version: 2.1.29 Precedence: list List-Id: automatic DPDK test reports List-Unsubscribe: , List-Archive: List-Post: List-Help: List-Subscribe: , Errors-To: test-report-bounces@dpdk.org Test-Label: iol-compile-amd64-testing Test-Status: SUCCESS http://dpdk.org/patch/158770 _Testing PASS_ Submitter: Ciara Loftus Date: Thursday, November 13 2025 14:50:21 DPDK git baseline: Repo:dpdk-next-net-intel Branch: master CommitID:e5357d609907d504f4705e4899f3dad43cb4b70f 158770 --> testing pass Upstream job id: Generic-DPDK-Compile-Meson#444158 Test environment and result as below: +---------------------+--------------------+ | Environment | dpdk_meson_compile | +=====================+====================+ | FreeBSD 14.2 | PASS | +---------------------+--------------------+ | Ubuntu 20.04 | PASS | +---------------------+--------------------+ | CentOS Stream 9 | PASS | +---------------------+--------------------+ | CentOS Stream 10 | PASS | +---------------------+--------------------+ | Debian GNU/Linux 12 | PASS | +---------------------+--------------------+ FreeBSD 14.2 Kernel: 14.2-RELEASE Compiler: clang 18.1.6 Ubuntu 20.04 Kernel: 4.19 Compiler: gcc gcc (Ubuntu 9.4.0-1ubuntu1~20.04.2) 9.4.0 CentOS Stream 9 Kernel: 5.15 Compiler: gcc gcc (GCC) 11.5.0 20240719 (Red Hat 11.5.0-11) CentOS Stream 10 Kernel: 5.15 Compiler: gcc gcc (GCC) 14.2.1 20250110 (Red Hat 14.2.1-8) Debian GNU/Linux 12 Kernel: 5.15 Compiler: gcc gcc (Debian 12.2.0-14+deb12u1) 12.2.0 To view detailed results, visit: https://lab.dpdk.org/results/dashboard/patchsets/34578/ UNH-IOL DPDK Community Lab To manage your email subscriptions, visit: https://lab.dpdk.org/results/dashboard/preferences/subscriptions/