From mboxrd@z Thu Jan 1 00:00:00 1970 Return-Path: Received: from mails.dpdk.org (mails.dpdk.org [217.70.189.124]) by inbox.dpdk.org (Postfix) with ESMTP id 384B748B06 for ; Fri, 14 Nov 2025 11:35:29 +0100 (CET) Received: from mails.dpdk.org (localhost [127.0.0.1]) by mails.dpdk.org (Postfix) with ESMTP id 1502540151; Fri, 14 Nov 2025 11:35:29 +0100 (CET) Received: from mail-oo1-f98.google.com (mail-oo1-f98.google.com [209.85.161.98]) by mails.dpdk.org (Postfix) with ESMTP id 445D440151 for ; Fri, 14 Nov 2025 11:35:27 +0100 (CET) Received: by mail-oo1-f98.google.com with SMTP id 006d021491bc7-6567607bd65so386532eaf.2 for ; Fri, 14 Nov 2025 02:35:27 -0800 (PST) DKIM-Signature: v=1; a=rsa-sha256; c=relaxed/relaxed; d=iol.unh.edu; s=unh-iol; t=1763116526; x=1763721326; darn=dpdk.org; h=references:in-reply-to:cc:to:from:subject:message-id:date:from:to :cc:subject:date:message-id:reply-to; bh=d/Di5+3Bl0P8D4WVgE7n15Iu6bUmnhXYPSNihglkD7k=; b=adZbtB+dSXGpBq+2FoFTrWPlpNDnSAmm13w42cokl1PpOitRaaLvrqaRUZnU7VUqQ7 KUciGuNUiC3o8lP1Br3bN84UveUOeJ574ec0vd7lO3NHhJSy9xOm57nHsdn6UN1LcthT DTRWqIdU7U3WZDOhXaFswJxAKo43l+x5PwxWo= X-Google-DKIM-Signature: v=1; a=rsa-sha256; c=relaxed/relaxed; d=1e100.net; s=20230601; t=1763116526; x=1763721326; h=references:in-reply-to:cc:to:from:subject:message-id:date:x-gm-gg :x-gm-message-state:from:to:cc:subject:date:message-id:reply-to; bh=d/Di5+3Bl0P8D4WVgE7n15Iu6bUmnhXYPSNihglkD7k=; b=nar/AO3jNSukb+HA26Fv377VhYZXC0lRuzafWIQJ4Ge7iOGEnd4PBo2A51ZlK7PaGM L+RPuqZWaJOnAX/P611XCRQeu4tzXaIvyQJrS5R1qdftDR0BwdbfpX03giEUI5A4pmji 4tk+b1X7rs4roINL92imEC4pOMFocw/AvbDFSO+wq+vC2SL92KjplQlXWHq6SNZh1wO0 kkZbo/V+3sxqqQz0zetEUz9sWS72L7ooJVYG1qET3ubLZdCb4Y5Gbyt8YIPBo0NWwOc4 Z35mdgHdWP00txyWLsmkBCfzez8f1yiTPU2tu3EYPHLSTxbEFwahHtttUPlEul1gnJyw X8yA== X-Gm-Message-State: AOJu0YzGja1BModkptSIAy3Rz198OZXY9OBoNUhP3J9emBG8easnx5KD P0x3GCQ7CcbL4ZDK78neCNkAzD8j4YVy+h4w8rqjowsm3nqvPk8En2cBn82yL9jnHxaNEhlww/t oKod+9K4RltCxyXQ0yOS5OUQZfiYTkwz2AaJf9OTHDPZo X-Gm-Gg: ASbGnct4G7ZeT7+3YUBJ/jYjGNN/6C5SLv0TzrIOMyPTe9DTPJ3pe5x6mS0NKZejtS4 eU/t8XFReWtw6T5Q718Yjw96kqg4PRnEnc1QuLshJtwARyBrLnEYyiEAhSEUwkormVV9R7RAz+M omxr27BnHOtBeMJHgP4b0x/5JOoTesGvCd7E4XZA8cQekojFicE3kEHCCJMDHH1MkdTfaMlzp/Y eVYeBc26FiIsgDAOTK6TTdtIPPQhyiFowruSwI/Q1zeUy0ObF5DRSpST824+fXN2goheaX5u5D4 1muqUIQpcotMEd0bMOuhoJd7mCyLc6pvuofFm1xW6Q/F1ZPqW+DLKGXCHyAIq8CmFy+TLtcrkDd 06mzQr44oHfb00RZAGLo/ED5QizLtGwQ= X-Google-Smtp-Source: AGHT+IEz54INgUyw0CnkSkzAauV4wgLWgEjSvmVkr5+t9I+yIQrilTpm1AFXigBpNUYe4GaQeu84/oNAKyww X-Received: by 2002:a05:6820:160e:b0:654:fc79:8621 with SMTP id 006d021491bc7-65733cabb68mr1149317eaf.3.1763116526331; Fri, 14 Nov 2025 02:35:26 -0800 (PST) Received: from postal.iol.unh.edu (postal.iol.unh.edu. [132.177.123.84]) by smtp-relay.gmail.com with ESMTPS id 006d021491bc7-65724e541dasm75364eaf.11.2025.11.14.02.35.26 (version=TLS1_2 cipher=ECDHE-ECDSA-AES128-GCM-SHA256 bits=128/128); Fri, 14 Nov 2025 02:35:26 -0800 (PST) X-Relaying-Domain: iol.unh.edu Date: Fri, 14 Nov 2025 02:35:26 -0800 (PST) Message-ID: <691705ee.050a0220.22961a.34d1SMTPIN_ADDED_MISSING@mx.google.com> Received: from [172.21.0.2] (unknown [172.18.0.240]) by postal.iol.unh.edu (Postfix) with ESMTP id 68ED660003E7; Fri, 14 Nov 2025 05:35:25 -0500 (EST) Subject: |SUCCESS| pw158760 [PATCH] net/mlx5/windows: fix match criteria in f From: dpdklab@iol.unh.edu To: Test Report Cc: dpdk-test-reports@iol.unh.edu In-Reply-To: <20251113122642.1193-1-isharoni@nvidia.com> References: <20251113122642.1193-1-isharoni@nvidia.com> Content-Type: text/plain X-BeenThere: test-report@dpdk.org X-Mailman-Version: 2.1.29 Precedence: list List-Id: automatic DPDK test reports List-Unsubscribe: , List-Archive: List-Post: List-Help: List-Subscribe: , Errors-To: test-report-bounces@dpdk.org Test-Label: iol-compile-amd64-testing Test-Status: SUCCESS http://dpdk.org/patch/158760 _Testing PASS_ Submitter: Itai Sharoni Date: Thursday, November 13 2025 12:26:41 DPDK git baseline: Repo:dpdk-next-net-mlx Branch: master CommitID:ae657d56b1f0ea979b3f611edf28d773efc2ddcf 158760 --> testing pass Upstream job id: Windows-Compile-DPDK-VS#7539 Test environment and result as below: +-------------------------------+--------------------+------------------+-------------------+ | Environment | dpdk_meson_compile | dpdk_compile_ovs | dpdk_msvc_compile | +===============================+====================+==================+===================+ | FreeBSD 14.2 | PASS | SKIPPED | SKIPPED | +-------------------------------+--------------------+------------------+-------------------+ | Ubuntu 20.04 | PASS | SKIPPED | SKIPPED | +-------------------------------+--------------------+------------------+-------------------+ | CentOS Stream 9 | PASS | SKIPPED | SKIPPED | +-------------------------------+--------------------+------------------+-------------------+ | CentOS Stream 10 | PASS | SKIPPED | SKIPPED | +-------------------------------+--------------------+------------------+-------------------+ | Debian GNU/Linux 12 | PASS | SKIPPED | SKIPPED | +-------------------------------+--------------------+------------------+-------------------+ | Fedora Linux 42 | PASS | PASS | SKIPPED | +-------------------------------+--------------------+------------------+-------------------+ | openSUSE Leap 15.6 | PASS | SKIPPED | SKIPPED | +-------------------------------+--------------------+------------------+-------------------+ | Red Hat Enterprise Linux 8.10 | PASS | SKIPPED | SKIPPED | +-------------------------------+--------------------+------------------+-------------------+ | Red Hat Enterprise Linux 9.5 | PASS | SKIPPED | SKIPPED | +-------------------------------+--------------------+------------------+-------------------+ | Ubuntu 22.04 | PASS | SKIPPED | SKIPPED | +-------------------------------+--------------------+------------------+-------------------+ | Ubuntu 24.04 | PASS | PASS | SKIPPED | +-------------------------------+--------------------+------------------+-------------------+ | Alpine Linux 3.22.0 | PASS | SKIPPED | SKIPPED | +-------------------------------+--------------------+------------------+-------------------+ | Windows Server 2022 | SKIPPED | SKIPPED | PASS | +-------------------------------+--------------------+------------------+-------------------+ FreeBSD 14.2 Kernel: 14.2-RELEASE Compiler: clang 18.1.6 Ubuntu 20.04 Kernel: 4.19 Compiler: gcc gcc (Ubuntu 9.4.0-1ubuntu1~20.04.2) 9.4.0 CentOS Stream 9 Kernel: 5.15 Compiler: gcc gcc (GCC) 11.5.0 20240719 (Red Hat 11.5.0-11) CentOS Stream 10 Kernel: 5.15 Compiler: gcc gcc (GCC) 14.2.1 20250110 (Red Hat 14.2.1-8) Debian GNU/Linux 12 Kernel: 5.15 Compiler: gcc gcc (Debian 12.2.0-14+deb12u1) 12.2.0 Fedora Linux 42 Kernel: 5.15 Compiler: clang gcc (GCC) 15.2.1 20250808 (Red Hat 15.2.1-1) openSUSE Leap 15.6 Kernel: 5.15 Compiler: gcc gcc (SUSE Linux) 7.5.0 Red Hat Enterprise Linux 8.10 Kernel: 5.15 Compiler: gcc gcc (GCC) 8.5.0 20210514 (Red Hat 8.5.0-22) Red Hat Enterprise Linux 9.5 Kernel: 5.15 Compiler: gcc gcc (GCC) 11.5.0 20240719 (Red Hat 11.5.0-2) Ubuntu 22.04 Kernel: 5.15 Compiler: gcc gcc (Ubuntu 11.4.0-1ubuntu1~22.04) 11.4.0 Ubuntu 24.04 Kernel: 5.15 Compiler: gcc gcc (Ubuntu 13.3.0-6ubuntu2~24.04) 13.3.0 Alpine Linux 3.22.0 Kernel: 5.15 Compiler: gcc gcc (Alpine 14.2.0) 14.2.0 Windows Server 2022 Kernel: 10.0.20348.2031 Compiler: clang 15.0.7, gcc 14.1.0 (MinGW), and MSVC VS 19.39.33521 To view detailed results, visit: https://lab.dpdk.org/results/dashboard/patchsets/34575/ UNH-IOL DPDK Community Lab To manage your email subscriptions, visit: https://lab.dpdk.org/results/dashboard/preferences/subscriptions/