From mboxrd@z Thu Jan 1 00:00:00 1970 Return-Path: Received: from mails.dpdk.org (mails.dpdk.org [217.70.189.124]) by inbox.dpdk.org (Postfix) with ESMTP id 635FA48B06 for ; Fri, 14 Nov 2025 11:37:30 +0100 (CET) Received: from mails.dpdk.org (localhost [127.0.0.1]) by mails.dpdk.org (Postfix) with ESMTP id 4876040151; Fri, 14 Nov 2025 11:37:30 +0100 (CET) Received: from mail-il1-f228.google.com (mail-il1-f228.google.com [209.85.166.228]) by mails.dpdk.org (Postfix) with ESMTP id 5D84A40151 for ; Fri, 14 Nov 2025 11:37:29 +0100 (CET) Received: by mail-il1-f228.google.com with SMTP id e9e14a558f8ab-43380a6fe8cso16357835ab.0 for ; Fri, 14 Nov 2025 02:37:29 -0800 (PST) DKIM-Signature: v=1; a=rsa-sha256; c=relaxed/relaxed; d=iol.unh.edu; s=unh-iol; t=1763116648; x=1763721448; darn=dpdk.org; h=cc:to:from:subject:message-id:date:from:to:cc:subject:date :message-id:reply-to; bh=AgW/qn1Duu0Kq1QtmDoX8gBImVhtaDz72q/M5Ke4gbw=; b=Wo53EsB7hzaOQ4gvaCKI5+MgYmNSm/fCfcd1G+1SgPt2y0T/J3PLGvvwvxdS5YNf7a vv9fwQdO6MrnGc2qZOizuvb0qevnt8h3MfWDs9mbBIfMe7QtfJOT8Mawb8syqOZm6NEQ gR0i7enIvLruKyuckJRhY60MMFzPM/yxqHey0= X-Google-DKIM-Signature: v=1; a=rsa-sha256; c=relaxed/relaxed; d=1e100.net; s=20230601; t=1763116648; x=1763721448; h=cc:to:from:subject:message-id:date:x-gm-gg:x-gm-message-state:from :to:cc:subject:date:message-id:reply-to; bh=AgW/qn1Duu0Kq1QtmDoX8gBImVhtaDz72q/M5Ke4gbw=; b=Eir8TMDVSf7kMHyxwbOZ6py/0j/toaFOAQ74zFjjF/pWoyQJPEscITLr3jqG/PczIt BsFbJ91bUcriWzsRVRSAiJe/0aIG2Vq4jU+v0hhGko/UwKgeSPMIm+YvxqV3pDMy5iCY +DTaXTPpO7U8wT6qQM86sI8y+ftvCZmXk6Ynz4gI35kuQsO245Xsbcgzzy937Mmanf8L Ub4/FSDPA+Ie1x1/38Xo102w61ibzeDjMLcRaz9X7O00zzJl3R3RySQj5Ga2wPMrYwXt FDj5VrVz+fJudWUDgZfTJDVU2djMRJEV1FqLqGL+rOJPO6ezHkNmGy7ynYeTGTG7/vEr X1Yg== X-Gm-Message-State: AOJu0YwgSXEJJhas8n9sSZhVQjvxrMUVVZm146gUMCBYMRZTveTfb1RY jlNZfUsPGl6WBt1/uCwmgPtEajGe5bTDrM72JU7qY61Gdf8gPDgCKrdWeKBlYv8agy1Xp2Y9FDg ZxZcAM3uSMwbXoWNn05D9CGlczkHGr+0MZIbUjs/QEDiACm7FxJzI X-Gm-Gg: ASbGncvk50VprmVU9E+AaGRGWUlrPhavcCzFXx2QGeyUK7GPGzFq3wqPCkjhszFsZP0 p90CQWg+G1EDjN5pLjBxaxpigXvCchfaeIzynu46CLN/HDt7jrtwtd+/KJ09+ebJzEOC/d1IEXV ty4l6F/0WmGu9qcZFbKOurYWtgoNiMi2qSXTeCZEmxzO4bWph1aULCZkacW0fsVaWhWZa2MwYHw qiSoJX8TCdaETqsMU/tK6KtLFojRWZBp97A4ZVmP+PcKgwkENVqqiD/I5wVwHgCL2LY5bZCEl/3 wb6jg0XQp5ZcBW6k6AeT3AnFXUNcPFH6ct5nuTAaTF8BHvND0BLd1MflakVk+nBBc6qhVH9HOiO fsPaR2X4W X-Google-Smtp-Source: AGHT+IHuT8Un+E9K9HvcBQQFQJRlJ8LVa0Na41pFIKsINzK7XZW4P2qhqOMsummyjAZqqaPqouy3GzK7JOb8 X-Received: by 2002:a05:6e02:3f06:b0:433:6f5d:49bf with SMTP id e9e14a558f8ab-4348c95c9d8mr44356495ab.30.1763116648617; Fri, 14 Nov 2025 02:37:28 -0800 (PST) Received: from postal.iol.unh.edu (postal.iol.unh.edu. [2606:4100:3880:1234::84]) by smtp-relay.gmail.com with ESMTPS id e9e14a558f8ab-4348399226csm4068155ab.20.2025.11.14.02.37.28 (version=TLS1_2 cipher=ECDHE-ECDSA-AES128-GCM-SHA256 bits=128/128); Fri, 14 Nov 2025 02:37:28 -0800 (PST) X-Relaying-Domain: iol.unh.edu Date: Fri, 14 Nov 2025 02:37:28 -0800 (PST) Message-ID: <69170668.050a0220.32604b.345eSMTPIN_ADDED_MISSING@mx.google.com> Received: from [172.21.0.2] (unknown [172.18.0.240]) by postal.iol.unh.edu (Postfix) with ESMTP id 3A0EC6051830; Fri, 14 Nov 2025 05:37:28 -0500 (EST) Subject: |SUCCESS| [GIT MASTER] 0bd935abcb823f581ce53986986aa54eaf6f8140 From: dpdklab@iol.unh.edu To: Test Report Cc: dpdk-test-reports@iol.unh.edu, Xueming Li , Christian Ehrhardt , Kevin Traynor , Luca Boccassi Content-Type: text/plain X-BeenThere: test-report@dpdk.org X-Mailman-Version: 2.1.29 Precedence: list List-Id: automatic DPDK test reports List-Unsubscribe: , List-Archive: List-Post: List-Help: List-Subscribe: , Errors-To: test-report-bounces@dpdk.org _Testing PASS_ Branch: tags/v24.11 0bd935abcb823f581ce53986986aa54eaf6f8140 --> testing pass Upstream job id: Windows-Compile-DPDK-Native#32317 Test environment and result as below: +-------------------------------+--------------------+------------------+-------------------+-------------------------+----------------------+ | Environment | dpdk_meson_compile | dpdk_compile_ovs | dpdk_msvc_compile | dpdk_llvm_clang_compile | dpdk_mingw64_compile | +===============================+====================+==================+===================+=========================+======================+ | Ubuntu 20.04 | PASS | SKIPPED | SKIPPED | SKIPPED | SKIPPED | +-------------------------------+--------------------+------------------+-------------------+-------------------------+----------------------+ | FreeBSD 14.2 | PASS | SKIPPED | SKIPPED | SKIPPED | SKIPPED | +-------------------------------+--------------------+------------------+-------------------+-------------------------+----------------------+ | CentOS Stream 9 | PASS | SKIPPED | SKIPPED | SKIPPED | SKIPPED | +-------------------------------+--------------------+------------------+-------------------+-------------------------+----------------------+ | CentOS Stream 10 | PASS | SKIPPED | SKIPPED | SKIPPED | SKIPPED | +-------------------------------+--------------------+------------------+-------------------+-------------------------+----------------------+ | Debian GNU/Linux 12 | PASS | SKIPPED | SKIPPED | SKIPPED | SKIPPED | +-------------------------------+--------------------+------------------+-------------------+-------------------------+----------------------+ | Fedora Linux 42 | PASS | PASS | SKIPPED | SKIPPED | SKIPPED | +-------------------------------+--------------------+------------------+-------------------+-------------------------+----------------------+ | openSUSE Leap 15.6 | PASS | SKIPPED | SKIPPED | SKIPPED | SKIPPED | +-------------------------------+--------------------+------------------+-------------------+-------------------------+----------------------+ | Red Hat Enterprise Linux 8.10 | PASS | SKIPPED | SKIPPED | SKIPPED | SKIPPED | +-------------------------------+--------------------+------------------+-------------------+-------------------------+----------------------+ | Red Hat Enterprise Linux 9.5 | PASS | SKIPPED | SKIPPED | SKIPPED | SKIPPED | +-------------------------------+--------------------+------------------+-------------------+-------------------------+----------------------+ | Ubuntu 22.04 | PASS | SKIPPED | SKIPPED | SKIPPED | SKIPPED | +-------------------------------+--------------------+------------------+-------------------+-------------------------+----------------------+ | Ubuntu 24.04 | PASS | PASS | SKIPPED | SKIPPED | SKIPPED | +-------------------------------+--------------------+------------------+-------------------+-------------------------+----------------------+ | Alpine Linux 3.22.0 | PASS | SKIPPED | SKIPPED | SKIPPED | SKIPPED | +-------------------------------+--------------------+------------------+-------------------+-------------------------+----------------------+ | Windows Server 2022 | SKIPPED | SKIPPED | PASS | PASS | PASS | +-------------------------------+--------------------+------------------+-------------------+-------------------------+----------------------+ Ubuntu 20.04 Kernel: 4.19 Compiler: gcc gcc (Ubuntu 9.4.0-1ubuntu1~20.04.2) 9.4.0 FreeBSD 14.2 Kernel: 14.2-RELEASE Compiler: clang 18.1.6 CentOS Stream 9 Kernel: 5.15 Compiler: gcc gcc (GCC) 11.5.0 20240719 (Red Hat 11.5.0-11) CentOS Stream 10 Kernel: 5.15 Compiler: gcc gcc (GCC) 14.2.1 20250110 (Red Hat 14.2.1-8) Debian GNU/Linux 12 Kernel: 5.15 Compiler: gcc gcc (Debian 12.2.0-14+deb12u1) 12.2.0 Fedora Linux 42 Kernel: 5.15 Compiler: clang gcc (GCC) 15.2.1 20250808 (Red Hat 15.2.1-1) openSUSE Leap 15.6 Kernel: 5.15 Compiler: gcc gcc (SUSE Linux) 7.5.0 Red Hat Enterprise Linux 8.10 Kernel: 5.15 Compiler: gcc gcc (GCC) 8.5.0 20210514 (Red Hat 8.5.0-22) Red Hat Enterprise Linux 9.5 Kernel: 5.15 Compiler: gcc gcc (GCC) 11.5.0 20240719 (Red Hat 11.5.0-2) Ubuntu 22.04 Kernel: 5.15 Compiler: gcc gcc (Ubuntu 11.4.0-1ubuntu1~22.04) 11.4.0 Ubuntu 24.04 Kernel: 5.15 Compiler: gcc gcc (Ubuntu 13.3.0-6ubuntu2~24.04) 13.3.0 Alpine Linux 3.22.0 Kernel: 5.15 Compiler: gcc gcc (Alpine 14.2.0) 14.2.0 Windows Server 2022 Kernel: 10.0.20348.2031 Compiler: clang 15.0.7, gcc 14.1.0 (MinGW), and MSVC VS 19.39.33521 To view detailed results, visit: https://lab.dpdk.org/results/dashboard/tarballs/35551/ UNH-IOL DPDK Community Lab To manage your email subscriptions, visit: https://lab.dpdk.org/results/dashboard/preferences/subscriptions/