From mboxrd@z Thu Jan 1 00:00:00 1970 Return-Path: Received: from mails.dpdk.org (mails.dpdk.org [217.70.189.124]) by inbox.dpdk.org (Postfix) with ESMTP id 1D65348B06 for ; Fri, 14 Nov 2025 11:45:38 +0100 (CET) Received: from mails.dpdk.org (localhost [127.0.0.1]) by mails.dpdk.org (Postfix) with ESMTP id EF6E140151; Fri, 14 Nov 2025 11:45:37 +0100 (CET) Received: from mail-vk1-f227.google.com (mail-vk1-f227.google.com [209.85.221.227]) by mails.dpdk.org (Postfix) with ESMTP id 797FC40151 for ; Fri, 14 Nov 2025 11:45:36 +0100 (CET) Received: by mail-vk1-f227.google.com with SMTP id 71dfb90a1353d-55965c96fd7so461060e0c.0 for ; Fri, 14 Nov 2025 02:45:36 -0800 (PST) DKIM-Signature: v=1; a=rsa-sha256; c=relaxed/relaxed; d=iol.unh.edu; s=unh-iol; t=1763117136; x=1763721936; darn=dpdk.org; h=references:in-reply-to:cc:to:from:subject:message-id:date:from:to :cc:subject:date:message-id:reply-to; bh=mm+aQrJ9+BXMXlk1o6rZUiK74+To8K18pxDiUhNSl1E=; b=jUZscXoaAlt33EYXg/Hz7OYKSw03quvheR5loC+GFwznX3IepMfBm1rsUFmp2J4U45 hZSGDPSo09mtCWAVuIM364GNLaRrBS5gm6jgxKn4I8KjRdoGRGBuEncap9mQZfGazSI+ 0vvBKMSAzXwByVfZ1G1ZlqIwzx3eSfWKQlK9c= X-Google-DKIM-Signature: v=1; a=rsa-sha256; c=relaxed/relaxed; d=1e100.net; s=20230601; t=1763117136; x=1763721936; h=references:in-reply-to:cc:to:from:subject:message-id:date:x-gm-gg :x-gm-message-state:from:to:cc:subject:date:message-id:reply-to; bh=mm+aQrJ9+BXMXlk1o6rZUiK74+To8K18pxDiUhNSl1E=; b=tNLk1VruxC0gFscH95OmgEaY6MY5i8xBHrrOZWSXlAGuAvUudsAYBWaHQR8f0n4RWN LZBiW+XzOUv69tgrROqU72ovpj+tmfMXyBrzFwpL+AfmaNpFye8hLao3KyVAg8Uici4E QzZMXKVWhebgr1a2sHyjyhqEdBQTKc1c0/AXbf4JcZUps2MA0XnE+EkO1WtePDnGZAe6 F1p9b6zb9hH9hWM4DBwxVENO/8LKEB6QkHVeNHyDSXXuxK3+BHtBrxgW7eXzcGrbvY7v pvEDrkeLjaGzS2O3YmWUgD6r1orJB/y+VPwnGUYa6WFpvqiEy8RzaxqELEnaY9E99lRu VgzA== X-Gm-Message-State: AOJu0YyH2FNmgkzLkKYRwcQnAt8rZ99N59D1+GxYFrNCJD+ObJrmElJP tuebgKuLR5pC/Kc/KEhiCce8MkaX+JE6VNJO988yQyRT7LUF7n0WV0sY/ohjDpXGpUxDrjBb0nk x7iiOzVTXgGyLCb2s/ZMx27K+ZLFRsjslwD5hQ10yVcQi X-Gm-Gg: ASbGncvoO22NK+IOgOD8k0D91B7f1kd0FAW4MbxpMd2MjlSSnPldZ+pZ5kraLDrT2Pp kgWAPipXJw2c1+TWkiLiNkGc94aDNsIdxhAkXYiNteCyu/T1kNKbaLb922HizAM3rz81juOWTT6 SzC7wqBYkoq85316U7ouHWQqLc+3J0PuoOvlXiqanwxYT4IaqhWCluPz1yyW4xJJzNa8toSvlv7 /S5/5tqbUa98CsbzNCgwHy1gnQ1w0kPE06ivCYG7O7bT949djPVimHefEWYo5b6FJZCc3Cl4H2r I2aUcxX9+s3CKp78+/eUDTyn66sFN7MoQ0XpoEpDbnARLnkT22u7Ua9ujrLY4liQYIz/ToV5MvL InBiVedieNF+K3XgL7h/PwFKF9BGKgkc= X-Google-Smtp-Source: AGHT+IFe60kucTj8hXaTxaWMNK9TrK963hGsbCyAfQA44YSaZw/nqMMubctspNxVycplbx6qJnTNXjrXljTj X-Received: by 2002:a05:6122:3285:b0:559:b2cb:5dad with SMTP id 71dfb90a1353d-55b1bd889ecmr838063e0c.3.1763117135780; Fri, 14 Nov 2025 02:45:35 -0800 (PST) Received: from postal.iol.unh.edu (postal.iol.unh.edu. [132.177.123.84]) by smtp-relay.gmail.com with ESMTPS id 71dfb90a1353d-55b0f491920sm514517e0c.8.2025.11.14.02.45.35 (version=TLS1_2 cipher=ECDHE-ECDSA-AES128-GCM-SHA256 bits=128/128); Fri, 14 Nov 2025 02:45:35 -0800 (PST) X-Relaying-Domain: iol.unh.edu Date: Fri, 14 Nov 2025 02:45:35 -0800 (PST) Message-ID: <6917084f.050a0220.2c0f69.91ecSMTPIN_ADDED_MISSING@mx.google.com> Received: from [172.21.0.2] (unknown [172.18.0.240]) by postal.iol.unh.edu (Postfix) with ESMTP id 4C5BA6051830; Fri, 14 Nov 2025 05:45:35 -0500 (EST) Subject: |SUCCESS| pw158771 [PATCH] net/mlx5: fix uninitialized warning From: dpdklab@iol.unh.edu To: Test Report Cc: dpdk-test-reports@iol.unh.edu In-Reply-To: <20251113163301.285550-1-stephen@networkplumber.org> References: <20251113163301.285550-1-stephen@networkplumber.org> Content-Type: text/plain X-BeenThere: test-report@dpdk.org X-Mailman-Version: 2.1.29 Precedence: list List-Id: automatic DPDK test reports List-Unsubscribe: , List-Archive: List-Post: List-Help: List-Subscribe: , Errors-To: test-report-bounces@dpdk.org Test-Label: iol-unit-amd64-testing Test-Status: SUCCESS http://dpdk.org/patch/158771 _Testing PASS_ Submitter: Stephen Hemminger Date: Thursday, November 13 2025 16:33:01 DPDK git baseline: Repo:dpdk-next-net-mlx Branch: master CommitID:ae657d56b1f0ea979b3f611edf28d773efc2ddcf 158771 --> testing pass Upstream job id: Generic-VM-Unit-Test-DPDK#32529 Test environment and result as below: +-------------------------------+----------------+ | Environment | dpdk_unit_test | +===============================+================+ | CentOS Stream 9 | PASS | +-------------------------------+----------------+ | CentOS Stream 10 | PASS | +-------------------------------+----------------+ | Fedora Linux 40 | PASS | +-------------------------------+----------------+ | Debian GNU/Linux 12 | PASS | +-------------------------------+----------------+ | Fedora Linux 41 | PASS | +-------------------------------+----------------+ | Fedora Linux 42 | PASS | +-------------------------------+----------------+ | Red Hat Enterprise Linux 8.10 | PASS | +-------------------------------+----------------+ | Ubuntu 20.04 | PASS | +-------------------------------+----------------+ | Red Hat Enterprise Linux 9.5 | PASS | +-------------------------------+----------------+ | Ubuntu 24.04 | PASS | +-------------------------------+----------------+ | Ubuntu 22.04 | PASS | +-------------------------------+----------------+ | Windows Server 2022 | PASS | +-------------------------------+----------------+ CentOS Stream 9 Kernel: 5.15 Compiler: gcc gcc (GCC) 11.5.0 20240719 (Red Hat 11.5.0-11) CentOS Stream 10 Kernel: 5.15 Compiler: gcc gcc (GCC) 14.2.1 20250110 (Red Hat 14.2.1-8) Fedora Linux 40 Kernel: 5.15 Compiler: gcc gcc (GCC) 14.2.1 20240912 (Red Hat 14.2.1-3) Debian GNU/Linux 12 Kernel: 5.15 Compiler: gcc gcc (Debian 12.2.0-14+deb12u1) 12.2.0 Fedora Linux 41 Kernel: 5.15 Compiler: gcc gcc (GCC) 14.3.1 20250523 (Red Hat 14.3.1-1) Fedora Linux 42 Kernel: 5.15 Compiler: gcc gcc (GCC) 15.2.1 20250808 (Red Hat 15.2.1-1) Red Hat Enterprise Linux 8.10 Kernel: 5.15 Compiler: gcc gcc (GCC) 8.5.0 20210514 (Red Hat 8.5.0-22) Ubuntu 20.04 Kernel: 5.15 Compiler: gcc gcc (Ubuntu 9.4.0-1ubuntu1~20.04.2) 9.4.0 Red Hat Enterprise Linux 9.5 Kernel: 5.15 Compiler: gcc gcc (GCC) 11.5.0 20240719 (Red Hat 11.5.0-2) Ubuntu 24.04 Kernel: 5.15 Compiler: gcc gcc (Ubuntu 13.3.0-6ubuntu2~24.04) 13.3.0 Ubuntu 22.04 Kernel: 5.15 Compiler: gcc gcc (Ubuntu 11.4.0-1ubuntu1~22.04) 11.4.0 Windows Server 2022 Kernel: 10.0.20348.2031 Compiler: clang 15.0.7, gcc 14.1.0 (MinGW), and MSVC VS 19.39.33521 To view detailed results, visit: https://lab.dpdk.org/results/dashboard/patchsets/34579/ UNH-IOL DPDK Community Lab To manage your email subscriptions, visit: https://lab.dpdk.org/results/dashboard/preferences/subscriptions/