From mboxrd@z Thu Jan 1 00:00:00 1970 Return-Path: Received: from mails.dpdk.org (mails.dpdk.org [217.70.189.124]) by inbox.dpdk.org (Postfix) with ESMTP id 6F0CA48B06 for ; Fri, 14 Nov 2025 11:49:18 +0100 (CET) Received: from mails.dpdk.org (localhost [127.0.0.1]) by mails.dpdk.org (Postfix) with ESMTP id 46CE440151; Fri, 14 Nov 2025 11:49:18 +0100 (CET) Received: from mail-pl1-f227.google.com (mail-pl1-f227.google.com [209.85.214.227]) by mails.dpdk.org (Postfix) with ESMTP id E513140151 for ; Fri, 14 Nov 2025 11:49:16 +0100 (CET) Received: by mail-pl1-f227.google.com with SMTP id d9443c01a7336-2957850c63bso18984695ad.0 for ; Fri, 14 Nov 2025 02:49:16 -0800 (PST) DKIM-Signature: v=1; a=rsa-sha256; c=relaxed/relaxed; d=iol.unh.edu; s=unh-iol; t=1763117356; x=1763722156; darn=dpdk.org; h=references:in-reply-to:cc:to:from:subject:message-id:date:from:to :cc:subject:date:message-id:reply-to; bh=FpzpGoWrVU8wK1xjB+xiG3G0SpUurfO1std3FrLO2Ts=; b=ImKJYffYYK2TSoipYANXxYxRIWpahx2InfPqHDYGTXNCwXgGLP4HsyXqql4Gf+gv7D zIJh3Dtq1qkwUti6+F+iEwxWjyVNq+IX8uFJevfyQfSa5GhZ5WhrHUQwnMODkYWVHR8Y 8B6E+z0vA83E5Crz/qWEpoh2f6WpfK1sNVUDA= X-Google-DKIM-Signature: v=1; a=rsa-sha256; c=relaxed/relaxed; d=1e100.net; s=20230601; t=1763117356; x=1763722156; h=references:in-reply-to:cc:to:from:subject:message-id:date:x-gm-gg :x-gm-message-state:from:to:cc:subject:date:message-id:reply-to; bh=FpzpGoWrVU8wK1xjB+xiG3G0SpUurfO1std3FrLO2Ts=; b=ZAHjh5Djggqum/hCDgWwFtKLg5EEzlSOfNgPS3rt7ELMclQepzw7oy5MepACxw2VmL BkuSttk6SPFTqEfheNZOt0Zd7CTPRJmhaNwBrCN5YFC5X/4JGfB+RKkcy4RonhbUJWcN P4FeWEhx74zbm7F3vQ1XtSn+61Rx6p2BEbv5NxETz2jJmzGkAgdEiRlNl8pCo0cMgzic Rq+Wwn+/J/rUbTnkkf8YyTuKGZGenUppl7QelCxyQlAb5EyTZE39kRy5A6JyQYkKtfLa q4PMrcPiP3mTuULUZ9DgiDgapkyJN9DJYCJ85yJ/4eazu9zUDwKYmYAC4ttPuP/Q4t38 ulUA== X-Gm-Message-State: AOJu0Yws0z1nHm0r2VoUOJND3e+sq5ggarzxvxYkZ9AjBvK2OCq3Mh+a cesE6ZC+STJn7dr55ctSiJaUnJqxf6uZyvGapJHMR5arHohZYmZuec5Y8S4c1V/6JNt+iRIys5n S3l83ug1Y1QQQXY67ehz9SB/0lqzuS3GHryf/ZrM4FO4Q X-Gm-Gg: ASbGncv5Jm3NRNHIJFibEpMi9JjsOZukrXHOArpReEDV6024gkGjcYEPgxgay/0JWTB tcBTrw1Et4rFxJT3nEjy8N/cGricWs2it4T/62pkcmK8hToO7bNUWWSBWjP5v20BlkcJIPuET05 JDwJdkppGcrUKxhhmayS12g3jz9l2sJxuYaCNbMSQQIVXfK5vHdEotkmj2Bz+ENOOyW4rgxgE8D GKaPzcPvNM9T9vvKNYFESAIENKsGE+zvVkk9F4BbNkHXXH3NWCsO8mxcbKZvxjHXtfytX6gnhFN 2kKnKUm1TmU6U1Hz8YS2XR+pctUTwRJQohiBbAQqsBCvSO8CgRuWD2lKuLNtNU2ufCAcu+X9wvM 0mOSUK/wnkUMVzKd/weHsgVwfBk2Si4g= X-Google-Smtp-Source: AGHT+IHm999VYz3MaLewaO9OOEWsaPRQL1mOwQVNhovxmpm16u1wivWyIeAoqqeYiAkR69XrtLPI4IZQNMLl X-Received: by 2002:a17:902:d48c:b0:297:d764:9866 with SMTP id d9443c01a7336-29867f96635mr38947665ad.18.1763117355951; Fri, 14 Nov 2025 02:49:15 -0800 (PST) Received: from postal.iol.unh.edu (postal.iol.unh.edu. [132.177.123.84]) by smtp-relay.gmail.com with ESMTPS id d9443c01a7336-2985c23490csm5141495ad.10.2025.11.14.02.49.15 (version=TLS1_2 cipher=ECDHE-ECDSA-AES128-GCM-SHA256 bits=128/128); Fri, 14 Nov 2025 02:49:15 -0800 (PST) X-Relaying-Domain: iol.unh.edu Date: Fri, 14 Nov 2025 02:49:15 -0800 (PST) Message-ID: <6917092b.170a0220.156788.8a67SMTPIN_ADDED_MISSING@mx.google.com> Received: from [172.21.0.2] (unknown [172.18.0.240]) by postal.iol.unh.edu (Postfix) with ESMTP id 554E36051830; Fri, 14 Nov 2025 05:49:15 -0500 (EST) Subject: |SUCCESS| pw158770 [PATCH] net/idpf: fix missing offload from conver From: dpdklab@iol.unh.edu To: Test Report Cc: dpdk-test-reports@iol.unh.edu, Bruce Richardson In-Reply-To: <20251113145021.3793930-1-ciara.loftus@intel.com> References: <20251113145021.3793930-1-ciara.loftus@intel.com> Content-Type: text/plain X-BeenThere: test-report@dpdk.org X-Mailman-Version: 2.1.29 Precedence: list List-Id: automatic DPDK test reports List-Unsubscribe: , List-Archive: List-Post: List-Help: List-Subscribe: , Errors-To: test-report-bounces@dpdk.org Test-Label: iol-compile-amd64-testing Test-Status: SUCCESS http://dpdk.org/patch/158770 _Testing PASS_ Submitter: Ciara Loftus Date: Thursday, November 13 2025 14:50:21 DPDK git baseline: Repo:dpdk-next-net-intel Branch: master CommitID:e5357d609907d504f4705e4899f3dad43cb4b70f 158770 --> testing pass Upstream job id: Generic-DPDK-Compile-Meson#444175 Test environment and result as below: +-------------------------------+--------------------+------------------+ | Environment | dpdk_meson_compile | dpdk_compile_ovs | +===============================+====================+==================+ | FreeBSD 14.2 | PASS | SKIPPED | +-------------------------------+--------------------+------------------+ | Ubuntu 20.04 | PASS | SKIPPED | +-------------------------------+--------------------+------------------+ | CentOS Stream 9 | PASS | SKIPPED | +-------------------------------+--------------------+------------------+ | CentOS Stream 10 | PASS | SKIPPED | +-------------------------------+--------------------+------------------+ | Debian GNU/Linux 12 | PASS | SKIPPED | +-------------------------------+--------------------+------------------+ | Fedora Linux 42 | PASS | PASS | +-------------------------------+--------------------+------------------+ | openSUSE Leap 15.6 | PASS | SKIPPED | +-------------------------------+--------------------+------------------+ | Red Hat Enterprise Linux 8.10 | PASS | SKIPPED | +-------------------------------+--------------------+------------------+ | Red Hat Enterprise Linux 9.5 | PASS | SKIPPED | +-------------------------------+--------------------+------------------+ | Ubuntu 22.04 | PASS | SKIPPED | +-------------------------------+--------------------+------------------+ | Ubuntu 24.04 | PASS | PASS | +-------------------------------+--------------------+------------------+ | Alpine Linux 3.22.0 | PASS | SKIPPED | +-------------------------------+--------------------+------------------+ FreeBSD 14.2 Kernel: 14.2-RELEASE Compiler: clang 18.1.6 Ubuntu 20.04 Kernel: 4.19 Compiler: gcc gcc (Ubuntu 9.4.0-1ubuntu1~20.04.2) 9.4.0 CentOS Stream 9 Kernel: 5.15 Compiler: gcc gcc (GCC) 11.5.0 20240719 (Red Hat 11.5.0-11) CentOS Stream 10 Kernel: 5.15 Compiler: gcc gcc (GCC) 14.2.1 20250110 (Red Hat 14.2.1-8) Debian GNU/Linux 12 Kernel: 5.15 Compiler: gcc gcc (Debian 12.2.0-14+deb12u1) 12.2.0 Fedora Linux 42 Kernel: 5.15 Compiler: clang gcc (GCC) 15.2.1 20250808 (Red Hat 15.2.1-1) openSUSE Leap 15.6 Kernel: 5.15 Compiler: gcc gcc (SUSE Linux) 7.5.0 Red Hat Enterprise Linux 8.10 Kernel: 5.15 Compiler: gcc gcc (GCC) 8.5.0 20210514 (Red Hat 8.5.0-22) Red Hat Enterprise Linux 9.5 Kernel: 5.15 Compiler: gcc gcc (GCC) 11.5.0 20240719 (Red Hat 11.5.0-2) Ubuntu 22.04 Kernel: 5.15 Compiler: gcc gcc (Ubuntu 11.4.0-1ubuntu1~22.04) 11.4.0 Ubuntu 24.04 Kernel: 5.15 Compiler: gcc gcc (Ubuntu 13.3.0-6ubuntu2~24.04) 13.3.0 Alpine Linux 3.22.0 Kernel: 5.15 Compiler: gcc gcc (Alpine 14.2.0) 14.2.0 To view detailed results, visit: https://lab.dpdk.org/results/dashboard/patchsets/34578/ UNH-IOL DPDK Community Lab To manage your email subscriptions, visit: https://lab.dpdk.org/results/dashboard/preferences/subscriptions/