From mboxrd@z Thu Jan 1 00:00:00 1970 Return-Path: Received: from mails.dpdk.org (mails.dpdk.org [217.70.189.124]) by inbox.dpdk.org (Postfix) with ESMTP id ADCCB48B07 for ; Fri, 14 Nov 2025 12:09:24 +0100 (CET) Received: from mails.dpdk.org (localhost [127.0.0.1]) by mails.dpdk.org (Postfix) with ESMTP id 8814940151; Fri, 14 Nov 2025 12:09:24 +0100 (CET) Received: from mail-io1-f97.google.com (mail-io1-f97.google.com [209.85.166.97]) by mails.dpdk.org (Postfix) with ESMTP id 60D3F40151 for ; Fri, 14 Nov 2025 12:09:23 +0100 (CET) Received: by mail-io1-f97.google.com with SMTP id ca18e2360f4ac-9486354dcb2so79572039f.3 for ; Fri, 14 Nov 2025 03:09:23 -0800 (PST) DKIM-Signature: v=1; a=rsa-sha256; c=relaxed/relaxed; d=iol.unh.edu; s=unh-iol; t=1763118562; x=1763723362; darn=dpdk.org; h=references:in-reply-to:cc:to:from:subject:message-id:date:from:to :cc:subject:date:message-id:reply-to; bh=HSnz2quu6THJVzAvHR+Q6lZdXKY0eDZVquxi6YwLQEU=; b=I4H1R3RRwAvXNit2+THb/vtZiL46teBlw1o8lG4mAoGxDvKFwnYqWRUJNBdi9k+AFb QxHqUXb8JQ9TI2GVI+4idoL3D8yjKE2rnHDtCJruw2PJNUuxGL6JlvD9gBeoH+eD5QdQ V9dAT4pXI72Yrtxh4daQ61CaEf03lU/kwYPVs= X-Google-DKIM-Signature: v=1; a=rsa-sha256; c=relaxed/relaxed; d=1e100.net; s=20230601; t=1763118562; x=1763723362; h=references:in-reply-to:cc:to:from:subject:message-id:date:x-gm-gg :x-gm-message-state:from:to:cc:subject:date:message-id:reply-to; bh=HSnz2quu6THJVzAvHR+Q6lZdXKY0eDZVquxi6YwLQEU=; b=exhOENGVGLg4rKRLxkpyYjL/dYwjC0h2dUpKpU3uilEaMBCNwFGnlvFKhNH/YB6PpK ob274C/+b/mRyFEquv7A8MlvqOXS1WAB72HIHQvFVyRLpYjwFd3jME1PLSCabqsJ/mIH HGXAdvWS1xuP/j1xInq4lIxmoYjmm2G3Y1qER4YE71Ih6BazwNxve/oC886V8tE7t+o0 Mc4d55mCNWUV5b5FspgPk007ruvrgx4MDVFGEgu5+nyarsbiYqBWoTafFG3w1HCN/xJ9 RFWIT841PizyDBrBGUwpm0VgfaUhz0IRI4ttbyOuMTr8/QC3E1Av92yfe0lUrfzx200Z A6qA== X-Gm-Message-State: AOJu0Yw1YFwImpYfOSLIanMHybct/KAu+TA0vx6Yb/Q4Gu0cCEMJa8vA qErW6z+JaAbyaUXT4I/ws53xasB78mAECd0mjOxKG589r2vz+i4M492NXVkl0djwcemK02owsFW rOCVwPfwe7ORbMj2NTLTSiRN8aGync9S1ab6AnUbnU4H/ X-Gm-Gg: ASbGncuvezWcKyrSTMmfmsgLYBOhVc5AhIAX8gl79OlJ2CK/X3BOS2V5tNdqYwvWcza 2hxOR3iY9wE7xZAyyEBDzlPNUVtNUdXGzog2Oq9ldDNo8yskdg0TeCCuh1LxEtX8jUqx0a4ibGd WF11kXJsvJ6Ui261ktLpxaXHxVWf0AfSZ1SJ5Sc8RGxWxwgd8TsGZoHH+o5HwNODmwTuZvojUn4 W5RJ+mEXi84KB1q1QprFrPOX22565iocVDXxe4PkGWcfeo2DwW2Og3EyMVhgv7qx5YVkCPGOTFb ZLeN+8W++G0YeQAv+GyEA2rEpEG0vYm2+EbYG8tVG+AMIXLfL9MiJDuaVRlqmDtm6cQeMdhp0iC fwaiuHqOqQ9SPg0J836yYLmhHL0wqbOw= X-Google-Smtp-Source: AGHT+IGKo4UEpkJtUgHka+g5d78SzpYXGchr+AscoEQvbfXlw++mfHuPGfRsjdWfPIrdUtO/Mn20W69/t1vP X-Received: by 2002:a92:cda5:0:b0:434:767d:8a3f with SMTP id e9e14a558f8ab-4348c942b89mr40222365ab.21.1763118562665; Fri, 14 Nov 2025 03:09:22 -0800 (PST) Received: from postal.iol.unh.edu (postal.iol.unh.edu. [132.177.123.84]) by smtp-relay.gmail.com with ESMTPS id e9e14a558f8ab-434833ebe8fsm4066195ab.14.2025.11.14.03.09.22 (version=TLS1_2 cipher=ECDHE-ECDSA-AES128-GCM-SHA256 bits=128/128); Fri, 14 Nov 2025 03:09:22 -0800 (PST) X-Relaying-Domain: iol.unh.edu Date: Fri, 14 Nov 2025 03:09:22 -0800 (PST) Message-ID: <69170de2.050a0220.288fac.2e29SMTPIN_ADDED_MISSING@mx.google.com> Received: from [172.21.0.2] (unknown [172.18.0.240]) by postal.iol.unh.edu (Postfix) with ESMTP id 0B45B6051830; Fri, 14 Nov 2025 06:09:22 -0500 (EST) Subject: |SUCCESS| pw158771 [PATCH] net/mlx5: fix uninitialized warning From: dpdklab@iol.unh.edu To: Test Report Cc: dpdk-test-reports@iol.unh.edu In-Reply-To: <20251113163301.285550-1-stephen@networkplumber.org> References: <20251113163301.285550-1-stephen@networkplumber.org> Content-Type: text/plain X-BeenThere: test-report@dpdk.org X-Mailman-Version: 2.1.29 Precedence: list List-Id: automatic DPDK test reports List-Unsubscribe: , List-Archive: List-Post: List-Help: List-Subscribe: , Errors-To: test-report-bounces@dpdk.org Test-Label: iol-compile-amd64-testing Test-Status: SUCCESS http://dpdk.org/patch/158771 _Testing PASS_ Submitter: Stephen Hemminger Date: Thursday, November 13 2025 16:33:01 DPDK git baseline: Repo:dpdk-next-net-mlx Branch: master CommitID:ae657d56b1f0ea979b3f611edf28d773efc2ddcf 158771 --> testing pass Upstream job id: Generic-DPDK-Compile-Meson#444194 Test environment and result as below: +-------------------------------+--------------------+-------------------------+------------------+ | Environment | dpdk_meson_compile | dpdk_llvm_clang_compile | dpdk_compile_ovs | +===============================+====================+=========================+==================+ | Ubuntu 20.04 | PASS | SKIPPED | SKIPPED | +-------------------------------+--------------------+-------------------------+------------------+ | FreeBSD 14.2 | PASS | SKIPPED | SKIPPED | +-------------------------------+--------------------+-------------------------+------------------+ | CentOS Stream 9 | PASS | SKIPPED | SKIPPED | +-------------------------------+--------------------+-------------------------+------------------+ | CentOS Stream 10 | PASS | SKIPPED | SKIPPED | +-------------------------------+--------------------+-------------------------+------------------+ | Debian GNU/Linux 12 | PASS | SKIPPED | SKIPPED | +-------------------------------+--------------------+-------------------------+------------------+ | Fedora Linux 42 | PASS | SKIPPED | PASS | +-------------------------------+--------------------+-------------------------+------------------+ | openSUSE Leap 15.6 | PASS | SKIPPED | SKIPPED | +-------------------------------+--------------------+-------------------------+------------------+ | Red Hat Enterprise Linux 8.10 | PASS | SKIPPED | SKIPPED | +-------------------------------+--------------------+-------------------------+------------------+ | Red Hat Enterprise Linux 9.5 | PASS | SKIPPED | SKIPPED | +-------------------------------+--------------------+-------------------------+------------------+ | Ubuntu 22.04 | PASS | SKIPPED | SKIPPED | +-------------------------------+--------------------+-------------------------+------------------+ | Ubuntu 24.04 | PASS | SKIPPED | PASS | +-------------------------------+--------------------+-------------------------+------------------+ | Windows Server 2022 | SKIPPED | PASS | SKIPPED | +-------------------------------+--------------------+-------------------------+------------------+ Ubuntu 20.04 Kernel: 4.19 Compiler: gcc gcc (Ubuntu 9.4.0-1ubuntu1~20.04.2) 9.4.0 FreeBSD 14.2 Kernel: 14.2-RELEASE Compiler: clang 18.1.6 CentOS Stream 9 Kernel: 5.15 Compiler: gcc gcc (GCC) 11.5.0 20240719 (Red Hat 11.5.0-11) CentOS Stream 10 Kernel: 5.15 Compiler: gcc gcc (GCC) 14.2.1 20250110 (Red Hat 14.2.1-8) Debian GNU/Linux 12 Kernel: 5.15 Compiler: gcc gcc (Debian 12.2.0-14+deb12u1) 12.2.0 Fedora Linux 42 Kernel: 5.15 Compiler: clang gcc (GCC) 15.2.1 20250808 (Red Hat 15.2.1-1) openSUSE Leap 15.6 Kernel: 5.15 Compiler: gcc gcc (SUSE Linux) 7.5.0 Red Hat Enterprise Linux 8.10 Kernel: 5.15 Compiler: gcc gcc (GCC) 8.5.0 20210514 (Red Hat 8.5.0-22) Red Hat Enterprise Linux 9.5 Kernel: 5.15 Compiler: gcc gcc (GCC) 11.5.0 20240719 (Red Hat 11.5.0-2) Ubuntu 22.04 Kernel: 5.15 Compiler: gcc gcc (Ubuntu 11.4.0-1ubuntu1~22.04) 11.4.0 Ubuntu 24.04 Kernel: 5.15 Compiler: gcc gcc (Ubuntu 13.3.0-6ubuntu2~24.04) 13.3.0 Windows Server 2022 Kernel: 10.0.20348.2031 Compiler: clang 15.0.7, gcc 14.1.0 (MinGW), and MSVC VS 19.39.33521 To view detailed results, visit: https://lab.dpdk.org/results/dashboard/patchsets/34579/ UNH-IOL DPDK Community Lab To manage your email subscriptions, visit: https://lab.dpdk.org/results/dashboard/preferences/subscriptions/