From mboxrd@z Thu Jan 1 00:00:00 1970 Return-Path: Received: from mails.dpdk.org (mails.dpdk.org [217.70.189.124]) by inbox.dpdk.org (Postfix) with ESMTP id 0DC5848B07 for ; Fri, 14 Nov 2025 12:13:18 +0100 (CET) Received: from mails.dpdk.org (localhost [127.0.0.1]) by mails.dpdk.org (Postfix) with ESMTP id D969740151; Fri, 14 Nov 2025 12:13:17 +0100 (CET) Received: from mail-il1-f227.google.com (mail-il1-f227.google.com [209.85.166.227]) by mails.dpdk.org (Postfix) with ESMTP id 5EAA540151 for ; Fri, 14 Nov 2025 12:13:16 +0100 (CET) Received: by mail-il1-f227.google.com with SMTP id e9e14a558f8ab-4331b4d5c6eso7171815ab.2 for ; Fri, 14 Nov 2025 03:13:16 -0800 (PST) DKIM-Signature: v=1; a=rsa-sha256; c=relaxed/relaxed; d=iol.unh.edu; s=unh-iol; t=1763118795; x=1763723595; darn=dpdk.org; h=references:in-reply-to:cc:to:from:subject:message-id:date:from:to :cc:subject:date:message-id:reply-to; bh=XWOa1E/mGSId5H9ZvfPdazfWUfQpHtxTdF/KNip2nVc=; b=UdVw7mL2BXy/HFHTUuoWAw4SoMwoQmj2xHXE1RPmcdxipYhgCKLifaejiov7qmSSNC hGnqxCPEEdd9ojU0yhSzmUNI1sQOrGYZ/6PrEKF5K/Y02dV5QWt6+D1YEuHlyr5LaYER 59MEWrX06UAQ7T2s57rFzoJiU9LgnB60Wa+4g= X-Google-DKIM-Signature: v=1; a=rsa-sha256; c=relaxed/relaxed; d=1e100.net; s=20230601; t=1763118795; x=1763723595; h=references:in-reply-to:cc:to:from:subject:message-id:date:x-gm-gg :x-gm-message-state:from:to:cc:subject:date:message-id:reply-to; bh=XWOa1E/mGSId5H9ZvfPdazfWUfQpHtxTdF/KNip2nVc=; b=sj10lqFqDB+diiULXnAYMBu98H3MD4hKUh8wH0g9OwpZHE58ilCemR4m6qdfS0ssYL 2I9ii+IMMO8TgFDq6ghLWeiA+mtY/WgOnmtXcJo0B5auWW6Iu54uHjcpiD2MFWgLOadl k26SSxSSoQ3qQFkAJXBWgMn74frrivtAe0/fhmdYi06QiFwiRubbE37MH12S8rjrG98b 5l0tyhF6K8Rpem1l5DEfvdB28ljK0WHXic43x+wRW2EF/+t0Or4O9Goo9JFDn4po+u00 BNQLncO5arW3svsr7QmXy+T0adpEJo+ZlQzXlFrE317x0xcd525E9ySeVupHQ/+WS7mL 1A3g== X-Gm-Message-State: AOJu0Yz9s7PJJ8ILDlSIDHTIujLUAZ2+wLDv62Zp5Bh29L4Utyrh+fIJ psy6tj0EyEoVxJwiSoW+N1866uBeA7QO5g+cuujtZc/WafdxAH7NLdvTjbF+r/jMnUVvxYQNLaj Izk6n5OZ8w0Xroa+zjb9sNLHpdaXU+lZX1RDWuDqpXepUpcikCeF3uuUfA5An X-Gm-Gg: ASbGncu9NhUDnNj4CVbV4ya17qXruGqly3sWPnIoCiY0SjETcl0BuYX+8NdutGsVAea bsEMFSLTTWQlA/j5yP9h43J5v52/GR7ws7s+Wl6pg+ojDyQyILvlIWxkyHMj+3jpS+qNWpeFDyv x8wTK4WHIR8jLRNTWdDfVNml7S7b07D4Td647DVx4WdsiaWvh5jGvh5OajNEBsgoSE23NSPNm/o t2Lyts0T6/M2GftgDSKKo2JVSEjX7feh5O96m9V5fJ5iZumoxITB6Rhk0uiC2iYxYg4h4nE2Twz WbOkSo2TboeP254ZvkzDs/qk8tzma01kB/xB6xTqzrvTfiEilolOPbKYADHISFC67pxP2XKUN57 i6Pu0EnsR X-Google-Smtp-Source: AGHT+IETcNCb+BhQOm7H1tEjeeM4/U1RmOMb8iHtuexRepISo+66CHBzdyWtKv+fc39nzhW79Iv8VfnbEUte X-Received: by 2002:a05:6e02:1561:b0:434:74a6:48fa with SMTP id e9e14a558f8ab-4348c94de71mr38004765ab.22.1763118795542; Fri, 14 Nov 2025 03:13:15 -0800 (PST) Received: from postal.iol.unh.edu (postal.iol.unh.edu. [2606:4100:3880:1234::84]) by smtp-relay.gmail.com with ESMTPS id e9e14a558f8ab-434833c613csm4118095ab.5.2025.11.14.03.13.15 (version=TLS1_2 cipher=ECDHE-ECDSA-AES128-GCM-SHA256 bits=128/128); Fri, 14 Nov 2025 03:13:15 -0800 (PST) X-Relaying-Domain: iol.unh.edu Date: Fri, 14 Nov 2025 03:13:15 -0800 (PST) Message-ID: <69170ecb.050a0220.2edfdf.3dc0SMTPIN_ADDED_MISSING@mx.google.com> Received: from [172.21.0.4] (unknown [172.18.0.240]) by postal.iol.unh.edu (Postfix) with ESMTP id 2FD6660003E7; Fri, 14 Nov 2025 06:13:15 -0500 (EST) Subject: |SUCCESS| pw158771 [PATCH] net/mlx5: fix uninitialized warning From: dpdklab@iol.unh.edu To: Test Report Cc: dpdk-test-reports@iol.unh.edu In-Reply-To: <20251113163301.285550-1-stephen@networkplumber.org> References: <20251113163301.285550-1-stephen@networkplumber.org> Content-Type: text/plain X-BeenThere: test-report@dpdk.org X-Mailman-Version: 2.1.29 Precedence: list List-Id: automatic DPDK test reports List-Unsubscribe: , List-Archive: List-Post: List-Help: List-Subscribe: , Errors-To: test-report-bounces@dpdk.org Test-Label: iol-compile-amd64-testing Test-Status: SUCCESS http://dpdk.org/patch/158771 _Testing PASS_ Submitter: Stephen Hemminger Date: Thursday, November 13 2025 16:33:01 DPDK git baseline: Repo:dpdk-next-net-mlx Branch: master CommitID:ae657d56b1f0ea979b3f611edf28d773efc2ddcf 158771 --> testing pass Upstream job id: Generic-DPDK-Compile-Meson#444197 Test environment and result as below: +-------------------------------+--------------------+-------------------------+------------------+ | Environment | dpdk_meson_compile | dpdk_llvm_clang_compile | dpdk_compile_ovs | +===============================+====================+=========================+==================+ | Ubuntu 20.04 | PASS | SKIPPED | SKIPPED | +-------------------------------+--------------------+-------------------------+------------------+ | FreeBSD 14.2 | PASS | SKIPPED | SKIPPED | +-------------------------------+--------------------+-------------------------+------------------+ | CentOS Stream 9 | PASS | SKIPPED | SKIPPED | +-------------------------------+--------------------+-------------------------+------------------+ | CentOS Stream 10 | PASS | SKIPPED | SKIPPED | +-------------------------------+--------------------+-------------------------+------------------+ | Debian GNU/Linux 12 | PASS | SKIPPED | SKIPPED | +-------------------------------+--------------------+-------------------------+------------------+ | Fedora Linux 42 | PASS | SKIPPED | PASS | +-------------------------------+--------------------+-------------------------+------------------+ | openSUSE Leap 15.6 | PASS | SKIPPED | SKIPPED | +-------------------------------+--------------------+-------------------------+------------------+ | Red Hat Enterprise Linux 8.10 | PASS | SKIPPED | SKIPPED | +-------------------------------+--------------------+-------------------------+------------------+ | Red Hat Enterprise Linux 9.5 | PASS | SKIPPED | SKIPPED | +-------------------------------+--------------------+-------------------------+------------------+ | Ubuntu 22.04 | PASS | SKIPPED | SKIPPED | +-------------------------------+--------------------+-------------------------+------------------+ | Ubuntu 24.04 | PASS | SKIPPED | PASS | +-------------------------------+--------------------+-------------------------+------------------+ | Alpine Linux 3.22.0 | PASS | SKIPPED | SKIPPED | +-------------------------------+--------------------+-------------------------+------------------+ | Windows Server 2022 | SKIPPED | PASS | SKIPPED | +-------------------------------+--------------------+-------------------------+------------------+ Ubuntu 20.04 Kernel: 4.19 Compiler: gcc gcc (Ubuntu 9.4.0-1ubuntu1~20.04.2) 9.4.0 FreeBSD 14.2 Kernel: 14.2-RELEASE Compiler: clang 18.1.6 CentOS Stream 9 Kernel: 5.15 Compiler: gcc gcc (GCC) 11.5.0 20240719 (Red Hat 11.5.0-11) CentOS Stream 10 Kernel: 5.15 Compiler: gcc gcc (GCC) 14.2.1 20250110 (Red Hat 14.2.1-8) Debian GNU/Linux 12 Kernel: 5.15 Compiler: gcc gcc (Debian 12.2.0-14+deb12u1) 12.2.0 Fedora Linux 42 Kernel: 5.15 Compiler: clang gcc (GCC) 15.2.1 20250808 (Red Hat 15.2.1-1) openSUSE Leap 15.6 Kernel: 5.15 Compiler: gcc gcc (SUSE Linux) 7.5.0 Red Hat Enterprise Linux 8.10 Kernel: 5.15 Compiler: gcc gcc (GCC) 8.5.0 20210514 (Red Hat 8.5.0-22) Red Hat Enterprise Linux 9.5 Kernel: 5.15 Compiler: gcc gcc (GCC) 11.5.0 20240719 (Red Hat 11.5.0-2) Ubuntu 22.04 Kernel: 5.15 Compiler: gcc gcc (Ubuntu 11.4.0-1ubuntu1~22.04) 11.4.0 Ubuntu 24.04 Kernel: 5.15 Compiler: gcc gcc (Ubuntu 13.3.0-6ubuntu2~24.04) 13.3.0 Alpine Linux 3.22.0 Kernel: 5.15 Compiler: gcc gcc (Alpine 14.2.0) 14.2.0 Windows Server 2022 Kernel: 10.0.20348.2031 Compiler: clang 15.0.7, gcc 14.1.0 (MinGW), and MSVC VS 19.39.33521 To view detailed results, visit: https://lab.dpdk.org/results/dashboard/patchsets/34579/ UNH-IOL DPDK Community Lab To manage your email subscriptions, visit: https://lab.dpdk.org/results/dashboard/preferences/subscriptions/