From mboxrd@z Thu Jan 1 00:00:00 1970 Return-Path: Received: from mails.dpdk.org (mails.dpdk.org [217.70.189.124]) by inbox.dpdk.org (Postfix) with ESMTP id 7B18848B07 for ; Fri, 14 Nov 2025 12:19:43 +0100 (CET) Received: from mails.dpdk.org (localhost [127.0.0.1]) by mails.dpdk.org (Postfix) with ESMTP id 741E940151; Fri, 14 Nov 2025 12:19:43 +0100 (CET) Received: from mail-il1-f226.google.com (mail-il1-f226.google.com [209.85.166.226]) by mails.dpdk.org (Postfix) with ESMTP id 2F2EC40151 for ; Fri, 14 Nov 2025 12:19:42 +0100 (CET) Received: by mail-il1-f226.google.com with SMTP id e9e14a558f8ab-4332ae0635fso14940185ab.2 for ; Fri, 14 Nov 2025 03:19:42 -0800 (PST) DKIM-Signature: v=1; a=rsa-sha256; c=relaxed/relaxed; d=iol.unh.edu; s=unh-iol; t=1763119181; x=1763723981; darn=dpdk.org; h=references:in-reply-to:cc:to:from:subject:message-id:date:from:to :cc:subject:date:message-id:reply-to; bh=EB2uwJF+6i1BA8UVhpICCuER+3LHESR6/LBrWohx0GM=; b=GkjO1llc2rihV2k1OvOSQG16jDVqH1iw/PJ9jCO/baP4rkeemvMSBBqdqd065KRRpR j1tswF93tBSpF35kMtRhtZAQSCWrnJBxlkUQFRW01e84NUp4HwlyI3fyHssdtAZYzpSm UkSMg5hy6/udv2nHeAJVLhvSkicIFcR+rAtBQ= X-Google-DKIM-Signature: v=1; a=rsa-sha256; c=relaxed/relaxed; d=1e100.net; s=20230601; t=1763119181; x=1763723981; h=references:in-reply-to:cc:to:from:subject:message-id:date:x-gm-gg :x-gm-message-state:from:to:cc:subject:date:message-id:reply-to; bh=EB2uwJF+6i1BA8UVhpICCuER+3LHESR6/LBrWohx0GM=; b=DysvDbPA/lZ4gAqqMTQIM/YAtLW2v68oA8o+TgKVHxL4ePexEIKR1IK9+2clLBBj0q iYqDcLKTHqXsCWq6Vzo4dxaO5fR3JNq8McBIJcxI6iEkl3ssZ2R2K92iHG5kz1bTlcg2 nLrg+AlBLFYSwie5DkoqhBSkOnG8zs4wPaOakqJ/9jd6ypUrJ4tmI6Ak0o+R41u+RVu+ XR4mnnNEIr+B2IUSC19VRjC2J+5otgT/KRlQ9icoKvFxuZKK6++FlAQFoCMh6h9PeiYI q07e4A8wRxvp0AsYVY3qt2u3jPNQnJJloP+R/HWGAU5+kQPWK5TA4CHyXl8jAtG0SKNE gOCA== X-Gm-Message-State: AOJu0YycvMGS1/u76si8e7c/KQ9/LGDGjsQ+eUOfRa1iziTbztCqGTa5 wqdu0dUgWmoNJMvyUUmSx+h2GZmwvB5tnsDB/jROSOBv6p+bTfglNLO6Yx9cm2brt5Nw5frkApq azLjpKZFwS8mUDnjxo2AttJbEBCD1jLgwLYOszz9KzgQm X-Gm-Gg: ASbGncv8FSQV57A/pRv08dYf1paT9z6NfDCUDstDvnqJrD083Ta9/e/oX3W2CZEJCWC UEHK+M2OK0ItN5MVBPr0vlwuyInymtDfYOMu4DLs9lvESjdxB2Ne/etgKB0Bij3IXFvuT397eB0 5U1p61DFOyL0iWGvcePAXUIDGO+lBzs+FIAC/5g4lz6LZr4vH3fms0M5eMstUWW7o5KP3fJswM/ hp7+oH2kkz5mXMnMQhtziu5Ak6dPiXta0yhdhfhQzmMJDl9QWDe43jQFOSwls85w2ABfzhztEmy 3ppTVsxdyerYnVZRf3qZCYY7E2QZRqpcBqGym/rNPH9ki9D9b9E+2Zr/szzxgro/yPhxqub/DNw aaAEPg1v/kClLWwhqqKW8E+H77VJHPz8= X-Google-Smtp-Source: AGHT+IEp/X/0N+T086iCwpqkwelXgm1N4532zVw5Lgylo7b/k0YUmteoidEti5dpnCzs7uyzKv6D3J0BiPmU X-Received: by 2002:a92:c262:0:b0:433:7a5f:9439 with SMTP id e9e14a558f8ab-4348c91de6fmr33025545ab.24.1763119181507; Fri, 14 Nov 2025 03:19:41 -0800 (PST) Received: from postal.iol.unh.edu (postal.iol.unh.edu. [132.177.123.84]) by smtp-relay.gmail.com with ESMTPS id e9e14a558f8ab-434839e2d05sm4249005ab.29.2025.11.14.03.19.41 (version=TLS1_2 cipher=ECDHE-ECDSA-AES128-GCM-SHA256 bits=128/128); Fri, 14 Nov 2025 03:19:41 -0800 (PST) X-Relaying-Domain: iol.unh.edu Date: Fri, 14 Nov 2025 03:19:41 -0800 (PST) Message-ID: <6917104d.920a0220.34f53e.3c8eSMTPIN_ADDED_MISSING@mx.google.com> Received: from [172.21.0.2] (unknown [172.18.0.240]) by postal.iol.unh.edu (Postfix) with ESMTP id 18D756051830; Fri, 14 Nov 2025 06:19:41 -0500 (EST) Subject: |SUCCESS| pw158769 [PATCH] [v2] net/mlx5: remove representor matchin From: dpdklab@iol.unh.edu To: Test Report Cc: dpdk-test-reports@iol.unh.edu In-Reply-To: <20251113131758.1524043-1-dsosnowski@nvidia.com> References: <20251113131758.1524043-1-dsosnowski@nvidia.com> Content-Type: text/plain X-BeenThere: test-report@dpdk.org X-Mailman-Version: 2.1.29 Precedence: list List-Id: automatic DPDK test reports List-Unsubscribe: , List-Archive: List-Post: List-Help: List-Subscribe: , Errors-To: test-report-bounces@dpdk.org Test-Label: iol-compile-amd64-testing Test-Status: SUCCESS http://dpdk.org/patch/158769 _Testing PASS_ Submitter: Dariusz Sosnowski Date: Thursday, November 13 2025 13:17:58 DPDK git baseline: Repo:dpdk-next-net-mlx Branch: master CommitID:ae657d56b1f0ea979b3f611edf28d773efc2ddcf 158769 --> testing pass Upstream job id: Windows-Compile-DPDK-VS#7540 Test environment and result as below: +-------------------------------+--------------------+------------------+-------------------+ | Environment | dpdk_meson_compile | dpdk_compile_ovs | dpdk_msvc_compile | +===============================+====================+==================+===================+ | FreeBSD 14.2 | PASS | SKIPPED | SKIPPED | +-------------------------------+--------------------+------------------+-------------------+ | Ubuntu 20.04 | PASS | SKIPPED | SKIPPED | +-------------------------------+--------------------+------------------+-------------------+ | CentOS Stream 9 | PASS | SKIPPED | SKIPPED | +-------------------------------+--------------------+------------------+-------------------+ | CentOS Stream 10 | PASS | SKIPPED | SKIPPED | +-------------------------------+--------------------+------------------+-------------------+ | Debian GNU/Linux 12 | PASS | SKIPPED | SKIPPED | +-------------------------------+--------------------+------------------+-------------------+ | Fedora Linux 42 | PASS | PASS | SKIPPED | +-------------------------------+--------------------+------------------+-------------------+ | openSUSE Leap 15.6 | PASS | SKIPPED | SKIPPED | +-------------------------------+--------------------+------------------+-------------------+ | Red Hat Enterprise Linux 8.10 | PASS | SKIPPED | SKIPPED | +-------------------------------+--------------------+------------------+-------------------+ | Red Hat Enterprise Linux 9.5 | PASS | SKIPPED | SKIPPED | +-------------------------------+--------------------+------------------+-------------------+ | Ubuntu 22.04 | PASS | SKIPPED | SKIPPED | +-------------------------------+--------------------+------------------+-------------------+ | Ubuntu 24.04 | PASS | PASS | SKIPPED | +-------------------------------+--------------------+------------------+-------------------+ | Alpine Linux 3.22.0 | PASS | SKIPPED | SKIPPED | +-------------------------------+--------------------+------------------+-------------------+ | Windows Server 2022 | SKIPPED | SKIPPED | PASS | +-------------------------------+--------------------+------------------+-------------------+ FreeBSD 14.2 Kernel: 14.2-RELEASE Compiler: clang 18.1.6 Ubuntu 20.04 Kernel: 4.19 Compiler: gcc gcc (Ubuntu 9.4.0-1ubuntu1~20.04.2) 9.4.0 CentOS Stream 9 Kernel: 5.15 Compiler: gcc gcc (GCC) 11.5.0 20240719 (Red Hat 11.5.0-11) CentOS Stream 10 Kernel: 5.15 Compiler: gcc gcc (GCC) 14.2.1 20250110 (Red Hat 14.2.1-8) Debian GNU/Linux 12 Kernel: 5.15 Compiler: gcc gcc (Debian 12.2.0-14+deb12u1) 12.2.0 Fedora Linux 42 Kernel: 5.15 Compiler: clang gcc (GCC) 15.2.1 20250808 (Red Hat 15.2.1-1) openSUSE Leap 15.6 Kernel: 5.15 Compiler: gcc gcc (SUSE Linux) 7.5.0 Red Hat Enterprise Linux 8.10 Kernel: 5.15 Compiler: gcc gcc (GCC) 8.5.0 20210514 (Red Hat 8.5.0-22) Red Hat Enterprise Linux 9.5 Kernel: 5.15 Compiler: gcc gcc (GCC) 11.5.0 20240719 (Red Hat 11.5.0-2) Ubuntu 22.04 Kernel: 5.15 Compiler: gcc gcc (Ubuntu 11.4.0-1ubuntu1~22.04) 11.4.0 Ubuntu 24.04 Kernel: 5.15 Compiler: gcc gcc (Ubuntu 13.3.0-6ubuntu2~24.04) 13.3.0 Alpine Linux 3.22.0 Kernel: 5.15 Compiler: gcc gcc (Alpine 14.2.0) 14.2.0 Windows Server 2022 Kernel: 10.0.20348.2031 Compiler: clang 15.0.7, gcc 14.1.0 (MinGW), and MSVC VS 19.39.33521 To view detailed results, visit: https://lab.dpdk.org/results/dashboard/patchsets/34577/ UNH-IOL DPDK Community Lab To manage your email subscriptions, visit: https://lab.dpdk.org/results/dashboard/preferences/subscriptions/