From mboxrd@z Thu Jan 1 00:00:00 1970 Return-Path: Received: from mails.dpdk.org (mails.dpdk.org [217.70.189.124]) by inbox.dpdk.org (Postfix) with ESMTP id D943048B07 for ; Fri, 14 Nov 2025 12:32:22 +0100 (CET) Received: from mails.dpdk.org (localhost [127.0.0.1]) by mails.dpdk.org (Postfix) with ESMTP id D09E640151; Fri, 14 Nov 2025 12:32:22 +0100 (CET) Received: from mail-pf1-f225.google.com (mail-pf1-f225.google.com [209.85.210.225]) by mails.dpdk.org (Postfix) with ESMTP id BDA6F40151 for ; Fri, 14 Nov 2025 12:32:21 +0100 (CET) Received: by mail-pf1-f225.google.com with SMTP id d2e1a72fcca58-7b9215e55e6so1266757b3a.2 for ; Fri, 14 Nov 2025 03:32:21 -0800 (PST) DKIM-Signature: v=1; a=rsa-sha256; c=relaxed/relaxed; d=iol.unh.edu; s=unh-iol; t=1763119941; x=1763724741; darn=dpdk.org; h=references:in-reply-to:cc:to:from:subject:message-id:date:from:to :cc:subject:date:message-id:reply-to; bh=qx+pTWajxlNQc22mId3ukVI7WZJV/Di6jDTgnhiNyFY=; b=Ioy3TezMMr3zctb/+rpf9KVSM5OcGIx1j+5no7MX1ZVRvyVTtXxbs//eAuoTTiPTvf QZYT3StQTVPwau44/NigpE12bkAeJCNskH9Y0Xm2Mv6Ze7YliKOYPRTQwY5fjJCXUlII 7EXYjqZYp+pg2+amnaR3qFnlclLsBjgZhBGQE= X-Google-DKIM-Signature: v=1; a=rsa-sha256; c=relaxed/relaxed; d=1e100.net; s=20230601; t=1763119941; x=1763724741; h=references:in-reply-to:cc:to:from:subject:message-id:date:x-gm-gg :x-gm-message-state:from:to:cc:subject:date:message-id:reply-to; bh=qx+pTWajxlNQc22mId3ukVI7WZJV/Di6jDTgnhiNyFY=; b=tyX/m3aqydfxlgOM7DigWkYpBtxcstl4y7FEWxrYp+QwYI8hu18LBnDDZ3ojxuBa8O iFKJ9XfVkyNSwdlklRf/wPG/Q3sytEyKVAy9I+hqh1fcicIklOaz1+phALsi6nuQIp3I 8AykF6Oi5qntJHW4+yBRnEiIm2qSpmAav8q2LvT8X0Bzlx72TvP7Llf/VKJ9QB34S7c/ UZdoRUA04om5j1q5/3AE69X/gwYrH8gO/YaXvw+GLBungpr6qn9pMYwCUZfaDcYvrH5G LoxxmwUKMBiRP2p3KHiou3ENoM5BJwVNpSss8YOVDAf2oKeWRnEI9xINECQvRP3g237D LG/A== X-Gm-Message-State: AOJu0YyppDpPUWi16vB386Qca2BNqxzLbrvk3nzpWjK7TsKUZW5aOuWM QoQTjRvbfcY+nydz1JnqJKUyLz9hp6twLj2CMctqIo5VZjNmzyo8d3rPF/GHVfOrO0DzIt+GTP/ CFRLFImnW6jR1fwfjPCTI997SZaSzguphbMJykkGhRUO80jtE5KU2OSoDj+Dg X-Gm-Gg: ASbGnctNGsb0qGqkWNN2/O4D45sWA8mwjaW3m5tP3EkF3ex1ZNxa26rpTwgO79WVqVf c/k0+xIIMYRkXGqlfAzikkllQ+Cvx3X54ZBplTYiaFfYjWqkrxQKS/9kkEuNWteKwXkLVLfpeFW d+asBdIPsjFbQlfePs7VF8MUT97XH//D0Ktld+CPXJw6XlUliEYaaRfr1JMU3oqeJsmqgjVsXB+ 12Poq+krXzo+QY7f9GAFvbW/GEMNMfxZvU9nGwjw3Ctc+rej6oCUv1f1WlGFCRODix/8y+DY32y BZP8+HK34rCZL+wjLOe29Av1Xdb1V47mw+epVQdcCDITAXSUziuxfhb7TURL1VArDMTeYRXOxU0 PcvP6ycDe X-Google-Smtp-Source: AGHT+IE+Yz8Sda/VttcAB50ugRhPcmhwimBaCubsVHHkb8ejbL2VNjnIbJsQNxP0UZJjipMO0BTF9kdA5Ofl X-Received: by 2002:a05:7022:6625:b0:11a:4046:860d with SMTP id a92af1059eb24-11b40fb06f9mr963705c88.17.1763119940766; Fri, 14 Nov 2025 03:32:20 -0800 (PST) Received: from postal.iol.unh.edu (postal.iol.unh.edu. [2606:4100:3880:1234::84]) by smtp-relay.gmail.com with ESMTPS id a92af1059eb24-11b060912e4sm204655c88.2.2025.11.14.03.32.20 (version=TLS1_2 cipher=ECDHE-ECDSA-AES128-GCM-SHA256 bits=128/128); Fri, 14 Nov 2025 03:32:20 -0800 (PST) X-Relaying-Domain: iol.unh.edu Date: Fri, 14 Nov 2025 03:32:20 -0800 (PST) Message-ID: <69171344.050a0220.e1832.9c42SMTPIN_ADDED_MISSING@mx.google.com> Received: from [172.21.0.5] (unknown [172.18.0.240]) by postal.iol.unh.edu (Postfix) with ESMTP id C59A460003E7; Fri, 14 Nov 2025 06:32:19 -0500 (EST) Subject: |SUCCESS| pw158771 [PATCH] net/mlx5: fix uninitialized warning From: dpdklab@iol.unh.edu To: Test Report Cc: dpdk-test-reports@iol.unh.edu In-Reply-To: <20251113163301.285550-1-stephen@networkplumber.org> References: <20251113163301.285550-1-stephen@networkplumber.org> Content-Type: text/plain X-BeenThere: test-report@dpdk.org X-Mailman-Version: 2.1.29 Precedence: list List-Id: automatic DPDK test reports List-Unsubscribe: , List-Archive: List-Post: List-Help: List-Subscribe: , Errors-To: test-report-bounces@dpdk.org Test-Label: iol-compile-amd64-testing Test-Status: SUCCESS http://dpdk.org/patch/158771 _Testing PASS_ Submitter: Stephen Hemminger Date: Thursday, November 13 2025 16:33:01 DPDK git baseline: Repo:dpdk-next-net-mlx Branch: master CommitID:ae657d56b1f0ea979b3f611edf28d773efc2ddcf 158771 --> testing pass Upstream job id: Generic-DPDK-Compile-Meson#444199 Test environment and result as below: +-------------------------------+--------------------+-------------------------+------------------+ | Environment | dpdk_meson_compile | dpdk_llvm_clang_compile | dpdk_compile_ovs | +===============================+====================+=========================+==================+ | Ubuntu 20.04 | PASS | SKIPPED | SKIPPED | +-------------------------------+--------------------+-------------------------+------------------+ | FreeBSD 14.2 | PASS | SKIPPED | SKIPPED | +-------------------------------+--------------------+-------------------------+------------------+ | CentOS Stream 9 | PASS | SKIPPED | SKIPPED | +-------------------------------+--------------------+-------------------------+------------------+ | CentOS Stream 10 | PASS | SKIPPED | SKIPPED | +-------------------------------+--------------------+-------------------------+------------------+ | Debian GNU/Linux 12 | PASS | SKIPPED | SKIPPED | +-------------------------------+--------------------+-------------------------+------------------+ | Fedora Linux 42 | PASS | SKIPPED | PASS | +-------------------------------+--------------------+-------------------------+------------------+ | openSUSE Leap 15.6 | PASS | SKIPPED | SKIPPED | +-------------------------------+--------------------+-------------------------+------------------+ | Red Hat Enterprise Linux 8.10 | PASS | SKIPPED | SKIPPED | +-------------------------------+--------------------+-------------------------+------------------+ | Red Hat Enterprise Linux 9.5 | PASS | SKIPPED | SKIPPED | +-------------------------------+--------------------+-------------------------+------------------+ | Ubuntu 22.04 | PASS | SKIPPED | SKIPPED | +-------------------------------+--------------------+-------------------------+------------------+ | Ubuntu 24.04 | PASS | SKIPPED | PASS | +-------------------------------+--------------------+-------------------------+------------------+ | Alpine Linux 3.22.0 | PASS | SKIPPED | SKIPPED | +-------------------------------+--------------------+-------------------------+------------------+ | Windows Server 2022 | SKIPPED | PASS | SKIPPED | +-------------------------------+--------------------+-------------------------+------------------+ Ubuntu 20.04 Kernel: 4.19 Compiler: gcc gcc (Ubuntu 9.4.0-1ubuntu1~20.04.2) 9.4.0 FreeBSD 14.2 Kernel: 14.2-RELEASE Compiler: clang 18.1.6 CentOS Stream 9 Kernel: 5.15 Compiler: gcc gcc (GCC) 11.5.0 20240719 (Red Hat 11.5.0-11) CentOS Stream 10 Kernel: 5.15 Compiler: gcc gcc (GCC) 14.2.1 20250110 (Red Hat 14.2.1-8) Debian GNU/Linux 12 Kernel: 5.15 Compiler: gcc gcc (Debian 12.2.0-14+deb12u1) 12.2.0 Fedora Linux 42 Kernel: 5.15 Compiler: clang gcc (GCC) 15.2.1 20250808 (Red Hat 15.2.1-1) openSUSE Leap 15.6 Kernel: 5.15 Compiler: gcc gcc (SUSE Linux) 7.5.0 Red Hat Enterprise Linux 8.10 Kernel: 5.15 Compiler: gcc gcc (GCC) 8.5.0 20210514 (Red Hat 8.5.0-22) Red Hat Enterprise Linux 9.5 Kernel: 5.15 Compiler: gcc gcc (GCC) 11.5.0 20240719 (Red Hat 11.5.0-2) Ubuntu 22.04 Kernel: 5.15 Compiler: gcc gcc (Ubuntu 11.4.0-1ubuntu1~22.04) 11.4.0 Ubuntu 24.04 Kernel: 5.15 Compiler: gcc gcc (Ubuntu 13.3.0-6ubuntu2~24.04) 13.3.0 Alpine Linux 3.22.0 Kernel: 5.15 Compiler: gcc gcc (Alpine 14.2.0) 14.2.0 Windows Server 2022 Kernel: 10.0.20348.2031 Compiler: clang 15.0.7, gcc 14.1.0 (MinGW), and MSVC VS 19.39.33521 To view detailed results, visit: https://lab.dpdk.org/results/dashboard/patchsets/34579/ UNH-IOL DPDK Community Lab To manage your email subscriptions, visit: https://lab.dpdk.org/results/dashboard/preferences/subscriptions/