From mboxrd@z Thu Jan 1 00:00:00 1970 Return-Path: Received: from mails.dpdk.org (mails.dpdk.org [217.70.189.124]) by inbox.dpdk.org (Postfix) with ESMTP id 2C2B748B07 for ; Fri, 14 Nov 2025 12:34:23 +0100 (CET) Received: from mails.dpdk.org (localhost [127.0.0.1]) by mails.dpdk.org (Postfix) with ESMTP id 082D740151; Fri, 14 Nov 2025 12:34:23 +0100 (CET) Received: from mail-pj1-f100.google.com (mail-pj1-f100.google.com [209.85.216.100]) by mails.dpdk.org (Postfix) with ESMTP id 3FB3A40151 for ; Fri, 14 Nov 2025 12:34:21 +0100 (CET) Received: by mail-pj1-f100.google.com with SMTP id 98e67ed59e1d1-34361025290so1569528a91.1 for ; Fri, 14 Nov 2025 03:34:21 -0800 (PST) DKIM-Signature: v=1; a=rsa-sha256; c=relaxed/relaxed; d=iol.unh.edu; s=unh-iol; t=1763120060; x=1763724860; darn=dpdk.org; h=references:in-reply-to:cc:to:from:subject:message-id:date:from:to :cc:subject:date:message-id:reply-to; bh=Xt1NNchiR4syIqJU81UgJhXBLyTjowp4+9TrjhttDuY=; b=gt8ZVqtiDE1g5P+toydfKij+3vRj+jbMDpaSCFbkBBwZVdkMLf3wof5gCcY7MDoKja PH4Oo6vTA9YkHUH1l1Dyvb7S8GzFqPbKFkalztdwuP0BydN0HMtPduoHbvKEr35XBydA RVBSZN7wQKbLQElnY7MSZ+F0xewfRXCYGvZ1Q= X-Google-DKIM-Signature: v=1; a=rsa-sha256; c=relaxed/relaxed; d=1e100.net; s=20230601; t=1763120060; x=1763724860; h=references:in-reply-to:cc:to:from:subject:message-id:date:x-gm-gg :x-gm-message-state:from:to:cc:subject:date:message-id:reply-to; bh=Xt1NNchiR4syIqJU81UgJhXBLyTjowp4+9TrjhttDuY=; b=GzBqOPMrq573/TQaMpQAmRxVE3kcTE4HdPEnubR3WOx9Ss6ISsLWJeZoEHzixfBAHX /pujeqOEaO+bXsGQdiFLRUQJ6PG3nKz80x/dAc8JwqWJIcVdBVMBpDpUzIroeZUBVnCG /2Apo6m7g7V1lPkkhXM2s/WKURGTGCkLCCaqhIhqwGCH88Tz3bwWgpm2WJnVjd6XGxYx 3Gz1MqQfLKdXVLcc2e1DJo4TEI+nf/ZOR9suQClI4hqnLh7bHfLcFnFqjIb4mgu23Dd+ b1IeJ8qvTUXeL6854oNXwHp3lE+xey75keDYN7R4NyGvN1ztb21NTG4kY0KS3/YCwAxx cdxA== X-Gm-Message-State: AOJu0YyOSjOeaQ08i5iGSb4AHogEajA/xUGUEvkiXf+CbMKJxG9iQYgq kQFtN3FmRdEX9O3AbJkRLs1qMDzVXyY1A4X/BTanpWL57sLykOZFR1PWsv5GHfsXTXkjXbzy2mg OG7853WGrAxOgy3F30/tP4QAP2oEBgCkcy8A23tW9sqZ5 X-Gm-Gg: ASbGncttsb8caWNR/UDvhV7FcB6TGukWjx/YGOMH3U8hUngouH23fQqwqKj4Y97PJx0 Vz4cx+5RbwiLiX25W5IulteeRIaAiOvszZQG3x17qcuvJDiG7jCN9zksJf0W3lO7TEZ8ZxGfpSa KVEu/RBFnBY/n8/8mT7fRq4qXeqx0u4+mqp2DBg869sEWYpvJ2dNUoqfb14IegZuv/W5FsAarGw +wr7eLjXcr9496gRR7oFLjpv99TnmqwkMcYiEqfHEWWiL23+6kT6td6oN09jdberoAQ75IPbtHc YnH6732GvWiLo60qF/YWdEc+2SKQFaxAlaOj/3ko8e2+gzuqHzFn5fyZWP91vITBy/wDYh6op8Q XQKoNGdBoZkPLHnRFpkRYnyyp6vH5dj8= X-Google-Smtp-Source: AGHT+IGBP+lPOKa3KQRgfA/sHVkEqxddShN2Syb1ISCD6DrszdF+GFfeEM4gjJTYYtvWyxgJkV90IYGES1q2 X-Received: by 2002:a17:90b:2dc6:b0:32e:7340:a7f7 with SMTP id 98e67ed59e1d1-343f9d90ca2mr2681744a91.2.1763120060381; Fri, 14 Nov 2025 03:34:20 -0800 (PST) Received: from postal.iol.unh.edu (postal.iol.unh.edu. [132.177.123.84]) by smtp-relay.gmail.com with ESMTPS id 98e67ed59e1d1-343e07c8c9fsm962280a91.6.2025.11.14.03.34.20 (version=TLS1_2 cipher=ECDHE-ECDSA-AES128-GCM-SHA256 bits=128/128); Fri, 14 Nov 2025 03:34:20 -0800 (PST) X-Relaying-Domain: iol.unh.edu Date: Fri, 14 Nov 2025 03:34:20 -0800 (PST) Message-ID: <691713bc.170a0220.3c0224.f176SMTPIN_ADDED_MISSING@mx.google.com> Received: from [172.21.0.2] (unknown [172.18.0.240]) by postal.iol.unh.edu (Postfix) with ESMTP id 646976051830; Fri, 14 Nov 2025 06:34:19 -0500 (EST) Subject: |SUCCESS| pw158752 [PATCH] ethdev: add GENEVE encapsulation and deca From: dpdklab@iol.unh.edu To: Test Report Cc: dpdk-test-reports@iol.unh.edu, Stephen Hemminger In-Reply-To: <20251113102158.48040-1-sunyang.wu@jaguarmicro.com> References: <20251113102158.48040-1-sunyang.wu@jaguarmicro.com> Content-Type: text/plain X-BeenThere: test-report@dpdk.org X-Mailman-Version: 2.1.29 Precedence: list List-Id: automatic DPDK test reports List-Unsubscribe: , List-Archive: List-Post: List-Help: List-Subscribe: , Errors-To: test-report-bounces@dpdk.org Test-Label: iol-unit-amd64-testing Test-Status: SUCCESS http://dpdk.org/patch/158752 _Testing PASS_ Submitter: Sunyang Wu Date: Thursday, November 13 2025 10:21:58 DPDK git baseline: Repo:dpdk-next-net Branch: master CommitID:29807269854f9bfc72f1323273de8e23adc724d4 158752 --> testing pass Upstream job id: Generic-VM-Unit-Test-DPDK#32531 Test environment and result as below: +-------------------------------+----------------+ | Environment | dpdk_unit_test | +===============================+================+ | CentOS Stream 9 | PASS | +-------------------------------+----------------+ | CentOS Stream 10 | PASS | +-------------------------------+----------------+ | Fedora Linux 40 | PASS | +-------------------------------+----------------+ | Fedora Linux 41 | PASS | +-------------------------------+----------------+ | Fedora Linux 42 | PASS | +-------------------------------+----------------+ | Debian GNU/Linux 12 | PASS | +-------------------------------+----------------+ | Ubuntu 22.04 | PASS | +-------------------------------+----------------+ | Red Hat Enterprise Linux 8.10 | PASS | +-------------------------------+----------------+ | Ubuntu 20.04 | PASS | +-------------------------------+----------------+ | Red Hat Enterprise Linux 9.5 | PASS | +-------------------------------+----------------+ | Ubuntu 24.04 | PASS | +-------------------------------+----------------+ | Windows Server 2022 | PASS | +-------------------------------+----------------+ CentOS Stream 9 Kernel: 5.15 Compiler: gcc gcc (GCC) 11.5.0 20240719 (Red Hat 11.5.0-11) CentOS Stream 10 Kernel: 5.15 Compiler: gcc gcc (GCC) 14.2.1 20250110 (Red Hat 14.2.1-8) Fedora Linux 40 Kernel: 5.15 Compiler: gcc gcc (GCC) 14.2.1 20240912 (Red Hat 14.2.1-3) Fedora Linux 41 Kernel: 5.15 Compiler: gcc gcc (GCC) 14.3.1 20250523 (Red Hat 14.3.1-1) Fedora Linux 42 Kernel: 5.15 Compiler: gcc gcc (GCC) 15.2.1 20250808 (Red Hat 15.2.1-1) Debian GNU/Linux 12 Kernel: 5.15 Compiler: gcc gcc (Debian 12.2.0-14+deb12u1) 12.2.0 Ubuntu 22.04 Kernel: 5.15 Compiler: gcc gcc (Ubuntu 11.4.0-1ubuntu1~22.04) 11.4.0 Red Hat Enterprise Linux 8.10 Kernel: 5.15 Compiler: gcc gcc (GCC) 8.5.0 20210514 (Red Hat 8.5.0-22) Ubuntu 20.04 Kernel: 5.15 Compiler: gcc gcc (Ubuntu 9.4.0-1ubuntu1~20.04.2) 9.4.0 Red Hat Enterprise Linux 9.5 Kernel: 5.15 Compiler: gcc gcc (GCC) 11.5.0 20240719 (Red Hat 11.5.0-2) Ubuntu 24.04 Kernel: 5.15 Compiler: gcc gcc (Ubuntu 13.3.0-6ubuntu2~24.04) 13.3.0 Windows Server 2022 Kernel: 10.0.20348.2031 Compiler: clang 15.0.7, gcc 14.1.0 (MinGW), and MSVC VS 19.39.33521 To view detailed results, visit: https://lab.dpdk.org/results/dashboard/patchsets/34569/ UNH-IOL DPDK Community Lab To manage your email subscriptions, visit: https://lab.dpdk.org/results/dashboard/preferences/subscriptions/