From mboxrd@z Thu Jan 1 00:00:00 1970 Return-Path: Received: from mails.dpdk.org (mails.dpdk.org [217.70.189.124]) by inbox.dpdk.org (Postfix) with ESMTP id B5BAE48B07 for ; Fri, 14 Nov 2025 12:52:36 +0100 (CET) Received: from mails.dpdk.org (localhost [127.0.0.1]) by mails.dpdk.org (Postfix) with ESMTP id B056D40151; Fri, 14 Nov 2025 12:52:36 +0100 (CET) Received: from mail-pl1-f226.google.com (mail-pl1-f226.google.com [209.85.214.226]) by mails.dpdk.org (Postfix) with ESMTP id E6F1440151 for ; Fri, 14 Nov 2025 12:52:34 +0100 (CET) Received: by mail-pl1-f226.google.com with SMTP id d9443c01a7336-29516a36affso19858155ad.3 for ; Fri, 14 Nov 2025 03:52:34 -0800 (PST) DKIM-Signature: v=1; a=rsa-sha256; c=relaxed/relaxed; d=iol.unh.edu; s=unh-iol; t=1763121154; x=1763725954; darn=dpdk.org; h=references:in-reply-to:cc:to:from:subject:message-id:date:from:to :cc:subject:date:message-id:reply-to; bh=N5WZvckD2IyDAnoapScg1CTb2Djm3fqTh+w9RAmDh2E=; b=LO+0HtEP4d1MeaR/S45EcWd2OSkWwKGv6G2zogUukWyLnPL4Xtz4hMctvO/b0lHvE1 j9YDlzpgkXm1crkZqCNTjKXQeR5qRifs5TQ9GfXL7DtapcE1kF4I9/WsCUFNPJnyQwQH x5hY6qdyEr9BdQxVtII2wSaJDbxXVdXCqdLHY= X-Google-DKIM-Signature: v=1; a=rsa-sha256; c=relaxed/relaxed; d=1e100.net; s=20230601; t=1763121154; x=1763725954; h=references:in-reply-to:cc:to:from:subject:message-id:date:x-gm-gg :x-gm-message-state:from:to:cc:subject:date:message-id:reply-to; bh=N5WZvckD2IyDAnoapScg1CTb2Djm3fqTh+w9RAmDh2E=; b=R3eQ0pj2al135OLjDIGkgfFI+AgDUIFjRLz7LlbMYG2seJwqR7/9B2waPY1eTpvJbI hRCUuyGE1WkMWMeBEXhDjUgalJkqk2QSwiIXDgv2BHRPCXoNC//4IktZw/+LU1Pgiw9M X0jYW8+24hYZqe371yjSxvEptYNHHtNl1jDsfihotMTJh9NdUWNO5fc3e11HoQjzcvKF u8ayBSgGXbHNoiNDtm/L3oheV5a26qs35aEPnmj/gp/vL4nXSTdoEU8zBpiuu0Pshdcy y3VVcOLu2fodBNA+6vU57vmMim1MNxcdWIdvMKNpXFieK7xsJSphrA5UMHKZEFJP9OA5 NdZQ== X-Gm-Message-State: AOJu0YzSFMjso2SDBtRJZpWnR169a8hAnwYLnxY2rCSOlebO6tb1hyU1 fMyZZCgSqr6qaITkp1Vqu/o6UvaMVZGGajp8Pu0qBEHRzvh1HE5Ri0WwLJw8eiFTlngoFdvXxoK Oh3BVooXjTW0/sP/uc5g8orJfz+3E9OFX1tfIhBFZCXZA X-Gm-Gg: ASbGncuMsjrc7+pmHPdwzYhD3oXRcys4bOgqeBYCy0EFbDLhfGjidx10ejRQsH/u1QD RBBXGfkwVDCElr2E9k9ZlNZuBASHZdc06LJkbx8p4bq0SJgYpGO4KR+RNYb7G3V/DcO1q3nMBhc bEQt76FzmgMgdW3nerCQ1pQnPOmbSnGqgRFBMPtQFZ20EZUWskfn8gtOi2QW+rZeSbJqugWE9EV v3RGruwdYEzHKbhN+rr2H4NLCoQ7+/gSS3/Vg0KZDelGDBIsqUhKq4iC4fq90p/NfgmH+3kdgs0 QzJtrrly2S3t5cMALqGxJ3vgZwmupnB0haBzoAApg5hqmIZ0urXXfa3UrYEo+9HKMCQ+eANM9fH tj+l7DB7tZWIbinkdKeLFswYnQuu2kt8= X-Google-Smtp-Source: AGHT+IFIn34qGsOQUkmzdWld7dwff0D4oFNZqOI3vDrYG4wZA5/XhtW3rBi0+RTfA+G5tXk2l/gwCJV5Zk5q X-Received: by 2002:a17:903:1c5:b0:295:5945:2920 with SMTP id d9443c01a7336-2986a72c2dfmr30232965ad.34.1763121154085; Fri, 14 Nov 2025 03:52:34 -0800 (PST) Received: from postal.iol.unh.edu (postal.iol.unh.edu. [132.177.123.84]) by smtp-relay.gmail.com with ESMTPS id d9443c01a7336-2985c234263sm5099575ad.1.2025.11.14.03.52.33 (version=TLS1_2 cipher=ECDHE-ECDSA-AES128-GCM-SHA256 bits=128/128); Fri, 14 Nov 2025 03:52:34 -0800 (PST) X-Relaying-Domain: iol.unh.edu Date: Fri, 14 Nov 2025 03:52:34 -0800 (PST) Message-ID: <69171802.170a0220.30e0d7.8690SMTPIN_ADDED_MISSING@mx.google.com> Received: from [172.21.0.2] (unknown [172.18.0.240]) by postal.iol.unh.edu (Postfix) with ESMTP id 4B51F6051830; Fri, 14 Nov 2025 06:52:33 -0500 (EST) Subject: |SUCCESS| pw158752 [PATCH] ethdev: add GENEVE encapsulation and deca From: dpdklab@iol.unh.edu To: Test Report Cc: dpdk-test-reports@iol.unh.edu, Stephen Hemminger In-Reply-To: <20251113102158.48040-1-sunyang.wu@jaguarmicro.com> References: <20251113102158.48040-1-sunyang.wu@jaguarmicro.com> Content-Type: text/plain X-BeenThere: test-report@dpdk.org X-Mailman-Version: 2.1.29 Precedence: list List-Id: automatic DPDK test reports List-Unsubscribe: , List-Archive: List-Post: List-Help: List-Subscribe: , Errors-To: test-report-bounces@dpdk.org Test-Label: iol-unit-amd64-testing Test-Status: SUCCESS http://dpdk.org/patch/158752 _Testing PASS_ Submitter: Sunyang Wu Date: Thursday, November 13 2025 10:21:58 DPDK git baseline: Repo:dpdk-next-net Branch: master CommitID:29807269854f9bfc72f1323273de8e23adc724d4 158752 --> testing pass Upstream job id: Generic-VM-Unit-Test-DPDK#32532 Test environment and result as below: +-------------------------------+----------------+ | Environment | dpdk_unit_test | +===============================+================+ | CentOS Stream 9 | PASS | +-------------------------------+----------------+ | CentOS Stream 10 | PASS | +-------------------------------+----------------+ | Fedora Linux 40 | PASS | +-------------------------------+----------------+ | Fedora Linux 41 | PASS | +-------------------------------+----------------+ | Fedora Linux 42 | PASS | +-------------------------------+----------------+ | Debian GNU/Linux 12 | PASS | +-------------------------------+----------------+ | Ubuntu 22.04 | PASS | +-------------------------------+----------------+ | Red Hat Enterprise Linux 8.10 | PASS | +-------------------------------+----------------+ | Ubuntu 20.04 | PASS | +-------------------------------+----------------+ | Red Hat Enterprise Linux 9.5 | PASS | +-------------------------------+----------------+ | Ubuntu 24.04 | PASS | +-------------------------------+----------------+ | Windows Server 2022 | PASS | +-------------------------------+----------------+ CentOS Stream 9 Kernel: 5.15 Compiler: gcc gcc (GCC) 11.5.0 20240719 (Red Hat 11.5.0-11) CentOS Stream 10 Kernel: 5.15 Compiler: gcc gcc (GCC) 14.2.1 20250110 (Red Hat 14.2.1-8) Fedora Linux 40 Kernel: 5.15 Compiler: gcc gcc (GCC) 14.2.1 20240912 (Red Hat 14.2.1-3) Fedora Linux 41 Kernel: 5.15 Compiler: gcc gcc (GCC) 14.3.1 20250523 (Red Hat 14.3.1-1) Fedora Linux 42 Kernel: 5.15 Compiler: gcc gcc (GCC) 15.2.1 20250808 (Red Hat 15.2.1-1) Debian GNU/Linux 12 Kernel: 5.15 Compiler: gcc gcc (Debian 12.2.0-14+deb12u1) 12.2.0 Ubuntu 22.04 Kernel: 5.15 Compiler: gcc gcc (Ubuntu 11.4.0-1ubuntu1~22.04) 11.4.0 Red Hat Enterprise Linux 8.10 Kernel: 5.15 Compiler: gcc gcc (GCC) 8.5.0 20210514 (Red Hat 8.5.0-22) Ubuntu 20.04 Kernel: 5.15 Compiler: gcc gcc (Ubuntu 9.4.0-1ubuntu1~20.04.2) 9.4.0 Red Hat Enterprise Linux 9.5 Kernel: 5.15 Compiler: gcc gcc (GCC) 11.5.0 20240719 (Red Hat 11.5.0-2) Ubuntu 24.04 Kernel: 5.15 Compiler: gcc gcc (Ubuntu 13.3.0-6ubuntu2~24.04) 13.3.0 Windows Server 2022 Kernel: 10.0.20348.2031 Compiler: clang 15.0.7, gcc 14.1.0 (MinGW), and MSVC VS 19.39.33521 To view detailed results, visit: https://lab.dpdk.org/results/dashboard/patchsets/34569/ UNH-IOL DPDK Community Lab To manage your email subscriptions, visit: https://lab.dpdk.org/results/dashboard/preferences/subscriptions/