From mboxrd@z Thu Jan 1 00:00:00 1970 Return-Path: Received: from mails.dpdk.org (mails.dpdk.org [217.70.189.124]) by inbox.dpdk.org (Postfix) with ESMTP id 7BAAF48B07 for ; Fri, 14 Nov 2025 13:13:33 +0100 (CET) Received: from mails.dpdk.org (localhost [127.0.0.1]) by mails.dpdk.org (Postfix) with ESMTP id 7625040E3E; Fri, 14 Nov 2025 13:13:33 +0100 (CET) Received: from mail-pl1-f225.google.com (mail-pl1-f225.google.com [209.85.214.225]) by mails.dpdk.org (Postfix) with ESMTP id 64B6D40E3E for ; Fri, 14 Nov 2025 13:13:32 +0100 (CET) Received: by mail-pl1-f225.google.com with SMTP id d9443c01a7336-297d4a56f97so18885465ad.1 for ; Fri, 14 Nov 2025 04:13:32 -0800 (PST) DKIM-Signature: v=1; a=rsa-sha256; c=relaxed/relaxed; d=iol.unh.edu; s=unh-iol; t=1763122411; x=1763727211; darn=dpdk.org; h=references:in-reply-to:cc:to:from:subject:message-id:date:from:to :cc:subject:date:message-id:reply-to; bh=eQvg8VQqc4ePouNiqCyPDc9kvyb9e52rN329q0Z6dGs=; b=cBJFfjUI0kaA5x4HwZTg0dVDx8k7syU4JdFFrZqj+o3WzHrvOC8+/3rBw+HrQeAPF3 L+PFjdVVOA24XoDLMl+HG6WLiIMPBPE15qjytxxOQE5vxM8secgDR6LgbVat6ZKnrhIf ojfG09/tLNWzfRMoh7mZ6yx8g9JahbjZtXit0= X-Google-DKIM-Signature: v=1; a=rsa-sha256; c=relaxed/relaxed; d=1e100.net; s=20230601; t=1763122411; x=1763727211; h=references:in-reply-to:cc:to:from:subject:message-id:date:x-gm-gg :x-gm-message-state:from:to:cc:subject:date:message-id:reply-to; bh=eQvg8VQqc4ePouNiqCyPDc9kvyb9e52rN329q0Z6dGs=; b=avit+xMfqOHTSmnBvef6J93QdZ2jK1p29PqMENtO63vtk35GBVfnm2MKWWxoAHh3gt p+8N36BcQMdNiVo3J5ZW65jebk50PM6xpaWqDbgW4u+8kxQiC7hh83hJKR44I/v1YZMV yiYlUmbj5oCbRIZWqhQhxy7zGGnHzQ/wkKopPR/1f2ceTDpiOAPfKihlKrSdeCf0/bpj O2cjpdSZOXY30DwLTxNr2pFD8UJrssVp13U8JcCulGouct6h+FsidQAtRMGfLkWFWhFm v1eIV9rFgi80JU01nn32HtKS8PBe6f94nTzlB3A4VpJVjhcA3qK7kGbTA1VNxF+Fx+qp kHRg== X-Gm-Message-State: AOJu0YwfWZnvS3AhZcZtvtLWsW/jJXnmNm7S8sFYSu2RQzV9cPXESwLc /BQAkrZ1RHqiCSN7JMzCvnqHWyMqkKWeQ428H2dMUvpgKXkApOzsfPpuiNBEHKX1JAFy6m9JyC3 sRzeFW9/k6XvBUDL7JvtW9OjPoyMrzL7MhJB6tJBctda3 X-Gm-Gg: ASbGncsLaFXVmVwoc/Rukv5mmCDpsggMYxpHswtRlewrbZ6+NFhfNfvdHnuPPgxBLfm a/7STASY0zDIYiOz8n3MJvQ9zuTEf0rBZhwI1Kc3RX0Vl3gYxMSiIVZyY/lwiRAuYSPx5cNYbzR fLlpIPrI4HPINvBysAIVATGBCtWE+R9SkGQbhptlNvvYo9hf6QnfSX/r5GGD2v8ePvHQWavqXic FxdzV9KpjuM/VFagpKiBJS5lvS0PJbCV4whvY0kRcVDVuAaKhtxmYXjGgknG/8pNHPTcfZEC7ig yjr9JM4qHIfdb+qHf+QJcc4OSFjmYdkouhdSZ30PFnlfHtPu9X6RxMIUALcoCV34ICNB0DT49xi 5f8on13GGjQRCgVGE5PETfax3k4Md3/w= X-Google-Smtp-Source: AGHT+IHcM8Uipzo8eB7dymsWgjPKdF8Yo9vE1hnD92AgVvWQ7Kyn9dkguAIqcImZtixvUR48mL4Mlllh18G7 X-Received: by 2002:a17:902:f70c:b0:298:3e3a:ae6 with SMTP id d9443c01a7336-2986a7420f6mr31415115ad.48.1763122411500; Fri, 14 Nov 2025 04:13:31 -0800 (PST) Received: from postal.iol.unh.edu (postal.iol.unh.edu. [132.177.123.84]) by smtp-relay.gmail.com with ESMTPS id d9443c01a7336-2985c2b86aasm5374395ad.47.2025.11.14.04.13.31 (version=TLS1_2 cipher=ECDHE-ECDSA-AES128-GCM-SHA256 bits=128/128); Fri, 14 Nov 2025 04:13:31 -0800 (PST) X-Relaying-Domain: iol.unh.edu Date: Fri, 14 Nov 2025 04:13:31 -0800 (PST) Message-ID: <69171ceb.170a0220.1b670.952eSMTPIN_ADDED_MISSING@mx.google.com> Received: from [172.21.0.2] (unknown [172.18.0.240]) by postal.iol.unh.edu (Postfix) with ESMTP id 7CB2A6051830; Fri, 14 Nov 2025 07:13:30 -0500 (EST) Subject: |SUCCESS| pw158773-158774 [PATCH] [v4,2/2] dts: add QinQ test suite From: dpdklab@iol.unh.edu To: Test Report Cc: dpdk-test-reports@iol.unh.edu In-Reply-To: <20251113190309.310821-2-dmarx@iol.unh.edu> References: <20251113190309.310821-2-dmarx@iol.unh.edu> Content-Type: text/plain X-BeenThere: test-report@dpdk.org X-Mailman-Version: 2.1.29 Precedence: list List-Id: automatic DPDK test reports List-Unsubscribe: , List-Archive: List-Post: List-Help: List-Subscribe: , Errors-To: test-report-bounces@dpdk.org Test-Label: iol-compile-amd64-testing Test-Status: SUCCESS http://dpdk.org/patch/158774 _Testing PASS_ Submitter: Dean Marx Date: Thursday, November 13 2025 19:03:09 DPDK git baseline: Repo:dpdk-next-dts Branch: master CommitID:8dcc93a520b22330e0ad59d360a4594b854f9ddd 158773-158774 --> testing pass Upstream job id: Generic-DPDK-Compile-Meson#444232 Test environment and result as below: +-----------------+--------------------+ | Environment | dpdk_meson_compile | +=================+====================+ | Ubuntu 20.04 | PASS | +-----------------+--------------------+ | FreeBSD 14.2 | PASS | +-----------------+--------------------+ | CentOS Stream 9 | PASS | +-----------------+--------------------+ Ubuntu 20.04 Kernel: 4.19 Compiler: gcc gcc (Ubuntu 9.4.0-1ubuntu1~20.04.2) 9.4.0 FreeBSD 14.2 Kernel: 14.2-RELEASE Compiler: clang 18.1.6 CentOS Stream 9 Kernel: 5.15 Compiler: gcc gcc (GCC) 11.5.0 20240719 (Red Hat 11.5.0-11) To view detailed results, visit: https://lab.dpdk.org/results/dashboard/patchsets/34581/ UNH-IOL DPDK Community Lab To manage your email subscriptions, visit: https://lab.dpdk.org/results/dashboard/preferences/subscriptions/