From mboxrd@z Thu Jan 1 00:00:00 1970 Return-Path: Received: from mails.dpdk.org (mails.dpdk.org [217.70.189.124]) by inbox.dpdk.org (Postfix) with ESMTP id E0AD048B07 for ; Fri, 14 Nov 2025 13:16:38 +0100 (CET) Received: from mails.dpdk.org (localhost [127.0.0.1]) by mails.dpdk.org (Postfix) with ESMTP id CF1254068E; Fri, 14 Nov 2025 13:16:38 +0100 (CET) Received: from mail-pl1-f228.google.com (mail-pl1-f228.google.com [209.85.214.228]) by mails.dpdk.org (Postfix) with ESMTP id DFE964068E for ; Fri, 14 Nov 2025 13:16:36 +0100 (CET) Received: by mail-pl1-f228.google.com with SMTP id d9443c01a7336-297d4a56f97so18913455ad.1 for ; Fri, 14 Nov 2025 04:16:36 -0800 (PST) DKIM-Signature: v=1; a=rsa-sha256; c=relaxed/relaxed; d=iol.unh.edu; s=unh-iol; t=1763122596; x=1763727396; darn=dpdk.org; h=references:in-reply-to:cc:to:from:subject:message-id:date:from:to :cc:subject:date:message-id:reply-to; bh=gCKYfdUy9RqINhJOqdgJaDIAnzCVUSV9JAyK9S+af/E=; b=fHg37KGx2wbwicQ7EA9nUzNFlaE+aMVmomBJEHGC9WzC/Ajq4AXNZLfWFCV31oK8Md KUM2yoDDnjvYbnykR8xN3sQEngF1CdbEQR2UNiqiMt3GFudOVDWB4xpzIwCvpd4TWc/g quD4M2TlYKlPAw2AwrRGkcDhegap1bCXvB8IM= X-Google-DKIM-Signature: v=1; a=rsa-sha256; c=relaxed/relaxed; d=1e100.net; s=20230601; t=1763122596; x=1763727396; h=references:in-reply-to:cc:to:from:subject:message-id:date:x-gm-gg :x-gm-message-state:from:to:cc:subject:date:message-id:reply-to; bh=gCKYfdUy9RqINhJOqdgJaDIAnzCVUSV9JAyK9S+af/E=; b=DRZ5FvkITMNGsrEbmJqQ43Sea0sBWcTyNzaeRGUCTZPD7UwSp/ql9B2F3pohgAphFt xXjY0eILGc3FPaSG5nWZ/bPf1YTuhabv7mp7R3CSR/XjDNWbgb4/4biyz33mylVYM3aW v0sy/5nI5WvpgRhsvWQU7+DWBI1Xqvutkhvi5cDA5nqM7xX/WVd6ENK/OQDfiq6p9cBu V+KkvYeKjOG9eIlho/W5NVhvGOiRBYkYw4mO/5j51c3TOasRIE19Q0cti0J7tgKK7SYL 4UNQHsIcc7hc84hYx1juS1XL3CSPM/6yeJ7Jx2TZCIxksWwRBHSOQ+p1ANMHfxcE7OI1 h+aA== X-Gm-Message-State: AOJu0Yxaa2bAkDDkost88HqySVIBpQdGf4WeKoSydzCtokghwyg7ebXL X00ZDuBzZerYKny4o50e83nKVHpkZU4cQOgRxXXz/g1vxXxdp2IdI3W5JUUa7/31QWzWNGSIhzz qIcIcd91LYNAoSxVAJpvXgUEd0+uXFL12cLPupjggu23bSEbbdTzcWbFzcpw5 X-Gm-Gg: ASbGncvwGOEMVddR11xyF6tECIFzKgUcRUokOhYz+QM916dM3CLFMHfLnCn3u0mqWmL mcZo/j2jD9Bg56ZLcnqUc9v9NgGutV/6Rlygw5LGp4TQMat/BNavLs7aOHzZaQl0tl7ka+RDG/R 2+5OaXqxxSIQ7/APWZ00A8qmSzWeKQ4jthV/cd949jqlUZ5duPU31q5REF9JtaBBiK0cCKb9vN0 DISJtfLCp+IFtwmdHjlI83nmHD6Wx63c1q8JM2GbP+UsybviSx9v/0kUiISjMS9jLb85Ogiz+el RsU/2GSUWzm/7KUoDs4otBucThroNgwXf35QSTRShz11Iuu7lrAvXTQJa+D0YxzIdXgL/bP+dAC AdNTKGJAK X-Google-Smtp-Source: AGHT+IEIW4izvCbeuwaIUGNzo1hSeOVj9HinQvWSgL1CPlwTUrDewqxIsd1ewNOE+X84sp3fNYrij45qUEIa X-Received: by 2002:a17:902:f712:b0:295:560a:e499 with SMTP id d9443c01a7336-2986a6abdc5mr31546045ad.5.1763122595625; Fri, 14 Nov 2025 04:16:35 -0800 (PST) Received: from postal.iol.unh.edu (postal.iol.unh.edu. [2606:4100:3880:1234::84]) by smtp-relay.gmail.com with ESMTPS id d9443c01a7336-2985c2a8b17sm5416905ad.36.2025.11.14.04.16.35 (version=TLS1_2 cipher=ECDHE-ECDSA-AES128-GCM-SHA256 bits=128/128); Fri, 14 Nov 2025 04:16:35 -0800 (PST) X-Relaying-Domain: iol.unh.edu Date: Fri, 14 Nov 2025 04:16:35 -0800 (PST) Message-ID: <69171da3.170a0220.233ba2.9de6SMTPIN_ADDED_MISSING@mx.google.com> Received: from [172.21.0.2] (unknown [172.18.0.240]) by postal.iol.unh.edu (Postfix) with ESMTP id DA9AD6051830; Fri, 14 Nov 2025 07:16:34 -0500 (EST) Subject: |SUCCESS| pw158773-158774 [PATCH] [v4,2/2] dts: add QinQ test suite From: dpdklab@iol.unh.edu To: Test Report Cc: dpdk-test-reports@iol.unh.edu In-Reply-To: <20251113190309.310821-2-dmarx@iol.unh.edu> References: <20251113190309.310821-2-dmarx@iol.unh.edu> Content-Type: text/plain X-BeenThere: test-report@dpdk.org X-Mailman-Version: 2.1.29 Precedence: list List-Id: automatic DPDK test reports List-Unsubscribe: , List-Archive: List-Post: List-Help: List-Subscribe: , Errors-To: test-report-bounces@dpdk.org Test-Label: iol-compile-amd64-testing Test-Status: SUCCESS http://dpdk.org/patch/158774 _Testing PASS_ Submitter: Dean Marx Date: Thursday, November 13 2025 19:03:09 DPDK git baseline: Repo:dpdk-next-dts Branch: master CommitID:8dcc93a520b22330e0ad59d360a4594b854f9ddd 158773-158774 --> testing pass Upstream job id: Generic-DPDK-Compile-Meson#444234 Test environment and result as below: +------------------+--------------------+ | Environment | dpdk_meson_compile | +==================+====================+ | Ubuntu 20.04 | PASS | +------------------+--------------------+ | FreeBSD 14.2 | PASS | +------------------+--------------------+ | CentOS Stream 9 | PASS | +------------------+--------------------+ | CentOS Stream 10 | PASS | +------------------+--------------------+ Ubuntu 20.04 Kernel: 4.19 Compiler: gcc gcc (Ubuntu 9.4.0-1ubuntu1~20.04.2) 9.4.0 FreeBSD 14.2 Kernel: 14.2-RELEASE Compiler: clang 18.1.6 CentOS Stream 9 Kernel: 5.15 Compiler: gcc gcc (GCC) 11.5.0 20240719 (Red Hat 11.5.0-11) CentOS Stream 10 Kernel: 5.15 Compiler: gcc gcc (GCC) 14.2.1 20250110 (Red Hat 14.2.1-8) To view detailed results, visit: https://lab.dpdk.org/results/dashboard/patchsets/34581/ UNH-IOL DPDK Community Lab To manage your email subscriptions, visit: https://lab.dpdk.org/results/dashboard/preferences/subscriptions/