From mboxrd@z Thu Jan 1 00:00:00 1970 Return-Path: Received: from mails.dpdk.org (mails.dpdk.org [217.70.189.124]) by inbox.dpdk.org (Postfix) with ESMTP id 2148548B07 for ; Fri, 14 Nov 2025 13:18:43 +0100 (CET) Received: from mails.dpdk.org (localhost [127.0.0.1]) by mails.dpdk.org (Postfix) with ESMTP id 1B29F40151; Fri, 14 Nov 2025 13:18:43 +0100 (CET) Received: from mail-pl1-f228.google.com (mail-pl1-f228.google.com [209.85.214.228]) by mails.dpdk.org (Postfix) with ESMTP id 4E71540151 for ; Fri, 14 Nov 2025 13:18:41 +0100 (CET) Received: by mail-pl1-f228.google.com with SMTP id d9443c01a7336-298145fe27eso22854105ad.1 for ; Fri, 14 Nov 2025 04:18:41 -0800 (PST) DKIM-Signature: v=1; a=rsa-sha256; c=relaxed/relaxed; d=iol.unh.edu; s=unh-iol; t=1763122720; x=1763727520; darn=dpdk.org; h=references:in-reply-to:cc:to:from:subject:message-id:date:from:to :cc:subject:date:message-id:reply-to; bh=TCX94UnMUuYTcqLJcxQ5CIeqkCUEDHbyvskEnql4/qI=; b=iJpVZ4a3YV7Ostpq0+6Ae4FLeXG30lNR30TgI+jQht0DDlRBhJRUj74TtyVq5qCIOf usJvUnOo3fqmDGszQ/u0Vojs1Oe/WgTnRunoyZcbuW/xoUAH5GCh6CzTy0Ns/0mW6IE7 eaRX4KsAJz7SfoqEEQT71J8JaROdQpAMR2tc4= X-Google-DKIM-Signature: v=1; a=rsa-sha256; c=relaxed/relaxed; d=1e100.net; s=20230601; t=1763122720; x=1763727520; h=references:in-reply-to:cc:to:from:subject:message-id:date:x-gm-gg :x-gm-message-state:from:to:cc:subject:date:message-id:reply-to; bh=TCX94UnMUuYTcqLJcxQ5CIeqkCUEDHbyvskEnql4/qI=; b=mxZK1Tld2csX2+++9lPYg3xHA7QdsVLPJHtD2R30DtFO5QRUaIv3UMByocdPFFfdAC BlD7SDCN+4SWc+RfdQJALn8/ERXwdoSRRkNwhGxuj8ezlpmw4TX0wAwbu3xn/yZtJfRb VR2RxdcqxsCDrC983o/VTrUHCikez7ndo0E/k8Brte3tTErWbsB6khNthdE2yCAydbYB 6DTb3lS4i/zC/80O0UIr51T3cvc8d67hvFLHQbkziZu430CRL7GTFTvwoVuEbAcYzLyv boLM9A8U5AVWPw/D2a1G0lrW/eTOxyTdbov23xeWEpss9vTNBeJdHKSYQDvvLdFkMSg7 MeSA== X-Gm-Message-State: AOJu0Yyklif1121dMZGS/0i7FxiRHqXhJzlSK1Ljlv1R1iS40E03lMI1 wDTG+toqoPMgozsnvB5S+JO4oiJJoXUUbXRQYqKkcsyYlauAtE7BVAU+TQ0T+u8P5y4O2FJLe2l R5I73AivyDMe5N6vkwhyeu6ODPabBbf1bWtKnw+EyXAUi X-Gm-Gg: ASbGncunWBA9XWDAlksP8xfS+qkVeXISnPcHlMbAJQG8SsE4JbkuX/HLOPwQiwVPLja Uzl3JDPQMm4xOWTlx/5KNVv2Fdu2K7F0jy7Aeq9PxwmiNbhp1XPOnuQkUrsXiNQ9QJtPPhm9FoS KUli9xOhRf+2i13N6QptvvBvJ653sHaIxHmM10Z0INF6F1bzDAItDmViTGxxJvpJxraXecRzodB CS2qWEircPK9e0+vfreg8Ew0qiai0f4+CQvWniDbLcpL4qzXtcZafZE8NEEqWzUr2Lh5MACFbt6 iaUYVeCE4IjQS+HFqmeAD82YnzGeGJUI9/Qno95jNI9yWFlgIANWJ6QZzgKlSrgeA3tJ4aCV8x7 +zRjMRBjM4SPJzc9u1KOZ3eoPCFFCvW4= X-Google-Smtp-Source: AGHT+IGlROp7Hstcq4KsmxHWUi7FiFLsTHUzP/WfQiPWWQQDc+foOwIkqIJs/rypyYm4ucIorIrwPIpWNArw X-Received: by 2002:a17:903:2bce:b0:295:1626:6be5 with SMTP id d9443c01a7336-2986a751eccmr31186585ad.44.1763122720379; Fri, 14 Nov 2025 04:18:40 -0800 (PST) Received: from postal.iol.unh.edu (postal.iol.unh.edu. [132.177.123.84]) by smtp-relay.gmail.com with ESMTPS id 41be03b00d2f7-bc366550b9bsm337923a12.0.2025.11.14.04.18.40 (version=TLS1_2 cipher=ECDHE-ECDSA-AES128-GCM-SHA256 bits=128/128); Fri, 14 Nov 2025 04:18:40 -0800 (PST) X-Relaying-Domain: iol.unh.edu Date: Fri, 14 Nov 2025 04:18:40 -0800 (PST) Message-ID: <69171e20.630a0220.165020.ffb3SMTPIN_ADDED_MISSING@mx.google.com> Received: from [172.21.0.2] (unknown [172.18.0.240]) by postal.iol.unh.edu (Postfix) with ESMTP id 9376E6051830; Fri, 14 Nov 2025 07:18:39 -0500 (EST) Subject: |SUCCESS| pw158770 [PATCH] net/idpf: fix missing offload from conver From: dpdklab@iol.unh.edu To: Test Report Cc: dpdk-test-reports@iol.unh.edu, Bruce Richardson In-Reply-To: <20251113145021.3793930-1-ciara.loftus@intel.com> References: <20251113145021.3793930-1-ciara.loftus@intel.com> Content-Type: text/plain X-BeenThere: test-report@dpdk.org X-Mailman-Version: 2.1.29 Precedence: list List-Id: automatic DPDK test reports List-Unsubscribe: , List-Archive: List-Post: List-Help: List-Subscribe: , Errors-To: test-report-bounces@dpdk.org Test-Label: iol-compile-amd64-testing Test-Status: SUCCESS http://dpdk.org/patch/158770 _Testing PASS_ Submitter: Ciara Loftus Date: Thursday, November 13 2025 14:50:21 DPDK git baseline: Repo:dpdk-next-net-intel Branch: master CommitID:e5357d609907d504f4705e4899f3dad43cb4b70f 158770 --> testing pass Upstream job id: Windows-Compile-DPDK-VS#7541 Test environment and result as below: +-------------------------------+--------------------+------------------+-------------------+ | Environment | dpdk_meson_compile | dpdk_compile_ovs | dpdk_msvc_compile | +===============================+====================+==================+===================+ | FreeBSD 14.2 | PASS | SKIPPED | SKIPPED | +-------------------------------+--------------------+------------------+-------------------+ | Ubuntu 20.04 | PASS | SKIPPED | SKIPPED | +-------------------------------+--------------------+------------------+-------------------+ | CentOS Stream 9 | PASS | SKIPPED | SKIPPED | +-------------------------------+--------------------+------------------+-------------------+ | CentOS Stream 10 | PASS | SKIPPED | SKIPPED | +-------------------------------+--------------------+------------------+-------------------+ | Debian GNU/Linux 12 | PASS | SKIPPED | SKIPPED | +-------------------------------+--------------------+------------------+-------------------+ | Fedora Linux 42 | PASS | PASS | SKIPPED | +-------------------------------+--------------------+------------------+-------------------+ | openSUSE Leap 15.6 | PASS | SKIPPED | SKIPPED | +-------------------------------+--------------------+------------------+-------------------+ | Red Hat Enterprise Linux 8.10 | PASS | SKIPPED | SKIPPED | +-------------------------------+--------------------+------------------+-------------------+ | Red Hat Enterprise Linux 9.5 | PASS | SKIPPED | SKIPPED | +-------------------------------+--------------------+------------------+-------------------+ | Ubuntu 22.04 | PASS | SKIPPED | SKIPPED | +-------------------------------+--------------------+------------------+-------------------+ | Ubuntu 24.04 | PASS | PASS | SKIPPED | +-------------------------------+--------------------+------------------+-------------------+ | Alpine Linux 3.22.0 | PASS | SKIPPED | SKIPPED | +-------------------------------+--------------------+------------------+-------------------+ | Windows Server 2022 | SKIPPED | SKIPPED | PASS | +-------------------------------+--------------------+------------------+-------------------+ FreeBSD 14.2 Kernel: 14.2-RELEASE Compiler: clang 18.1.6 Ubuntu 20.04 Kernel: 4.19 Compiler: gcc gcc (Ubuntu 9.4.0-1ubuntu1~20.04.2) 9.4.0 CentOS Stream 9 Kernel: 5.15 Compiler: gcc gcc (GCC) 11.5.0 20240719 (Red Hat 11.5.0-11) CentOS Stream 10 Kernel: 5.15 Compiler: gcc gcc (GCC) 14.2.1 20250110 (Red Hat 14.2.1-8) Debian GNU/Linux 12 Kernel: 5.15 Compiler: gcc gcc (Debian 12.2.0-14+deb12u1) 12.2.0 Fedora Linux 42 Kernel: 5.15 Compiler: clang gcc (GCC) 15.2.1 20250808 (Red Hat 15.2.1-1) openSUSE Leap 15.6 Kernel: 5.15 Compiler: gcc gcc (SUSE Linux) 7.5.0 Red Hat Enterprise Linux 8.10 Kernel: 5.15 Compiler: gcc gcc (GCC) 8.5.0 20210514 (Red Hat 8.5.0-22) Red Hat Enterprise Linux 9.5 Kernel: 5.15 Compiler: gcc gcc (GCC) 11.5.0 20240719 (Red Hat 11.5.0-2) Ubuntu 22.04 Kernel: 5.15 Compiler: gcc gcc (Ubuntu 11.4.0-1ubuntu1~22.04) 11.4.0 Ubuntu 24.04 Kernel: 5.15 Compiler: gcc gcc (Ubuntu 13.3.0-6ubuntu2~24.04) 13.3.0 Alpine Linux 3.22.0 Kernel: 5.15 Compiler: gcc gcc (Alpine 14.2.0) 14.2.0 Windows Server 2022 Kernel: 10.0.20348.2031 Compiler: clang 15.0.7, gcc 14.1.0 (MinGW), and MSVC VS 19.39.33521 To view detailed results, visit: https://lab.dpdk.org/results/dashboard/patchsets/34578/ UNH-IOL DPDK Community Lab To manage your email subscriptions, visit: https://lab.dpdk.org/results/dashboard/preferences/subscriptions/