From mboxrd@z Thu Jan 1 00:00:00 1970 Return-Path: Received: from mails.dpdk.org (mails.dpdk.org [217.70.189.124]) by inbox.dpdk.org (Postfix) with ESMTP id 3C09048B07 for ; Fri, 14 Nov 2025 13:19:38 +0100 (CET) Received: from mails.dpdk.org (localhost [127.0.0.1]) by mails.dpdk.org (Postfix) with ESMTP id 3689840151; Fri, 14 Nov 2025 13:19:38 +0100 (CET) Received: from mail-yw1-f228.google.com (mail-yw1-f228.google.com [209.85.128.228]) by mails.dpdk.org (Postfix) with ESMTP id 1552540151 for ; Fri, 14 Nov 2025 13:19:36 +0100 (CET) Received: by mail-yw1-f228.google.com with SMTP id 00721157ae682-71d6014810fso15559407b3.0 for ; Fri, 14 Nov 2025 04:19:36 -0800 (PST) DKIM-Signature: v=1; a=rsa-sha256; c=relaxed/relaxed; d=iol.unh.edu; s=unh-iol; t=1763122775; x=1763727575; darn=dpdk.org; h=references:in-reply-to:cc:to:from:subject:message-id:date:from:to :cc:subject:date:message-id:reply-to; bh=Z5U13sbhAi0MOcZYS3JTxaEDHfa6RjUvjQaowsMGtuM=; b=MfIoo64HPHWuwzmJdF+JJh3Y+m2I6/hj3ljzex/2tr//Qhm65HFrBdYKwHE1f5W5Lm Byju0Pw2bT9tqRV2l2GUZPzLeGSDbuJiArn6KJznqUhxuYSpffkizVvTAZ+BaIMkbLnr y8X8+IGHIY1ORIzc3X6B7UaCo1JYdtL/qOW40= X-Google-DKIM-Signature: v=1; a=rsa-sha256; c=relaxed/relaxed; d=1e100.net; s=20230601; t=1763122775; x=1763727575; h=references:in-reply-to:cc:to:from:subject:message-id:date:x-gm-gg :x-gm-message-state:from:to:cc:subject:date:message-id:reply-to; bh=Z5U13sbhAi0MOcZYS3JTxaEDHfa6RjUvjQaowsMGtuM=; b=M0oQkaLcu/BA4X8A2oRZvPPHBYUUvcs24TyKdJpYVzQPAHOrTd9CohQ9e7q480qQVC PtzeNOE2b/WVBhVkxp7DftNZZ0h1f5wP/gQ24xIRLjwVUxJlMyC1cSG4lHVlwzsQZwLS KKfBYurKV9MSEc8F8BSTzou8G7aWcKwZbyY0aU51FmzhxS/WuBLPAtTBmxrZNMw2jxyR IvqbZGoYFJezFWFvNgqp3j+uOHR0Jg9WHhrJrJGt7wuvcMg2AcxfA003yK524EZcJ7kc h9ZnYb2xbUjntTfitW6EQt/qWGxkbiO4gOqBWl32C1tDadZ7Qkb1HT+aCtjS9BuugPa7 YseQ== X-Gm-Message-State: AOJu0YxmM9SbSdvKcqWpbdWBvp0FiN17oHKHUUIPnsMlNiKeMVtZ+p44 cF36SNZJRe0cDb0mwaj/T2inj2S3APu+7LGS/gkYAHHh/vvR2JxZytBtzzCiXNuX2eArX4zynAS DcUTif/jdm0nvw0RXU0RWZ+Yl2SI7tiyNfRl11bNvzDAOiZLCdI8uEwdwYjfY X-Gm-Gg: ASbGncukUuPXkKWpbWVR941B29WzyldlQHH6MjR+jg8M3pVF9XcAvI5y4tVwS74KVkE uJUh3sUalZ3C5Uh+C31RHH8qFQ/BL7iZOC5YslHwgkhhrm7tkFvi9r5mZ3hThPzjLKlHK4hBqMa 8+dbpU7PRhtPX7Sry0MStpz+K0FrTPFXQ2W4J3vqNvNhtZw0vFvz6JYiBKdnp2O+4tUeDEnS1OX mxgwxXiTIafiQiF/LBqXaviJHme7hlKA9cyK+Cg2FcBFQ1mdX2bY3AKECWjoLx50nXWCzxPcTi1 MzTTzIQvivHMNcRphcT2y+OWsL0c5/KOwwq6FXNgLauvSUOlGiQqm6JZ/8FIgoaM0UT6M0d153L zgRMjoVoV X-Google-Smtp-Source: AGHT+IFU/6VTgOSrUvSdwpLXNw+vwvNYQbFs0Ytkr2ZkzfynZh+5RgcBTkYob0RxN24PMi9Aaph0laWqOq47 X-Received: by 2002:a05:690c:3808:b0:786:4fd5:e5c3 with SMTP id 00721157ae682-78929f0ce8cmr27687827b3.56.1763122775316; Fri, 14 Nov 2025 04:19:35 -0800 (PST) Received: from postal.iol.unh.edu (postal.iol.unh.edu. [2606:4100:3880:1234::84]) by smtp-relay.gmail.com with ESMTPS id 00721157ae682-78821e324cdsm2541547b3.12.2025.11.14.04.19.35 (version=TLS1_2 cipher=ECDHE-ECDSA-AES128-GCM-SHA256 bits=128/128); Fri, 14 Nov 2025 04:19:35 -0800 (PST) X-Relaying-Domain: iol.unh.edu Date: Fri, 14 Nov 2025 04:19:35 -0800 (PST) Message-ID: <69171e57.050a0220.c9fdb.c263SMTPIN_ADDED_MISSING@mx.google.com> Received: from [172.21.0.5] (unknown [172.18.0.240]) by postal.iol.unh.edu (Postfix) with ESMTP id D01FF6051830; Fri, 14 Nov 2025 07:19:34 -0500 (EST) Subject: |SUCCESS| pw158772 [PATCH] [v2] net/axgbe: fix the build warning for From: dpdklab@iol.unh.edu To: Test Report Cc: dpdk-test-reports@iol.unh.edu, Stephen Hemminger In-Reply-To: <20251113164109.522-1-VenkatKumar.Ande@amd.com> References: <20251113164109.522-1-VenkatKumar.Ande@amd.com> Content-Type: text/plain X-BeenThere: test-report@dpdk.org X-Mailman-Version: 2.1.29 Precedence: list List-Id: automatic DPDK test reports List-Unsubscribe: , List-Archive: List-Post: List-Help: List-Subscribe: , Errors-To: test-report-bounces@dpdk.org Test-Label: iol-compile-amd64-testing Test-Status: SUCCESS http://dpdk.org/patch/158772 _Testing PASS_ Submitter: Venkat Kumar Ande Date: Thursday, November 13 2025 16:41:09 DPDK git baseline: Repo:dpdk-next-net Branch: master CommitID:fca6f2910345c25a5050a0b586e0d324ca616cbb 158772 --> testing pass Upstream job id: Generic-DPDK-Compile-Meson#444206 Test environment and result as below: +-------------------------------+--------------------+------------------+ | Environment | dpdk_meson_compile | dpdk_compile_ovs | +===============================+====================+==================+ | Ubuntu 20.04 | PASS | SKIPPED | +-------------------------------+--------------------+------------------+ | FreeBSD 14.2 | PASS | SKIPPED | +-------------------------------+--------------------+------------------+ | CentOS Stream 9 | PASS | SKIPPED | +-------------------------------+--------------------+------------------+ | Fedora Linux 42 | PASS | PASS | +-------------------------------+--------------------+------------------+ | Debian GNU/Linux 12 | PASS | SKIPPED | +-------------------------------+--------------------+------------------+ | CentOS Stream 10 | PASS | SKIPPED | +-------------------------------+--------------------+------------------+ | openSUSE Leap 15.6 | PASS | SKIPPED | +-------------------------------+--------------------+------------------+ | Red Hat Enterprise Linux 8.10 | PASS | SKIPPED | +-------------------------------+--------------------+------------------+ | Red Hat Enterprise Linux 9.5 | PASS | SKIPPED | +-------------------------------+--------------------+------------------+ | Ubuntu 22.04 | PASS | SKIPPED | +-------------------------------+--------------------+------------------+ | Ubuntu 24.04 | PASS | PASS | +-------------------------------+--------------------+------------------+ | Alpine Linux 3.22.0 | PASS | SKIPPED | +-------------------------------+--------------------+------------------+ Ubuntu 20.04 Kernel: 4.19 Compiler: gcc gcc (Ubuntu 9.4.0-1ubuntu1~20.04.2) 9.4.0 FreeBSD 14.2 Kernel: 14.2-RELEASE Compiler: clang 18.1.6 CentOS Stream 9 Kernel: 5.15 Compiler: gcc gcc (GCC) 11.5.0 20240719 (Red Hat 11.5.0-11) Fedora Linux 42 Kernel: 5.15 Compiler: clang gcc (GCC) 15.2.1 20250808 (Red Hat 15.2.1-1) Debian GNU/Linux 12 Kernel: 5.15 Compiler: gcc gcc (Debian 12.2.0-14+deb12u1) 12.2.0 CentOS Stream 10 Kernel: 5.15 Compiler: gcc gcc (GCC) 14.2.1 20250110 (Red Hat 14.2.1-8) openSUSE Leap 15.6 Kernel: 5.15 Compiler: gcc gcc (SUSE Linux) 7.5.0 Red Hat Enterprise Linux 8.10 Kernel: 5.15 Compiler: gcc gcc (GCC) 8.5.0 20210514 (Red Hat 8.5.0-22) Red Hat Enterprise Linux 9.5 Kernel: 5.15 Compiler: gcc gcc (GCC) 11.5.0 20240719 (Red Hat 11.5.0-2) Ubuntu 22.04 Kernel: 5.15 Compiler: gcc gcc (Ubuntu 11.4.0-1ubuntu1~22.04) 11.4.0 Ubuntu 24.04 Kernel: 5.15 Compiler: gcc gcc (Ubuntu 13.3.0-6ubuntu2~24.04) 13.3.0 Alpine Linux 3.22.0 Kernel: 5.15 Compiler: gcc gcc (Alpine 14.2.0) 14.2.0 To view detailed results, visit: https://lab.dpdk.org/results/dashboard/patchsets/34580/ UNH-IOL DPDK Community Lab To manage your email subscriptions, visit: https://lab.dpdk.org/results/dashboard/preferences/subscriptions/