From mboxrd@z Thu Jan 1 00:00:00 1970 Return-Path: Received: from mails.dpdk.org (mails.dpdk.org [217.70.189.124]) by inbox.dpdk.org (Postfix) with ESMTP id 550B048B07 for ; Fri, 14 Nov 2025 13:20:04 +0100 (CET) Received: from mails.dpdk.org (localhost [127.0.0.1]) by mails.dpdk.org (Postfix) with ESMTP id 5157A40151; Fri, 14 Nov 2025 13:20:04 +0100 (CET) Received: from mail-oa1-f100.google.com (mail-oa1-f100.google.com [209.85.160.100]) by mails.dpdk.org (Postfix) with ESMTP id 7593240151 for ; Fri, 14 Nov 2025 13:20:02 +0100 (CET) Received: by mail-oa1-f100.google.com with SMTP id 586e51a60fabf-3e37ad3d95aso1169335fac.3 for ; Fri, 14 Nov 2025 04:20:02 -0800 (PST) DKIM-Signature: v=1; a=rsa-sha256; c=relaxed/relaxed; d=iol.unh.edu; s=unh-iol; t=1763122801; x=1763727601; darn=dpdk.org; h=references:in-reply-to:cc:to:from:subject:message-id:date:from:to :cc:subject:date:message-id:reply-to; bh=Z+f50NNoAQTPtfFdpFvJ2HpHvWcj5YedeESsYUI2ZSo=; b=Wvmxp9H/QAJUqn5NHcueV96Fdml6SSVQS7nLxExu9H6duIYo2mSjequjWEAhlFNg5u IEViofXHBZkJkopdRWu9L1HXaMHgrIK5cmnsXJf7/gle34Ug/lEkXXmyY66bgp7Wpxq4 bt69SIIim3XOgG1EEzFZqI0md8zgxwEtEu59M= X-Google-DKIM-Signature: v=1; a=rsa-sha256; c=relaxed/relaxed; d=1e100.net; s=20230601; t=1763122801; x=1763727601; h=references:in-reply-to:cc:to:from:subject:message-id:date:x-gm-gg :x-gm-message-state:from:to:cc:subject:date:message-id:reply-to; bh=Z+f50NNoAQTPtfFdpFvJ2HpHvWcj5YedeESsYUI2ZSo=; b=TFoNhGw2EDrFiCzWKZiUXGLxbUHvKBsMLwxqdZJJsjKaGMe3uxFurEqjpVvWMFXB+A ITzsUIyI4i8uWdfdQwb+AC7yEx4zG9f0mnk4JqlbGUdEWLH62YdDkDafsdvR4cBRWx64 NKi8ETbwSNtvGXZGyinieocieMzmQPjdbqbXTF30phXMqw3nhv6CypbC9FgXWKvyoLlW 2OwVzpY23HClnYrO7YhZxrBFO1y2ISiFvdXeeYYiIJxepfl93EptPI7+/bUM9gBoFgc1 ZaA8QIVn0dhH2cHls+0fCkap+pEyqidOv71DsNOfER4optJFDsFevex/t0tWgn4U9fmD Jw0A== X-Gm-Message-State: AOJu0YzzZjIwDpqWZ6CwwvPDu9iJcMGSygpYD0Z8nba8HYh2B6ugJoG9 gM9fLFDr92LlODnG5A6kTc7gWufvq81hklg0oJHaEGeDGkTRrhTH8w7x314ZNHq4x2KGiSa6ea0 ANNytL/MELv0IXRKJm21IF3GaU9s96aP6YHMTq4UTymu/ X-Gm-Gg: ASbGncucTfIPUmYqUfIypS0kyyQHURFsciK2j3qwO/5CNChfXgodehtTE3OP2NJKWFV F/0YqzMe7twOF/1EjRny1EQuSZGwhWRHoJH2IZ+wSqu1lebM253rJhNHhwYMqx8o8BxhtBExnxd wyZk8KH7ywkKXIbKI2Ej2+6cii8LFQv6LGuf75mmeax4mgE82zTlI9e7RcHt2XERYD2Fxov+SYE wenR02x8HV6rHuJznP2/7BXCFlFtwdO6tXd5LMhmt0BfLV5Lg5OC7G1WbilKyAJ9Z6iANsLxzbC WPY8ejOKg1MNot7aIY4UXLxRFxuH8CBghMpxcyzoVjNeAd8GUaO04WMc+qORzpfybQrklsVNysl UEspv3yqBazJ5cNsV7ra36koYwFy/TVE= X-Google-Smtp-Source: AGHT+IHWJdbM/lelLQmwz9rJkRTiiLAZf/eCUy3vNiV6go9rQdFA1F9Sy+7Ji1I/lZP95PmphU/zJUeRn9XU X-Received: by 2002:a05:6870:f202:b0:3d1:ae96:e734 with SMTP id 586e51a60fabf-3e868f52565mr1565402fac.19.1763122801670; Fri, 14 Nov 2025 04:20:01 -0800 (PST) Received: from postal.iol.unh.edu (postal.iol.unh.edu. [132.177.123.84]) by smtp-relay.gmail.com with ESMTPS id 586e51a60fabf-3e8522779ddsm376608fac.16.2025.11.14.04.20.01 (version=TLS1_2 cipher=ECDHE-ECDSA-AES128-GCM-SHA256 bits=128/128); Fri, 14 Nov 2025 04:20:01 -0800 (PST) X-Relaying-Domain: iol.unh.edu Date: Fri, 14 Nov 2025 04:20:01 -0800 (PST) Message-ID: <69171e71.050a0220.2f1759.197aSMTPIN_ADDED_MISSING@mx.google.com> Received: from [172.21.0.2] (unknown [172.18.0.240]) by postal.iol.unh.edu (Postfix) with ESMTP id 5031B6051830; Fri, 14 Nov 2025 07:20:01 -0500 (EST) Subject: |SUCCESS| pw158690-158694 [PATCH] [v2,5/5] bus/fslmc: remove raw dev From: dpdklab@iol.unh.edu To: Test Report Cc: dpdk-test-reports@iol.unh.edu In-Reply-To: <20251112091049.2669481-6-david.marchand@redhat.com> References: <20251112091049.2669481-6-david.marchand@redhat.com> Content-Type: text/plain X-BeenThere: test-report@dpdk.org X-Mailman-Version: 2.1.29 Precedence: list List-Id: automatic DPDK test reports List-Unsubscribe: , List-Archive: List-Post: List-Help: List-Subscribe: , Errors-To: test-report-bounces@dpdk.org Test-Label: iol-compile-amd64-testing Test-Status: SUCCESS http://dpdk.org/patch/158694 _Testing PASS_ Submitter: David Marchand Date: Wednesday, November 12 2025 09:10:48 DPDK git baseline: Repo:dpdk Branch: master CommitID:be0112878b4fc3a1b918370ed2fe615c52039d77 158690-158694 --> testing pass Upstream job id: Windows-Compile-DPDK-Native#32319 Test environment and result as below: +-------------------------------+--------------------+------------------+-------------------+-------------------------+----------------------+ | Environment | dpdk_meson_compile | dpdk_compile_ovs | dpdk_msvc_compile | dpdk_llvm_clang_compile | dpdk_mingw64_compile | +===============================+====================+==================+===================+=========================+======================+ | Ubuntu 20.04 | PASS | SKIPPED | SKIPPED | SKIPPED | SKIPPED | +-------------------------------+--------------------+------------------+-------------------+-------------------------+----------------------+ | FreeBSD 14.2 | PASS | SKIPPED | SKIPPED | SKIPPED | SKIPPED | +-------------------------------+--------------------+------------------+-------------------+-------------------------+----------------------+ | CentOS Stream 9 | PASS | SKIPPED | SKIPPED | SKIPPED | SKIPPED | +-------------------------------+--------------------+------------------+-------------------+-------------------------+----------------------+ | CentOS Stream 10 | PASS | SKIPPED | SKIPPED | SKIPPED | SKIPPED | +-------------------------------+--------------------+------------------+-------------------+-------------------------+----------------------+ | Debian GNU/Linux 12 | PASS | SKIPPED | SKIPPED | SKIPPED | SKIPPED | +-------------------------------+--------------------+------------------+-------------------+-------------------------+----------------------+ | Fedora Linux 42 | PASS | PASS | SKIPPED | SKIPPED | SKIPPED | +-------------------------------+--------------------+------------------+-------------------+-------------------------+----------------------+ | openSUSE Leap 15.6 | PASS | SKIPPED | SKIPPED | SKIPPED | SKIPPED | +-------------------------------+--------------------+------------------+-------------------+-------------------------+----------------------+ | Red Hat Enterprise Linux 8.10 | PASS | SKIPPED | SKIPPED | SKIPPED | SKIPPED | +-------------------------------+--------------------+------------------+-------------------+-------------------------+----------------------+ | Red Hat Enterprise Linux 9.5 | PASS | SKIPPED | SKIPPED | SKIPPED | SKIPPED | +-------------------------------+--------------------+------------------+-------------------+-------------------------+----------------------+ | Ubuntu 22.04 | PASS | SKIPPED | SKIPPED | SKIPPED | SKIPPED | +-------------------------------+--------------------+------------------+-------------------+-------------------------+----------------------+ | Ubuntu 24.04 | PASS | PASS | SKIPPED | SKIPPED | SKIPPED | +-------------------------------+--------------------+------------------+-------------------+-------------------------+----------------------+ | Alpine Linux 3.22.0 | PASS | SKIPPED | SKIPPED | SKIPPED | SKIPPED | +-------------------------------+--------------------+------------------+-------------------+-------------------------+----------------------+ | Windows Server 2022 | SKIPPED | SKIPPED | PASS | PASS | PASS | +-------------------------------+--------------------+------------------+-------------------+-------------------------+----------------------+ Ubuntu 20.04 Kernel: 4.19 Compiler: gcc gcc (Ubuntu 9.4.0-1ubuntu1~20.04.2) 9.4.0 FreeBSD 14.2 Kernel: 14.2-RELEASE Compiler: clang 18.1.6 CentOS Stream 9 Kernel: 5.15 Compiler: gcc gcc (GCC) 11.5.0 20240719 (Red Hat 11.5.0-11) CentOS Stream 10 Kernel: 5.15 Compiler: gcc gcc (GCC) 14.2.1 20250110 (Red Hat 14.2.1-8) Debian GNU/Linux 12 Kernel: 5.15 Compiler: gcc gcc (Debian 12.2.0-14+deb12u1) 12.2.0 Fedora Linux 42 Kernel: 5.15 Compiler: clang gcc (GCC) 15.2.1 20250808 (Red Hat 15.2.1-1) openSUSE Leap 15.6 Kernel: 5.15 Compiler: gcc gcc (SUSE Linux) 7.5.0 Red Hat Enterprise Linux 8.10 Kernel: 5.15 Compiler: gcc gcc (GCC) 8.5.0 20210514 (Red Hat 8.5.0-22) Red Hat Enterprise Linux 9.5 Kernel: 5.15 Compiler: gcc gcc (GCC) 11.5.0 20240719 (Red Hat 11.5.0-2) Ubuntu 22.04 Kernel: 5.15 Compiler: gcc gcc (Ubuntu 11.4.0-1ubuntu1~22.04) 11.4.0 Ubuntu 24.04 Kernel: 5.15 Compiler: gcc gcc (Ubuntu 13.3.0-6ubuntu2~24.04) 13.3.0 Alpine Linux 3.22.0 Kernel: 5.15 Compiler: gcc gcc (Alpine 14.2.0) 14.2.0 Windows Server 2022 Kernel: 10.0.20348.2031 Compiler: clang 15.0.7, gcc 14.1.0 (MinGW), and MSVC VS 19.39.33521 To view detailed results, visit: https://lab.dpdk.org/results/dashboard/patchsets/34543/ UNH-IOL DPDK Community Lab To manage your email subscriptions, visit: https://lab.dpdk.org/results/dashboard/preferences/subscriptions/