From mboxrd@z Thu Jan 1 00:00:00 1970 Return-Path: Received: from mails.dpdk.org (mails.dpdk.org [217.70.189.124]) by inbox.dpdk.org (Postfix) with ESMTP id 0C10848B07 for ; Fri, 14 Nov 2025 13:27:26 +0100 (CET) Received: from mails.dpdk.org (localhost [127.0.0.1]) by mails.dpdk.org (Postfix) with ESMTP id E921940151; Fri, 14 Nov 2025 13:27:25 +0100 (CET) Received: from mail-pl1-f228.google.com (mail-pl1-f228.google.com [209.85.214.228]) by mails.dpdk.org (Postfix) with ESMTP id 265E640151 for ; Fri, 14 Nov 2025 13:27:25 +0100 (CET) Received: by mail-pl1-f228.google.com with SMTP id d9443c01a7336-29558061c68so23483155ad.0 for ; Fri, 14 Nov 2025 04:27:25 -0800 (PST) DKIM-Signature: v=1; a=rsa-sha256; c=relaxed/relaxed; d=iol.unh.edu; s=unh-iol; t=1763123244; x=1763728044; darn=dpdk.org; h=references:in-reply-to:cc:to:from:subject:message-id:date:from:to :cc:subject:date:message-id:reply-to; bh=ijp4xqk6m8WOZtCL8DP8e7HUPN5KP7SJ/RUTl0k8ads=; b=bkpV/AuOLcAtPV7vwMmVgEqifIaiYwsXj6YYNEMt3TRy6A0ixpiCOxzDp7ocMj5Byc mhlujcL/YrcrQ0Hv266nZS9m81Hmzi4o3qeP64LqoytrUBfH8Rl2gRqrL0KL67VwYC3l 8mgbK1SKE5FmD3QMlJCLzWJmByktvn3EgpC9s= X-Google-DKIM-Signature: v=1; a=rsa-sha256; c=relaxed/relaxed; d=1e100.net; s=20230601; t=1763123244; x=1763728044; h=references:in-reply-to:cc:to:from:subject:message-id:date:x-gm-gg :x-gm-message-state:from:to:cc:subject:date:message-id:reply-to; bh=ijp4xqk6m8WOZtCL8DP8e7HUPN5KP7SJ/RUTl0k8ads=; b=Y3qDmOjTHJVpnL/SC1Ba4zSDDXZsxV7i/9cjNd4U+Fxm4pOpiST6gK4xR42CEWiwsE ISBHlfVOytM6Bh7T9FIps7gLuko75zLWIhAohBmyszkGu2ifzOhqgrObR1tE4IxBgjFa dLWcfdieVlGfe59d5PujV0N/4d1VUqZ8XRCNX9mAH95RsjM2Cm0+QzzCQfhUTG7D+By8 hjHtCVQolQlhE5B9CVhxPVdfvuq0zuVvqYHfcWVMH4FPVnPsJ0YZ8UAl+tj8n0MAgECc 3bvaJC8gB7VZEvVPKKz8rBiSl5E3hDZbR/N4ZH/Nn1d9gOtwMCr2WapbyXkW8f7QP3FC xzyA== X-Gm-Message-State: AOJu0Yx4RNcyU5PJESQWNilF0QapwnzEPPc4DfKJswCQ9H8EOuF6INOO crGEWq3aFVFm0YNSvD0GaBp59pdm2VHkrSBS0rkT3rq/k50NJm6Z4rUcn+vuK87q2zBCqexb4W1 79UpFM6xujRqouI04d8PtNp2aIyffEXJShrcyCm3ra4hi X-Gm-Gg: ASbGnculPMTUoQoQJj+Ptr0MA1pmr/y//BomOTLyJgy6IZJQ/hF89XPwWLpREQ27QjE vlnW0qozcujV/5mFvnv+QpsnAqUKQ+CShtM+b+gORUeesoTA0O6WAr1FSirFklvPekFB6YCM0sz RmjpdyoykNGJItgW44+0vPA2yC81OKv0O7uzO3LdFVwgbohZDeZ1iEWXjNaAvk03zB3eSkjipQN 2Y7ARLX1sXoOZj3yszbEnbe1epBu56YHBiC1R6/CMJPU+0QmQnRxmIhE4zEb5eVrmgDx6i7HW9Y qYPVvVwfFSsHx/GU77S/hk7r6DSRwPzGbwUjCoWBCtS+OlhPga1RBS09N5dEhi0CIOVoA7HTaIh bwHzf2iXD3Qsi06wKwV0dQpM4du7I5fg= X-Google-Smtp-Source: AGHT+IG1AO+XrK2u54nhsni4j2/fYpjflGzfjPwSLCki8lBJAxO48oRq+S2+0la9QelT0XsCN8L37C5Cd8+F X-Received: by 2002:a05:7022:439e:b0:11a:436c:2d56 with SMTP id a92af1059eb24-11b40e7b673mr1440935c88.2.1763123244128; Fri, 14 Nov 2025 04:27:24 -0800 (PST) Received: from postal.iol.unh.edu (postal.iol.unh.edu. [132.177.123.84]) by smtp-relay.gmail.com with ESMTPS id a92af1059eb24-11b0609138asm252209c88.6.2025.11.14.04.27.24 (version=TLS1_2 cipher=ECDHE-ECDSA-AES128-GCM-SHA256 bits=128/128); Fri, 14 Nov 2025 04:27:24 -0800 (PST) X-Relaying-Domain: iol.unh.edu Date: Fri, 14 Nov 2025 04:27:24 -0800 (PST) Message-ID: <6917202c.050a0220.3d471e.bf69SMTPIN_ADDED_MISSING@mx.google.com> Received: from [172.21.0.2] (unknown [172.18.0.240]) by postal.iol.unh.edu (Postfix) with ESMTP id 29EC46051830; Fri, 14 Nov 2025 07:27:23 -0500 (EST) Subject: |SUCCESS| pw158777-158778 [PATCH] [2/2] net/iavf: check Rx timestamp From: dpdklab@iol.unh.edu To: Test Report Cc: dpdk-test-reports@iol.unh.edu, Bruce Richardson In-Reply-To: <20251113-jk-dpdk-iavf-rx-timestamping-improvements-v1-2-3d9a0168087b@intel.com> References: <20251113-jk-dpdk-iavf-rx-timestamping-improvements-v1-2-3d9a0168087b@intel.com> Content-Type: text/plain X-BeenThere: test-report@dpdk.org X-Mailman-Version: 2.1.29 Precedence: list List-Id: automatic DPDK test reports List-Unsubscribe: , List-Archive: List-Post: List-Help: List-Subscribe: , Errors-To: test-report-bounces@dpdk.org Test-Label: iol-compile-amd64-testing Test-Status: SUCCESS http://dpdk.org/patch/158778 _Testing PASS_ Submitter: Jacob Keller Date: Thursday, November 13 2025 21:33:45 DPDK git baseline: Repo:dpdk-next-net-intel Branch: master CommitID:e5357d609907d504f4705e4899f3dad43cb4b70f 158777-158778 --> testing pass Upstream job id: Generic-DPDK-Compile-Meson#444239 Test environment and result as below: +-------------------------------+--------------------+-------------------------+------------------+ | Environment | dpdk_meson_compile | dpdk_llvm_clang_compile | dpdk_compile_ovs | +===============================+====================+=========================+==================+ | Ubuntu 20.04 | PASS | SKIPPED | SKIPPED | +-------------------------------+--------------------+-------------------------+------------------+ | FreeBSD 14.2 | PASS | SKIPPED | SKIPPED | +-------------------------------+--------------------+-------------------------+------------------+ | Red Hat Enterprise Linux 8.10 | PASS | SKIPPED | SKIPPED | +-------------------------------+--------------------+-------------------------+------------------+ | Fedora Linux 42 | PASS | SKIPPED | PASS | +-------------------------------+--------------------+-------------------------+------------------+ | Windows Server 2022 | SKIPPED | PASS | SKIPPED | +-------------------------------+--------------------+-------------------------+------------------+ Ubuntu 20.04 Kernel: 4.19 Compiler: gcc gcc (Ubuntu 9.4.0-1ubuntu1~20.04.2) 9.4.0 FreeBSD 14.2 Kernel: 14.2-RELEASE Compiler: clang 18.1.6 Red Hat Enterprise Linux 8.10 Kernel: 5.15 Compiler: gcc gcc (GCC) 8.5.0 20210514 (Red Hat 8.5.0-22) Fedora Linux 42 Kernel: 5.15 Compiler: gcc gcc (GCC) 15.2.1 20250808 (Red Hat 15.2.1-1) Windows Server 2022 Kernel: 10.0.20348.2031 Compiler: clang 15.0.7, gcc 14.1.0 (MinGW), and MSVC VS 19.39.33521 To view detailed results, visit: https://lab.dpdk.org/results/dashboard/patchsets/34584/ UNH-IOL DPDK Community Lab To manage your email subscriptions, visit: https://lab.dpdk.org/results/dashboard/preferences/subscriptions/