From mboxrd@z Thu Jan 1 00:00:00 1970 Return-Path: Received: from mails.dpdk.org (mails.dpdk.org [217.70.189.124]) by inbox.dpdk.org (Postfix) with ESMTP id E840B48B07 for ; Fri, 14 Nov 2025 13:36:15 +0100 (CET) Received: from mails.dpdk.org (localhost [127.0.0.1]) by mails.dpdk.org (Postfix) with ESMTP id B578A40151; Fri, 14 Nov 2025 13:36:15 +0100 (CET) Received: from mail-qv1-f98.google.com (mail-qv1-f98.google.com [209.85.219.98]) by mails.dpdk.org (Postfix) with ESMTP id 21C4440151 for ; Fri, 14 Nov 2025 13:36:15 +0100 (CET) Received: by mail-qv1-f98.google.com with SMTP id 6a1803df08f44-880439c5704so16502256d6.1 for ; Fri, 14 Nov 2025 04:36:15 -0800 (PST) DKIM-Signature: v=1; a=rsa-sha256; c=relaxed/relaxed; d=iol.unh.edu; s=unh-iol; t=1763123774; x=1763728574; darn=dpdk.org; h=references:in-reply-to:cc:to:from:subject:message-id:date:from:to :cc:subject:date:message-id:reply-to; bh=r/fho4Mliz1tNDMs7vrXuDs4+orc9CZ1xe/LamfWs4A=; b=hx4XUl7E7xz4QD2iWrUKw7TDJZw4aOiRnWjWFkAnb7TwmvkjGAIa/4hz9smN3WzYY5 0f0bRbP+CN7rdOl7pKvA8hEqzMoubqYUOhJeY9aRUTvRQuefWmBrmyucLov6EQS36Bpa q42r3/tpzfq5/bWzk0OdR3Q8RmE1YJqqhzZ3U= X-Google-DKIM-Signature: v=1; a=rsa-sha256; c=relaxed/relaxed; d=1e100.net; s=20230601; t=1763123774; x=1763728574; h=references:in-reply-to:cc:to:from:subject:message-id:date:x-gm-gg :x-gm-message-state:from:to:cc:subject:date:message-id:reply-to; bh=r/fho4Mliz1tNDMs7vrXuDs4+orc9CZ1xe/LamfWs4A=; b=A4CAEh3JtbSMai3DRigLQq/5BVv5dSFQvKlLEucqUvli60G07ejJ+UL7KrKHlWk60e BCKCI0CGJZuZ/vyruplxiESZ7flQncKs6wYemOEUlfxNMo9jIXOO9xJgNpAannX29O+V zNgRSnyVZE+D/xb+E1MQ3NXkRfx5lVV6PX4iurKvH76knYhiI7mRb/Ri5vfkc33aEL2C aG5rO4KubCO0eyZ1i9yKr4Q4SsZtBQ2gp/Wynz9SFsggk1K3TTHi9A4yFEniZZIOcwAX DenNtGr5e+7SiNXtvlnmjJAe9kctgRj4v2G/CRmE3jj9xpeo06xYUoCTbfOlyuRj3n7l PacQ== X-Gm-Message-State: AOJu0YxNNGBp4f4RRe/iIX1XwmTbQQzn9Ol/CwHLyiksZNDnUt8ZHXHx px5582uBbWO60CCtRbfsuP5591wl5bfKas6GTW2u1Wl9Xqf4len6pyGIURlhclQgXZbZqsgaImw 6d/sinlLYMITSBEfeAfj+5ZKvCbVtDOj0g+upZ79yoycX X-Gm-Gg: ASbGncvXhRVgvKK/eocBmYwqJyWX74M0dsk0RMumPrVHmKfXlA61QMcItbBEbLC9kvc wTQEspKcSIQpPiW0g7PLwWbIWX6txof7jDqlxO0F88SaR2Kdlq3xuQ+RTEb38L/y8tsscDv4/ov i8LYRSJzURAwCPChZPK8E5H6sqIGoAdbQJk3tt+2CEgv/+ItHzLzuAHVwpC4+jaPw2TmkgCCjm3 x5FKImlT/pExZ4ObX9lK8fj6ZDIGpx09PX+vHQgmDnN+eMEeZf6QnbiqlQGv3a/QMO+aj9Y5NHC vV9QLNd/Eeg2HyFaG/hzSSkRI3HW0MaMojt8DcqewY+3h1UnivuZdx9R0cy7bpz+fvrmaZ/tCKj DO9MrHnE2935zPOkmrv7oTHVThZ95UK8= X-Google-Smtp-Source: AGHT+IHm4I3S0OyqaA0ATPfvBuMUknB1WT7cQxaqlQQJwVQSq2dTrSm7B8HH/Ai05Mk4OaSwu4pYKgtxrhnf X-Received: by 2002:a05:6214:250e:b0:880:6719:db40 with SMTP id 6a1803df08f44-882926e6729mr31678116d6.64.1763123774359; Fri, 14 Nov 2025 04:36:14 -0800 (PST) Received: from postal.iol.unh.edu (postal.iol.unh.edu. [132.177.123.84]) by smtp-relay.gmail.com with ESMTPS id 6a1803df08f44-882865b63b6sm5623256d6.33.2025.11.14.04.36.14 (version=TLS1_2 cipher=ECDHE-ECDSA-AES128-GCM-SHA256 bits=128/128); Fri, 14 Nov 2025 04:36:14 -0800 (PST) X-Relaying-Domain: iol.unh.edu Date: Fri, 14 Nov 2025 04:36:14 -0800 (PST) Message-ID: <6917223e.d40a0220.1afae4.a738SMTPIN_ADDED_MISSING@mx.google.com> Received: from [172.21.0.3] (unknown [172.18.0.240]) by postal.iol.unh.edu (Postfix) with ESMTP id 16C7060003E7; Fri, 14 Nov 2025 07:36:14 -0500 (EST) Subject: |SUCCESS| pw158753 [PATCH] net/intel: rename variable in Rx select t From: dpdklab@iol.unh.edu To: Test Report Cc: dpdk-test-reports@iol.unh.edu, Bruce Richardson In-Reply-To: <20251113103012.3782264-1-ciara.loftus@intel.com> References: <20251113103012.3782264-1-ciara.loftus@intel.com> Content-Type: text/plain X-BeenThere: test-report@dpdk.org X-Mailman-Version: 2.1.29 Precedence: list List-Id: automatic DPDK test reports List-Unsubscribe: , List-Archive: List-Post: List-Help: List-Subscribe: , Errors-To: test-report-bounces@dpdk.org Test-Label: iol-unit-amd64-testing Test-Status: SUCCESS http://dpdk.org/patch/158753 _Testing PASS_ Submitter: Ciara Loftus Date: Thursday, November 13 2025 10:30:12 DPDK git baseline: Repo:dpdk-next-net-intel Branch: master CommitID:123703be5bdd0fa45e4fda14f36a0d941d1f7e63 158753 --> testing pass Upstream job id: Generic-VM-Unit-Test-DPDK#32534 Test environment and result as below: +-------------------------------+----------------+ | Environment | dpdk_unit_test | +===============================+================+ | CentOS Stream 9 | PASS | +-------------------------------+----------------+ | Debian GNU/Linux 12 | PASS | +-------------------------------+----------------+ | CentOS Stream 10 | PASS | +-------------------------------+----------------+ | Fedora Linux 40 | PASS | +-------------------------------+----------------+ | Fedora Linux 42 | PASS | +-------------------------------+----------------+ | Fedora Linux 41 | PASS | +-------------------------------+----------------+ | Red Hat Enterprise Linux 8.10 | PASS | +-------------------------------+----------------+ | Ubuntu 20.04 | PASS | +-------------------------------+----------------+ | Red Hat Enterprise Linux 9.5 | PASS | +-------------------------------+----------------+ | Ubuntu 22.04 | PASS | +-------------------------------+----------------+ | Ubuntu 24.04 | PASS | +-------------------------------+----------------+ | Windows Server 2022 | PASS | +-------------------------------+----------------+ CentOS Stream 9 Kernel: 5.15 Compiler: gcc gcc (GCC) 11.5.0 20240719 (Red Hat 11.5.0-11) Debian GNU/Linux 12 Kernel: 5.15 Compiler: gcc gcc (Debian 12.2.0-14+deb12u1) 12.2.0 CentOS Stream 10 Kernel: 5.15 Compiler: gcc gcc (GCC) 14.2.1 20250110 (Red Hat 14.2.1-8) Fedora Linux 40 Kernel: 5.15 Compiler: gcc gcc (GCC) 14.2.1 20240912 (Red Hat 14.2.1-3) Fedora Linux 42 Kernel: 5.15 Compiler: gcc gcc (GCC) 15.2.1 20250808 (Red Hat 15.2.1-1) Fedora Linux 41 Kernel: 5.15 Compiler: gcc gcc (GCC) 14.3.1 20250523 (Red Hat 14.3.1-1) Red Hat Enterprise Linux 8.10 Kernel: 5.15 Compiler: gcc gcc (GCC) 8.5.0 20210514 (Red Hat 8.5.0-22) Ubuntu 20.04 Kernel: 5.15 Compiler: gcc gcc (Ubuntu 9.4.0-1ubuntu1~20.04.2) 9.4.0 Red Hat Enterprise Linux 9.5 Kernel: 5.15 Compiler: gcc gcc (GCC) 11.5.0 20240719 (Red Hat 11.5.0-2) Ubuntu 22.04 Kernel: 5.15 Compiler: gcc gcc (Ubuntu 11.4.0-1ubuntu1~22.04) 11.4.0 Ubuntu 24.04 Kernel: 5.15 Compiler: gcc gcc (Ubuntu 13.3.0-6ubuntu2~24.04) 13.3.0 Windows Server 2022 Kernel: 10.0.20348.2031 Compiler: clang 15.0.7, gcc 14.1.0 (MinGW), and MSVC VS 19.39.33521 To view detailed results, visit: https://lab.dpdk.org/results/dashboard/patchsets/34570/ UNH-IOL DPDK Community Lab To manage your email subscriptions, visit: https://lab.dpdk.org/results/dashboard/preferences/subscriptions/