From mboxrd@z Thu Jan 1 00:00:00 1970 Return-Path: Received: from mails.dpdk.org (mails.dpdk.org [217.70.189.124]) by inbox.dpdk.org (Postfix) with ESMTP id D3B3148B08 for ; Fri, 14 Nov 2025 14:05:58 +0100 (CET) Received: from mails.dpdk.org (localhost [127.0.0.1]) by mails.dpdk.org (Postfix) with ESMTP id CCE8B40151; Fri, 14 Nov 2025 14:05:58 +0100 (CET) Received: from mail-pj1-f97.google.com (mail-pj1-f97.google.com [209.85.216.97]) by mails.dpdk.org (Postfix) with ESMTP id EDB1C40151 for ; Fri, 14 Nov 2025 14:05:57 +0100 (CET) Received: by mail-pj1-f97.google.com with SMTP id 98e67ed59e1d1-343f52d15efso1545320a91.3 for ; Fri, 14 Nov 2025 05:05:57 -0800 (PST) DKIM-Signature: v=1; a=rsa-sha256; c=relaxed/relaxed; d=iol.unh.edu; s=unh-iol; t=1763125557; x=1763730357; darn=dpdk.org; h=references:in-reply-to:cc:to:from:subject:message-id:date:from:to :cc:subject:date:message-id:reply-to; bh=X6nwAANYoPFxIz6zG7jhGt/KbZTGZFIjtbqhpAmmpvI=; b=JwcPkBP7KZ/dkYoUvZiOpeYPXHutIokHE/Hbuc37uTPRgHqgL5MuxZH6iaAhgcpPbt YJcl+Z6C7YcuQEWGC2VEItMZvHN23JZb4jufCyeZhN9UO2lv6mqC0gvSeIX79zvdnWOq PCjF9iTGvwFkIBqzTHqeLy3OvN8oteMQzVlYs= X-Google-DKIM-Signature: v=1; a=rsa-sha256; c=relaxed/relaxed; d=1e100.net; s=20230601; t=1763125557; x=1763730357; h=references:in-reply-to:cc:to:from:subject:message-id:date:x-gm-gg :x-gm-message-state:from:to:cc:subject:date:message-id:reply-to; bh=X6nwAANYoPFxIz6zG7jhGt/KbZTGZFIjtbqhpAmmpvI=; b=fJSQULyts3quMz2WUNu06+Ac4o6+PShJGNWZUBvwoWYuoTHHp9rpOM1pMyoL4tWWSA 9SoIdzwhkhhCmIB/Xkszi3Ii0tThOuCVJV7ulkWY5DD/daDLu0J6PO5bOc3ICPkmZJAP 742F3ioaQZx4KW1RZOxTZmq0SqOMk5tM8WwkHz0acr8FmUNbDnjfcnC/wkM+cXtK8yxV zTIv0QKoyMhLp5DotLC8sULIgufiDJrinmpp1rUpsRsf+DXFeY0eQLxQOVfFFyfH/CXc kh4exyR1qfKrUquiJPEQ38l46GBsxGVPjzLZzLO6/yK08MzKFAzYNXe9DmihrOLU2nqS kfow== X-Gm-Message-State: AOJu0Yywpm2+s3e+bPIbWbxyyl66VC8mPfEArassUrna1q9GrlrPK2wH /ixaWJu/9n+O4KwDSAkOH6evDbEZa/1+IoLmvU60a1vRzOjT4sY+DgOKm4NDJq5hUZMBm1VA6m2 rWtsw+GMRv6X103SBnEPJgX0yXWgVoSEoVAAVf5f+fb+GzM4a5cy1jNG6FoGf X-Gm-Gg: ASbGncu19dyHYozQ1c3PoBpsHBrCgGXHRTUopDSrFcYg8YzBTjm7oSuuuYoIEhUVltq sf7achYh3Kzyx89VKtoAdcIxv4XroUpfjV3yfRiDOj3nGfBSKp1RNrzwjPkYUVnI/mGwrxsDTO2 2u4ZsUYCmEgU5JNx3RHB4H8lKRQlfqNsOKhMp4hwi4Rx/6dC+EKIRVDO7LqpI9cD0UdFnDLRLte /mHonv6K0Ea1J8sh8nG0zoo1BTsIE2Iz2VUWxDdUONuSUlyWKEFq5a2IirGcL7VybPFsy7UmgEt GmizAHnfrC7ImEOh7PCNTfPbLntQurIccKOBkAagxqIRiLZLTl4QpyIU6hos/suzj1D2bXZu8Gm W3dSGIYjS X-Google-Smtp-Source: AGHT+IGsE4MnMuy3X40Z5e4gAY2QFnvmx2luymzO+aqOQmL8g8j394RBgQRdWpWb3uxiRHrFfnOzf6rNBoDs X-Received: by 2002:a17:90b:38ca:b0:340:7b2e:64cc with SMTP id 98e67ed59e1d1-343f9eb614emr3646675a91.15.1763125557032; Fri, 14 Nov 2025 05:05:57 -0800 (PST) Received: from postal.iol.unh.edu (postal.iol.unh.edu. [2606:4100:3880:1234::84]) by smtp-relay.gmail.com with ESMTPS id 98e67ed59e1d1-343ed5724d6sm542555a91.6.2025.11.14.05.05.56 (version=TLS1_2 cipher=ECDHE-ECDSA-AES128-GCM-SHA256 bits=128/128); Fri, 14 Nov 2025 05:05:57 -0800 (PST) X-Relaying-Domain: iol.unh.edu Date: Fri, 14 Nov 2025 05:05:57 -0800 (PST) Message-ID: <69172935.170a0220.32756.ab5bSMTPIN_ADDED_MISSING@mx.google.com> Received: from [172.21.0.2] (unknown [172.18.0.240]) by postal.iol.unh.edu (Postfix) with ESMTP id 765A26051830; Fri, 14 Nov 2025 08:05:56 -0500 (EST) Subject: |SUCCESS| pw158775 [PATCH] net/mlx5: fix state corruption in dev sta From: dpdklab@iol.unh.edu To: Test Report Cc: dpdk-test-reports@iol.unh.edu In-Reply-To: <20251113193711.7883-1-mkashani@nvidia.com> References: <20251113193711.7883-1-mkashani@nvidia.com> Content-Type: text/plain X-BeenThere: test-report@dpdk.org X-Mailman-Version: 2.1.29 Precedence: list List-Id: automatic DPDK test reports List-Unsubscribe: , List-Archive: List-Post: List-Help: List-Subscribe: , Errors-To: test-report-bounces@dpdk.org Test-Label: iol-compile-amd64-testing Test-Status: SUCCESS http://dpdk.org/patch/158775 _Testing PASS_ Submitter: Maayan Kashani Date: Thursday, November 13 2025 19:37:11 DPDK git baseline: Repo:dpdk-next-net-mlx Branch: master CommitID:ae657d56b1f0ea979b3f611edf28d773efc2ddcf 158775 --> testing pass Upstream job id: Generic-DPDK-Compile-Meson#444260 Test environment and result as below: +---------------------+--------------------+ | Environment | dpdk_meson_compile | +=====================+====================+ | Ubuntu 20.04 | PASS | +---------------------+--------------------+ | FreeBSD 14.2 | PASS | +---------------------+--------------------+ | Alpine Linux 3.22.0 | PASS | +---------------------+--------------------+ | CentOS Stream 9 | PASS | +---------------------+--------------------+ Ubuntu 20.04 Kernel: 4.19 Compiler: gcc gcc (Ubuntu 9.4.0-1ubuntu1~20.04.2) 9.4.0 FreeBSD 14.2 Kernel: 14.2-RELEASE Compiler: clang 18.1.6 Alpine Linux 3.22.0 Kernel: 5.15 Compiler: gcc gcc (Alpine 14.2.0) 14.2.0 CentOS Stream 9 Kernel: 5.15 Compiler: gcc gcc (GCC) 11.5.0 20240719 (Red Hat 11.5.0-11) To view detailed results, visit: https://lab.dpdk.org/results/dashboard/patchsets/34582/ UNH-IOL DPDK Community Lab To manage your email subscriptions, visit: https://lab.dpdk.org/results/dashboard/preferences/subscriptions/