From mboxrd@z Thu Jan 1 00:00:00 1970 Return-Path: Received: from mails.dpdk.org (mails.dpdk.org [217.70.189.124]) by inbox.dpdk.org (Postfix) with ESMTP id 7454548B08 for ; Fri, 14 Nov 2025 14:09:37 +0100 (CET) Received: from mails.dpdk.org (localhost [127.0.0.1]) by mails.dpdk.org (Postfix) with ESMTP id 6D26840151; Fri, 14 Nov 2025 14:09:37 +0100 (CET) Received: from mail-pl1-f226.google.com (mail-pl1-f226.google.com [209.85.214.226]) by mails.dpdk.org (Postfix) with ESMTP id E0B2A40151 for ; Fri, 14 Nov 2025 14:09:36 +0100 (CET) Received: by mail-pl1-f226.google.com with SMTP id d9443c01a7336-298144fb9bcso21213805ad.0 for ; Fri, 14 Nov 2025 05:09:36 -0800 (PST) DKIM-Signature: v=1; a=rsa-sha256; c=relaxed/relaxed; d=iol.unh.edu; s=unh-iol; t=1763125776; x=1763730576; darn=dpdk.org; h=references:in-reply-to:cc:to:from:subject:message-id:date:from:to :cc:subject:date:message-id:reply-to; bh=DTRPZBb4afffyfsiK3S6E6+vyTKi/Lk0/+1mmFF2yn0=; b=f8bZJaY5KtCiOSeJuKexslkoJHpVmXgWewEqp4ZzohcWbtBVACwBnNQyilktb3biON 3OW72R5XrVsIBl8ihPnyZ+eW4acryLHkpNYsqzUtUbhUvGfInSvOZ/f6/9HRwSezj0Zo U4gHHYxhsnTyIPcuoZFFXM+vZE0SfYvZ4PjvQ= X-Google-DKIM-Signature: v=1; a=rsa-sha256; c=relaxed/relaxed; d=1e100.net; s=20230601; t=1763125776; x=1763730576; h=references:in-reply-to:cc:to:from:subject:message-id:date:x-gm-gg :x-gm-message-state:from:to:cc:subject:date:message-id:reply-to; bh=DTRPZBb4afffyfsiK3S6E6+vyTKi/Lk0/+1mmFF2yn0=; b=xSGacrVOIzxj+BFhJnOHQXGs6eURPgRLdNV3zad5tYme5R8HEhoGHe0abtQK9cdQRt tGq0IgGvrA7Ks31Wm8RPP2qWmmL0tl3o/v8gqmaHTIserbKp5YaZ7rlDM27ejeqmOHEj pJxgepDAN/AtMkoao4TpownBuAfajqMMT3eBf3VaZ+dCay5dcijivdKwJpHybkg0aT4z NN+42Y5tYh3LArnCiE5Yeko1zv2kHi95KPfWm4MjwpLw1GglhGRle1E1Yej0W5tnOumv jaISEraxsZd3X2+5q6XxJTLJ00O5evzO6uGl2R6g1pbcZIA1bAXGJqcfEGTeHr97buTk IJ+w== X-Gm-Message-State: AOJu0Yyyw/+3T8ni5edMGoUD6UD6Ki1JS/m9C4UukkGXeFikXFvYg1nt hXd1hvytfgU6PGYA03Su1bvCYi1kvLKZLvpyeI+Zwp4rXdj7wIckkDtd0/S1W8uRR6CksL6CuEW 1PnYzK8ukZO2rEnOubYg9WlXqmgL0mUny1ATGSRe/naIE X-Gm-Gg: ASbGncv36KAwnb/5ixzV81wyoiLSZdrMLdQwdorpXg5bhnBk+n0sx6I18cRfXljy10j snwUgbITG2T+EHwhQNhOCJAxbjlP+Uk5QXEZ7YiULHX8zd3tWCnqkjHGavkDz6sEuFEBmKxGm5M R8KA5dx17t/4XNevy3VhYvE/VSXd9iDwhGlq0BP3mz62ys1WbqpxCpV8+fsviYVf9rPkgwnBoKB YMTxqGVWkVh9o5LEhn9KKx1VdQQdl2Twx9lkcmDf/etrsLervhQTyE9+cWNW9hxq6A9qQOH2Al4 UmeRjHn31I2wvqc5b3gGXvZjMtlC3V9/eevqb3nM1QZvgKEJa7PElMTavloLR8sE+v8PH22IJ2Q yPif8L2sxgKi9hh6/Q+TR9sTZLz+Ofi8= X-Google-Smtp-Source: AGHT+IHxx1oo1c7gppV4Aj6fJp9J+9+kyQPAd+IzOPQBpT/kmy3SElZU4U0m8ycL5VdZ2QjBxH4imOB1n0u6 X-Received: by 2002:a17:902:f68a:b0:298:5fde:5a90 with SMTP id d9443c01a7336-2986a75e58fmr34491565ad.58.1763125776026; Fri, 14 Nov 2025 05:09:36 -0800 (PST) Received: from postal.iol.unh.edu (postal.iol.unh.edu. [132.177.123.84]) by smtp-relay.gmail.com with ESMTPS id d9443c01a7336-2985c241b61sm5432245ad.14.2025.11.14.05.09.35 (version=TLS1_2 cipher=ECDHE-ECDSA-AES128-GCM-SHA256 bits=128/128); Fri, 14 Nov 2025 05:09:36 -0800 (PST) X-Relaying-Domain: iol.unh.edu Date: Fri, 14 Nov 2025 05:09:36 -0800 (PST) Message-ID: <69172a10.170a0220.2cc0b1.9febSMTPIN_ADDED_MISSING@mx.google.com> Received: from [172.21.0.3] (unknown [172.18.0.240]) by postal.iol.unh.edu (Postfix) with ESMTP id 6E8216051830; Fri, 14 Nov 2025 08:09:35 -0500 (EST) Subject: |SUCCESS| pw158775 [PATCH] net/mlx5: fix state corruption in dev sta From: dpdklab@iol.unh.edu To: Test Report Cc: dpdk-test-reports@iol.unh.edu In-Reply-To: <20251113193711.7883-1-mkashani@nvidia.com> References: <20251113193711.7883-1-mkashani@nvidia.com> Content-Type: text/plain X-BeenThere: test-report@dpdk.org X-Mailman-Version: 2.1.29 Precedence: list List-Id: automatic DPDK test reports List-Unsubscribe: , List-Archive: List-Post: List-Help: List-Subscribe: , Errors-To: test-report-bounces@dpdk.org Test-Label: iol-compile-amd64-testing Test-Status: SUCCESS http://dpdk.org/patch/158775 _Testing PASS_ Submitter: Maayan Kashani Date: Thursday, November 13 2025 19:37:11 DPDK git baseline: Repo:dpdk-next-net-mlx Branch: master CommitID:ae657d56b1f0ea979b3f611edf28d773efc2ddcf 158775 --> testing pass Upstream job id: Generic-DPDK-Compile-Meson#444261 Test environment and result as below: +---------------------+--------------------+ | Environment | dpdk_meson_compile | +=====================+====================+ | Ubuntu 20.04 | PASS | +---------------------+--------------------+ | FreeBSD 14.2 | PASS | +---------------------+--------------------+ | Alpine Linux 3.22.0 | PASS | +---------------------+--------------------+ | CentOS Stream 9 | PASS | +---------------------+--------------------+ | CentOS Stream 10 | PASS | +---------------------+--------------------+ Ubuntu 20.04 Kernel: 4.19 Compiler: gcc gcc (Ubuntu 9.4.0-1ubuntu1~20.04.2) 9.4.0 FreeBSD 14.2 Kernel: 14.2-RELEASE Compiler: clang 18.1.6 Alpine Linux 3.22.0 Kernel: 5.15 Compiler: gcc gcc (Alpine 14.2.0) 14.2.0 CentOS Stream 9 Kernel: 5.15 Compiler: gcc gcc (GCC) 11.5.0 20240719 (Red Hat 11.5.0-11) CentOS Stream 10 Kernel: 5.15 Compiler: gcc gcc (GCC) 14.2.1 20250110 (Red Hat 14.2.1-8) To view detailed results, visit: https://lab.dpdk.org/results/dashboard/patchsets/34582/ UNH-IOL DPDK Community Lab To manage your email subscriptions, visit: https://lab.dpdk.org/results/dashboard/preferences/subscriptions/