From mboxrd@z Thu Jan 1 00:00:00 1970 Return-Path: Received: from mails.dpdk.org (mails.dpdk.org [217.70.189.124]) by inbox.dpdk.org (Postfix) with ESMTP id F26A448B08 for ; Fri, 14 Nov 2025 14:13:12 +0100 (CET) Received: from mails.dpdk.org (localhost [127.0.0.1]) by mails.dpdk.org (Postfix) with ESMTP id CB1D240151; Fri, 14 Nov 2025 14:13:12 +0100 (CET) Received: from mail-il1-f226.google.com (mail-il1-f226.google.com [209.85.166.226]) by mails.dpdk.org (Postfix) with ESMTP id 86B9040151 for ; Fri, 14 Nov 2025 14:13:11 +0100 (CET) Received: by mail-il1-f226.google.com with SMTP id e9e14a558f8ab-43479d86958so9394035ab.0 for ; Fri, 14 Nov 2025 05:13:11 -0800 (PST) DKIM-Signature: v=1; a=rsa-sha256; c=relaxed/relaxed; d=iol.unh.edu; s=unh-iol; t=1763125991; x=1763730791; darn=dpdk.org; h=references:in-reply-to:cc:to:from:subject:message-id:date:from:to :cc:subject:date:message-id:reply-to; bh=t/MjiJujf85YAjJuC+FCFgfORYZFK0JKW6lu7JKmh/4=; b=Qt5OfoW4YkHsEM+rHXoFdzrAV4q/rEouQKK2YEh3C2l+pZWJFJ3NhJpnlFWqCQjcF6 HyunDhXSpcOdzaKUAC5baeMBYtrZgxaS544+FbnF1N2R0cEwuQbpq0wDYyW6TFUb54iU GOKbC9VySreoqJGR9mumqSYGRLE5xhT5HDtsw= X-Google-DKIM-Signature: v=1; a=rsa-sha256; c=relaxed/relaxed; d=1e100.net; s=20230601; t=1763125991; x=1763730791; h=references:in-reply-to:cc:to:from:subject:message-id:date:x-gm-gg :x-gm-message-state:from:to:cc:subject:date:message-id:reply-to; bh=t/MjiJujf85YAjJuC+FCFgfORYZFK0JKW6lu7JKmh/4=; b=JX+GGv/l/hVJ6Y4cW3OvIoVB5/CXThC7JoWO9r0pePovSqXbJmhgyrno+0c5UCXpF+ TE0WpSnhzLedkKR3yabYg0ztBPiI79YwCPT7fTQyqLX8AWY1gpQSdKem9oOHpMKKxTjW t1dhpTNx30J3fjZ5UZJFGc/GD/IdpZWB/hy8Ace3SXw1n7YCw7yXOb5msi7nUEnFBTHU zs9r8PrWk1IkKd8rRWK/mgQrAoUxrXOPqvs4dwweKhblTqnGxpuPTCdBgEIoPSxnBEln 8MZZn8FGlzapzyC1HXXisjgIZnOacnyTVjxv7WRmYyIJT29YyupWUIdKDyxgP2U1Mi2U uNYw== X-Gm-Message-State: AOJu0YyIlRSgWpYn0JunaSmw5ndJ/gkbNxzIqIY3o2lPV09Z4g14prdW JtVWwrhvpVYSzQtfdFEB8BxHVu6Izo8KL2DLMBmP1Axrzh1TVOdH6ncyI5G8Kt7UI4xoOVEMCWJ xrt1edZ+TMO4pAG6UJyStF1hczRu9A5J9BFkxC2ofxkWBAD64GSQo1SoSNZl2 X-Gm-Gg: ASbGncsk8meSwtInmg2vVGSk03wmAn/xAhBvSRwWpGL+YmLb6bDIl254+6B6KADXczV 1FCGMehQxrKfBhVyaAUupI5S15c8QkdUClkG6ZeOawEJCqjPLsCJnW0jAJZUnkzguvpYYKNmO+S P5DdDMj9AC8leka3DCk2n0mGlj9uZAk5PXnDQTqX25weqDYEaoHlFZc4zlRkRSGSQ3/TE0vb7/i 0gVy6VxaUBhI/QSqLm+IFDReVierHQAPUxJnDpLu21GWrKC+7OrhnqHt3AWOM25mP0Wh2CRiELT I0TOfVSOklipyucrkuYMtE0Hs33BlJnWLfJUymyI8mAVl139grgFr5XfDD7ODa7afrYMs1hSlXa Ssvp7rkzv X-Google-Smtp-Source: AGHT+IFv3jOiautWItkncALMJuYsbQDiOhqcAq0HD2rzoJK7j7E3P1+TKlQFAuryWwgv/AXtG2YHIooi9Lm+ X-Received: by 2002:a05:6e02:258b:b0:434:6ef2:a43d with SMTP id e9e14a558f8ab-4348c938f48mr38763885ab.19.1763125990786; Fri, 14 Nov 2025 05:13:10 -0800 (PST) Received: from postal.iol.unh.edu (postal.iol.unh.edu. [2606:4100:3880:1234::84]) by smtp-relay.gmail.com with ESMTPS id e9e14a558f8ab-4348399284asm4310805ab.19.2025.11.14.05.13.10 (version=TLS1_2 cipher=ECDHE-ECDSA-AES128-GCM-SHA256 bits=128/128); Fri, 14 Nov 2025 05:13:10 -0800 (PST) X-Relaying-Domain: iol.unh.edu Date: Fri, 14 Nov 2025 05:13:10 -0800 (PST) Message-ID: <69172ae6.920a0220.135507.3f66SMTPIN_ADDED_MISSING@mx.google.com> Received: from [172.21.0.2] (unknown [172.18.0.240]) by postal.iol.unh.edu (Postfix) with ESMTP id 49A6A6051830; Fri, 14 Nov 2025 08:13:10 -0500 (EST) Subject: |SUCCESS| pw158771 [PATCH] net/mlx5: fix uninitialized warning From: dpdklab@iol.unh.edu To: Test Report Cc: dpdk-test-reports@iol.unh.edu In-Reply-To: <20251113163301.285550-1-stephen@networkplumber.org> References: <20251113163301.285550-1-stephen@networkplumber.org> Content-Type: text/plain X-BeenThere: test-report@dpdk.org X-Mailman-Version: 2.1.29 Precedence: list List-Id: automatic DPDK test reports List-Unsubscribe: , List-Archive: List-Post: List-Help: List-Subscribe: , Errors-To: test-report-bounces@dpdk.org Test-Label: iol-compile-amd64-testing Test-Status: SUCCESS http://dpdk.org/patch/158771 _Testing PASS_ Submitter: Stephen Hemminger Date: Thursday, November 13 2025 16:33:01 DPDK git baseline: Repo:dpdk-next-net-mlx Branch: master CommitID:ae657d56b1f0ea979b3f611edf28d773efc2ddcf 158771 --> testing pass Upstream job id: Windows-Compile-DPDK-VS#7542 Test environment and result as below: +-------------------------------+--------------------+-------------------------+------------------+-------------------+ | Environment | dpdk_meson_compile | dpdk_llvm_clang_compile | dpdk_compile_ovs | dpdk_msvc_compile | +===============================+====================+=========================+==================+===================+ | Ubuntu 20.04 | PASS | SKIPPED | SKIPPED | SKIPPED | +-------------------------------+--------------------+-------------------------+------------------+-------------------+ | FreeBSD 14.2 | PASS | SKIPPED | SKIPPED | SKIPPED | +-------------------------------+--------------------+-------------------------+------------------+-------------------+ | CentOS Stream 9 | PASS | SKIPPED | SKIPPED | SKIPPED | +-------------------------------+--------------------+-------------------------+------------------+-------------------+ | CentOS Stream 10 | PASS | SKIPPED | SKIPPED | SKIPPED | +-------------------------------+--------------------+-------------------------+------------------+-------------------+ | Debian GNU/Linux 12 | PASS | SKIPPED | SKIPPED | SKIPPED | +-------------------------------+--------------------+-------------------------+------------------+-------------------+ | Fedora Linux 42 | PASS | SKIPPED | PASS | SKIPPED | +-------------------------------+--------------------+-------------------------+------------------+-------------------+ | openSUSE Leap 15.6 | PASS | SKIPPED | SKIPPED | SKIPPED | +-------------------------------+--------------------+-------------------------+------------------+-------------------+ | Red Hat Enterprise Linux 8.10 | PASS | SKIPPED | SKIPPED | SKIPPED | +-------------------------------+--------------------+-------------------------+------------------+-------------------+ | Red Hat Enterprise Linux 9.5 | PASS | SKIPPED | SKIPPED | SKIPPED | +-------------------------------+--------------------+-------------------------+------------------+-------------------+ | Ubuntu 22.04 | PASS | SKIPPED | SKIPPED | SKIPPED | +-------------------------------+--------------------+-------------------------+------------------+-------------------+ | Ubuntu 24.04 | PASS | SKIPPED | PASS | SKIPPED | +-------------------------------+--------------------+-------------------------+------------------+-------------------+ | Alpine Linux 3.22.0 | PASS | SKIPPED | SKIPPED | SKIPPED | +-------------------------------+--------------------+-------------------------+------------------+-------------------+ | Windows Server 2022 | SKIPPED | PASS | SKIPPED | PASS | +-------------------------------+--------------------+-------------------------+------------------+-------------------+ Ubuntu 20.04 Kernel: 4.19 Compiler: gcc gcc (Ubuntu 9.4.0-1ubuntu1~20.04.2) 9.4.0 FreeBSD 14.2 Kernel: 14.2-RELEASE Compiler: clang 18.1.6 CentOS Stream 9 Kernel: 5.15 Compiler: gcc gcc (GCC) 11.5.0 20240719 (Red Hat 11.5.0-11) CentOS Stream 10 Kernel: 5.15 Compiler: gcc gcc (GCC) 14.2.1 20250110 (Red Hat 14.2.1-8) Debian GNU/Linux 12 Kernel: 5.15 Compiler: gcc gcc (Debian 12.2.0-14+deb12u1) 12.2.0 Fedora Linux 42 Kernel: 5.15 Compiler: clang gcc (GCC) 15.2.1 20250808 (Red Hat 15.2.1-1) openSUSE Leap 15.6 Kernel: 5.15 Compiler: gcc gcc (SUSE Linux) 7.5.0 Red Hat Enterprise Linux 8.10 Kernel: 5.15 Compiler: gcc gcc (GCC) 8.5.0 20210514 (Red Hat 8.5.0-22) Red Hat Enterprise Linux 9.5 Kernel: 5.15 Compiler: gcc gcc (GCC) 11.5.0 20240719 (Red Hat 11.5.0-2) Ubuntu 22.04 Kernel: 5.15 Compiler: gcc gcc (Ubuntu 11.4.0-1ubuntu1~22.04) 11.4.0 Ubuntu 24.04 Kernel: 5.15 Compiler: gcc gcc (Ubuntu 13.3.0-6ubuntu2~24.04) 13.3.0 Alpine Linux 3.22.0 Kernel: 5.15 Compiler: gcc gcc (Alpine 14.2.0) 14.2.0 Windows Server 2022 Kernel: 10.0.20348.2031 Compiler: clang 15.0.7, gcc 14.1.0 (MinGW), and MSVC VS 19.39.33521 To view detailed results, visit: https://lab.dpdk.org/results/dashboard/patchsets/34579/ UNH-IOL DPDK Community Lab To manage your email subscriptions, visit: https://lab.dpdk.org/results/dashboard/preferences/subscriptions/