From mboxrd@z Thu Jan 1 00:00:00 1970 Return-Path: Received: from mails.dpdk.org (mails.dpdk.org [217.70.189.124]) by inbox.dpdk.org (Postfix) with ESMTP id 9DAB248B08 for ; Fri, 14 Nov 2025 14:20:40 +0100 (CET) Received: from mails.dpdk.org (localhost [127.0.0.1]) by mails.dpdk.org (Postfix) with ESMTP id 8190540151; Fri, 14 Nov 2025 14:20:40 +0100 (CET) Received: from mail-pl1-f227.google.com (mail-pl1-f227.google.com [209.85.214.227]) by mails.dpdk.org (Postfix) with ESMTP id 11D4F40151 for ; Fri, 14 Nov 2025 14:20:39 +0100 (CET) Received: by mail-pl1-f227.google.com with SMTP id d9443c01a7336-2955623e6faso17505695ad.1 for ; Fri, 14 Nov 2025 05:20:39 -0800 (PST) DKIM-Signature: v=1; a=rsa-sha256; c=relaxed/relaxed; d=iol.unh.edu; s=unh-iol; t=1763126438; x=1763731238; darn=dpdk.org; h=references:in-reply-to:cc:to:from:subject:message-id:date:from:to :cc:subject:date:message-id:reply-to; bh=bPN5qbLRmgiLqXy7C4abVrU/guoPOJ0sWci/GpYXWnE=; b=TD8MuG/a962lseJRaV0ZgYBjJ4qenWG3C4Vms2HJHKetyl4G/J9o1w2fmdb26e3Lyh QEtqBGBYISXhkA+iWc227Zt9PxCudXpHV78hKHQ6uMLU5ty7k5NgDTueQo2tcIvPNrhl rI91f9H9fXoG4oi8llIt0J337Y7ffWx708lPY= X-Google-DKIM-Signature: v=1; a=rsa-sha256; c=relaxed/relaxed; d=1e100.net; s=20230601; t=1763126438; x=1763731238; h=references:in-reply-to:cc:to:from:subject:message-id:date:x-gm-gg :x-gm-message-state:from:to:cc:subject:date:message-id:reply-to; bh=bPN5qbLRmgiLqXy7C4abVrU/guoPOJ0sWci/GpYXWnE=; b=WWo6kx951YMYJTX6swwZ4ua4m9tTSj9NRd7bt3kbNMxZxSACavp9/tNRCyA+BlTqCA tETBHsrCXMDkgJRwWOPUy2ll8ReWpLzquXLqtDaTjZuyWgAohMA8jRWcX/G01cJUDGcV q3e1OZG4sT+CqYD7YeluKgzkqVbEPvlFJ0mflf/xMxzKP5XWQSc1WMVSWwyXQboO9dgC 0C6dnfwXSNlTrHy3t50pmelbkxfzW2wrAzc0nog0q3uQk08KTjklT0irXfqEC8Co/nlI KaP8d2jEP/PcOh0D8oxfx3dy9HLQfazxvDUvAZ/xWCwDPCfhfOx34ZfdRP1vldXtBdIO fTow== X-Gm-Message-State: AOJu0YzeD0z31luUdHurQYYmIeplG5Vpkb566V3aQIy3vttSmAC4CgYd BfjQOZ/U7PE45Zhz20VL7wsFOr9xgt9q/o0OHPa32LtfLZXMoy5PcKcx1RnStPU/1TE3UoI1I6/ 5YvRiwxf7Qo4jqr26gdJ1ccNCFwWf4ZtqDobmS+ykrCBY X-Gm-Gg: ASbGnctf/QXYcadm9iZBpvtUNAlhZsEPLRjQ1RWykfdbkq/qrXCiULj9em4X55PwqUZ jp8t96MWm/ic7sI9YDswzZxFhZ7hdNsFrmx5FqCphLOwAshxDd2EJjQKtNHwzaOzxWB3OAKHce/ Pu9n/PV+vTU+s89Xm/a6VTU0P2Epj+1d3Fmvhet4KCHd4pkGUAY5I/4j0bhoYwxwL5SuszkZFJy lO4yggS4qeKfRgCXPz0Uuuz9ng3U+M6HjvnQ88ynAT2eJ50hf+ZGERN8t5cYAkKXiE9HVdgY8tp D6TUVtIEoBw1xc8WVf3aUzO1XWbp67erXbioCXqRpud+KqoAkznBdSy9qrNEgTThuoXkpWieSA7 EGK7A8KnE9w89hQtxhs7vzYJBn4BD9k8= X-Google-Smtp-Source: AGHT+IElMA42vRrcY9BlD+6hA+LQ94hfFmJKEd1zrUQXasdvE7v+qCuyU4iyVKFSCM+xiwjI8SKxbXpZs3ZR X-Received: by 2002:a17:902:e952:b0:295:5972:4363 with SMTP id d9443c01a7336-2986a5fa34cmr27776285ad.0.1763126438175; Fri, 14 Nov 2025 05:20:38 -0800 (PST) Received: from postal.iol.unh.edu (postal.iol.unh.edu. [132.177.123.84]) by smtp-relay.gmail.com with ESMTPS id d9443c01a7336-2985c241b7fsm5684475ad.16.2025.11.14.05.20.38 (version=TLS1_2 cipher=ECDHE-ECDSA-AES128-GCM-SHA256 bits=128/128); Fri, 14 Nov 2025 05:20:38 -0800 (PST) X-Relaying-Domain: iol.unh.edu Date: Fri, 14 Nov 2025 05:20:38 -0800 (PST) Message-ID: <69172ca6.170a0220.607dc.b621SMTPIN_ADDED_MISSING@mx.google.com> Received: from [172.21.0.2] (unknown [172.18.0.240]) by postal.iol.unh.edu (Postfix) with ESMTP id 91C776051830; Fri, 14 Nov 2025 08:20:37 -0500 (EST) Subject: |SUCCESS| pw158695 [PATCH] license: standardize SPDX tag for 3-Claus From: dpdklab@iol.unh.edu To: Test Report Cc: dpdk-test-reports@iol.unh.edu In-Reply-To: <20251112091335.662991-1-thomas@monjalon.net> References: <20251112091335.662991-1-thomas@monjalon.net> Content-Type: text/plain X-BeenThere: test-report@dpdk.org X-Mailman-Version: 2.1.29 Precedence: list List-Id: automatic DPDK test reports List-Unsubscribe: , List-Archive: List-Post: List-Help: List-Subscribe: , Errors-To: test-report-bounces@dpdk.org Test-Label: iol-compile-amd64-testing Test-Status: SUCCESS http://dpdk.org/patch/158695 _Testing PASS_ Submitter: Thomas Monjalon Date: Wednesday, November 12 2025 09:13:35 DPDK git baseline: Repo:dpdk Branch: master CommitID:be0112878b4fc3a1b918370ed2fe615c52039d77 158695 --> testing pass Upstream job id: Windows-Compile-DPDK-Native#32320 Test environment and result as below: +-------------------------------+--------------------+------------------+-------------------+-------------------------+ | Environment | dpdk_meson_compile | dpdk_compile_ovs | dpdk_msvc_compile | dpdk_llvm_clang_compile | +===============================+====================+==================+===================+=========================+ | Ubuntu 20.04 | PASS | SKIPPED | SKIPPED | SKIPPED | +-------------------------------+--------------------+------------------+-------------------+-------------------------+ | FreeBSD 14.2 | PASS | SKIPPED | SKIPPED | SKIPPED | +-------------------------------+--------------------+------------------+-------------------+-------------------------+ | CentOS Stream 9 | PASS | SKIPPED | SKIPPED | SKIPPED | +-------------------------------+--------------------+------------------+-------------------+-------------------------+ | CentOS Stream 10 | PASS | SKIPPED | SKIPPED | SKIPPED | +-------------------------------+--------------------+------------------+-------------------+-------------------------+ | Debian GNU/Linux 12 | PASS | SKIPPED | SKIPPED | SKIPPED | +-------------------------------+--------------------+------------------+-------------------+-------------------------+ | Fedora Linux 42 | PASS | PASS | SKIPPED | SKIPPED | +-------------------------------+--------------------+------------------+-------------------+-------------------------+ | openSUSE Leap 15.6 | PASS | SKIPPED | SKIPPED | SKIPPED | +-------------------------------+--------------------+------------------+-------------------+-------------------------+ | Red Hat Enterprise Linux 8.10 | PASS | SKIPPED | SKIPPED | SKIPPED | +-------------------------------+--------------------+------------------+-------------------+-------------------------+ | Red Hat Enterprise Linux 9.5 | PASS | SKIPPED | SKIPPED | SKIPPED | +-------------------------------+--------------------+------------------+-------------------+-------------------------+ | Ubuntu 22.04 | PASS | SKIPPED | SKIPPED | SKIPPED | +-------------------------------+--------------------+------------------+-------------------+-------------------------+ | Ubuntu 24.04 | PASS | PASS | SKIPPED | SKIPPED | +-------------------------------+--------------------+------------------+-------------------+-------------------------+ | Alpine Linux 3.22.0 | PASS | SKIPPED | SKIPPED | SKIPPED | +-------------------------------+--------------------+------------------+-------------------+-------------------------+ | Windows Server 2022 | SKIPPED | SKIPPED | PASS | PASS | +-------------------------------+--------------------+------------------+-------------------+-------------------------+ Ubuntu 20.04 Kernel: 4.19 Compiler: gcc gcc (Ubuntu 9.4.0-1ubuntu1~20.04.2) 9.4.0 FreeBSD 14.2 Kernel: 14.2-RELEASE Compiler: clang 18.1.6 CentOS Stream 9 Kernel: 5.15 Compiler: gcc gcc (GCC) 11.5.0 20240719 (Red Hat 11.5.0-11) CentOS Stream 10 Kernel: 5.15 Compiler: gcc gcc (GCC) 14.2.1 20250110 (Red Hat 14.2.1-8) Debian GNU/Linux 12 Kernel: 5.15 Compiler: gcc gcc (Debian 12.2.0-14+deb12u1) 12.2.0 Fedora Linux 42 Kernel: 5.15 Compiler: clang gcc (GCC) 15.2.1 20250808 (Red Hat 15.2.1-1) openSUSE Leap 15.6 Kernel: 5.15 Compiler: gcc gcc (SUSE Linux) 7.5.0 Red Hat Enterprise Linux 8.10 Kernel: 5.15 Compiler: gcc gcc (GCC) 8.5.0 20210514 (Red Hat 8.5.0-22) Red Hat Enterprise Linux 9.5 Kernel: 5.15 Compiler: gcc gcc (GCC) 11.5.0 20240719 (Red Hat 11.5.0-2) Ubuntu 22.04 Kernel: 5.15 Compiler: gcc gcc (Ubuntu 11.4.0-1ubuntu1~22.04) 11.4.0 Ubuntu 24.04 Kernel: 5.15 Compiler: gcc gcc (Ubuntu 13.3.0-6ubuntu2~24.04) 13.3.0 Alpine Linux 3.22.0 Kernel: 5.15 Compiler: gcc gcc (Alpine 14.2.0) 14.2.0 Windows Server 2022 Kernel: 10.0.20348.2031 Compiler: clang 15.0.7, gcc 14.1.0 (MinGW), and MSVC VS 19.39.33521 To view detailed results, visit: https://lab.dpdk.org/results/dashboard/patchsets/34545/ UNH-IOL DPDK Community Lab To manage your email subscriptions, visit: https://lab.dpdk.org/results/dashboard/preferences/subscriptions/