From mboxrd@z Thu Jan 1 00:00:00 1970 Return-Path: Received: from mails.dpdk.org (mails.dpdk.org [217.70.189.124]) by inbox.dpdk.org (Postfix) with ESMTP id 2687E48B08 for ; Fri, 14 Nov 2025 14:25:49 +0100 (CET) Received: from mails.dpdk.org (localhost [127.0.0.1]) by mails.dpdk.org (Postfix) with ESMTP id F415440657; Fri, 14 Nov 2025 14:25:48 +0100 (CET) Received: from mail-oa1-f97.google.com (mail-oa1-f97.google.com [209.85.160.97]) by mails.dpdk.org (Postfix) with ESMTP id 8605A40151 for ; Fri, 14 Nov 2025 14:25:47 +0100 (CET) Received: by mail-oa1-f97.google.com with SMTP id 586e51a60fabf-3e7e57450ceso635923fac.2 for ; Fri, 14 Nov 2025 05:25:47 -0800 (PST) DKIM-Signature: v=1; a=rsa-sha256; c=relaxed/relaxed; d=iol.unh.edu; s=unh-iol; t=1763126746; x=1763731546; darn=dpdk.org; h=references:in-reply-to:cc:to:from:subject:message-id:date:from:to :cc:subject:date:message-id:reply-to; bh=6kJGQAHGFCt0vbjy7RK0LctvHvF7bMjNoqmTUQsITPM=; b=JlhehHnb/8sfxiF7UWpd/E+VvL5VR0cEuZFTLXnE/SEbNZyvQX+lmqPsJYxvtMACqc vhVrBzbMszYzYyXm/H2ebrTbmOCMQRPREoC5Vy3FRfCH1w+dJFzQrwWWeSZg/fr/mlUA ld2r9cwHR2pAC62AoDJIgEFaUyY4kSd4mKNJs= X-Google-DKIM-Signature: v=1; a=rsa-sha256; c=relaxed/relaxed; d=1e100.net; s=20230601; t=1763126746; x=1763731546; h=references:in-reply-to:cc:to:from:subject:message-id:date:x-gm-gg :x-gm-message-state:from:to:cc:subject:date:message-id:reply-to; bh=6kJGQAHGFCt0vbjy7RK0LctvHvF7bMjNoqmTUQsITPM=; b=S+IO9Ln3Ku1kmNHPgdhWQT8FxNJYZTrSw0WqbigyUbxFbO9u1qGPL2UYl7xMh5fB6r DaNuVrW+ReSh/brARF+gUF8hfnYpg/NY9LEUPQ3UVrFHRkVswnMyicZXxBrOaRsA3+9h G23eIUoAjDiFfU/SZZx5GtlQxRBSJh5eC6aExV5i4oV156dk/ZeYOH+lhc71dHDKUsEN UZs8TBqMCBqTP2/5l154srZGm7fVwy+0hxj6VUq4RqIia17/mRLzZgkfgw6NoqZYpL05 TqjVgtjNYa7wzNHl3feiTvGKAq7q+zyGrXqwwKbulXiQrHHjMmDBHDHnJUowqA7AOkfT 8sHg== X-Gm-Message-State: AOJu0YxNl77blWX4CPwtaa0nAt/nZR8dABFem0PhbvoAkOqB0pE0+9ui RNuysb/dIbxzSc8BiE7tmcQrZf/YCGTYAcZBpBeKxdx1cwhr6ZbItlipCn+Ev9IVY1+9YDMopbX Cj6YwI1BGENs+z8eEGvl0gMm3bretq1mEqOBIEKOPGxaC88E2SC31/ne0nyBK X-Gm-Gg: ASbGncsdtPQ2Jsv3vlpmbw3bg/Dg2KOC86fObi41YPXRVKbczqsPM9+8WBOQUBhScc4 unUWJhVYqJnSwA7dJR4idt9z1IDyTBZjYfABLqImo6ImHtV06k9jCrqAkHqZDDo/25vnBv4etW9 QGUE4oQ870wnwDj1ryjwkCtJV/2IjYq2n40d51hUIgkOI9sz8/LK6F865LvGpOrHb1C4IS9qpku Yg3fyYGL85MIUnuk7rw1nX14vWBNjJbkq7wSL3HAr1BY3/A8Dj2ATlrFM+kj7IbasLlG7EKgQ/p dxL5hgsTnRe9zKZEpyauJf+0CWaax9R2r24OFsz8ql4ANOBmWzuN6l+RoaKs5xUeu8XhhD8Ff7a avNLnTtve X-Google-Smtp-Source: AGHT+IGfCAZIc7vWD+AJCUJcRXCrDIUIG8ttgv3fr5P4WGhCWOzQPh1mTQo/FE8OSY4k0Wo1ksQtDDFjMlmq X-Received: by 2002:a05:6870:1693:b0:3e7:f4a9:588b with SMTP id 586e51a60fabf-3e868f17214mr1610508fac.15.1763126746614; Fri, 14 Nov 2025 05:25:46 -0800 (PST) Received: from postal.iol.unh.edu (postal.iol.unh.edu. [2606:4100:3880:1234::84]) by smtp-relay.gmail.com with ESMTPS id 46e09a7af769-7c73a071916sm506409a34.0.2025.11.14.05.25.46 (version=TLS1_2 cipher=ECDHE-ECDSA-AES128-GCM-SHA256 bits=128/128); Fri, 14 Nov 2025 05:25:46 -0800 (PST) X-Relaying-Domain: iol.unh.edu Date: Fri, 14 Nov 2025 05:25:46 -0800 (PST) Message-ID: <69172dda.050a0220.2bf881.7987SMTPIN_ADDED_MISSING@mx.google.com> Received: from [172.21.0.2] (unknown [172.18.0.240]) by postal.iol.unh.edu (Postfix) with ESMTP id 1A6A06051830; Fri, 14 Nov 2025 08:25:46 -0500 (EST) Subject: |SUCCESS| pw158773-158774 [PATCH] [v4,2/2] dts: add QinQ test suite From: dpdklab@iol.unh.edu To: Test Report Cc: dpdk-test-reports@iol.unh.edu In-Reply-To: <20251113190309.310821-2-dmarx@iol.unh.edu> References: <20251113190309.310821-2-dmarx@iol.unh.edu> Content-Type: text/plain X-BeenThere: test-report@dpdk.org X-Mailman-Version: 2.1.29 Precedence: list List-Id: automatic DPDK test reports List-Unsubscribe: , List-Archive: List-Post: List-Help: List-Subscribe: , Errors-To: test-report-bounces@dpdk.org Test-Label: iol-compile-amd64-testing Test-Status: SUCCESS http://dpdk.org/patch/158774 _Testing PASS_ Submitter: Dean Marx Date: Thursday, November 13 2025 19:03:09 DPDK git baseline: Repo:dpdk-next-dts Branch: master CommitID:8dcc93a520b22330e0ad59d360a4594b854f9ddd 158773-158774 --> testing pass Upstream job id: Generic-DPDK-Compile-Meson#444257 Test environment and result as below: +-------------------------------+--------------------+------------------+ | Environment | dpdk_meson_compile | dpdk_compile_ovs | +===============================+====================+==================+ | Ubuntu 20.04 | PASS | SKIPPED | +-------------------------------+--------------------+------------------+ | FreeBSD 14.2 | PASS | SKIPPED | +-------------------------------+--------------------+------------------+ | CentOS Stream 9 | PASS | SKIPPED | +-------------------------------+--------------------+------------------+ | CentOS Stream 10 | PASS | SKIPPED | +-------------------------------+--------------------+------------------+ | Debian GNU/Linux 12 | PASS | SKIPPED | +-------------------------------+--------------------+------------------+ | Fedora Linux 42 | PASS | PASS | +-------------------------------+--------------------+------------------+ | openSUSE Leap 15.6 | PASS | SKIPPED | +-------------------------------+--------------------+------------------+ | Red Hat Enterprise Linux 8.10 | PASS | SKIPPED | +-------------------------------+--------------------+------------------+ | Red Hat Enterprise Linux 9.5 | PASS | SKIPPED | +-------------------------------+--------------------+------------------+ | Ubuntu 22.04 | PASS | SKIPPED | +-------------------------------+--------------------+------------------+ | Ubuntu 24.04 | PASS | PASS | +-------------------------------+--------------------+------------------+ | Alpine Linux 3.22.0 | PASS | SKIPPED | +-------------------------------+--------------------+------------------+ Ubuntu 20.04 Kernel: 4.19 Compiler: gcc gcc (Ubuntu 9.4.0-1ubuntu1~20.04.2) 9.4.0 FreeBSD 14.2 Kernel: 14.2-RELEASE Compiler: clang 18.1.6 CentOS Stream 9 Kernel: 5.15 Compiler: gcc gcc (GCC) 11.5.0 20240719 (Red Hat 11.5.0-11) CentOS Stream 10 Kernel: 5.15 Compiler: gcc gcc (GCC) 14.2.1 20250110 (Red Hat 14.2.1-8) Debian GNU/Linux 12 Kernel: 5.15 Compiler: gcc gcc (Debian 12.2.0-14+deb12u1) 12.2.0 Fedora Linux 42 Kernel: 5.15 Compiler: clang gcc (GCC) 15.2.1 20250808 (Red Hat 15.2.1-1) openSUSE Leap 15.6 Kernel: 5.15 Compiler: gcc gcc (SUSE Linux) 7.5.0 Red Hat Enterprise Linux 8.10 Kernel: 5.15 Compiler: gcc gcc (GCC) 8.5.0 20210514 (Red Hat 8.5.0-22) Red Hat Enterprise Linux 9.5 Kernel: 5.15 Compiler: gcc gcc (GCC) 11.5.0 20240719 (Red Hat 11.5.0-2) Ubuntu 22.04 Kernel: 5.15 Compiler: gcc gcc (Ubuntu 11.4.0-1ubuntu1~22.04) 11.4.0 Ubuntu 24.04 Kernel: 5.15 Compiler: gcc gcc (Ubuntu 13.3.0-6ubuntu2~24.04) 13.3.0 Alpine Linux 3.22.0 Kernel: 5.15 Compiler: gcc gcc (Alpine 14.2.0) 14.2.0 To view detailed results, visit: https://lab.dpdk.org/results/dashboard/patchsets/34581/ UNH-IOL DPDK Community Lab To manage your email subscriptions, visit: https://lab.dpdk.org/results/dashboard/preferences/subscriptions/