From mboxrd@z Thu Jan 1 00:00:00 1970 Return-Path: Received: from mails.dpdk.org (mails.dpdk.org [217.70.189.124]) by inbox.dpdk.org (Postfix) with ESMTP id 5769E48B08 for ; Fri, 14 Nov 2025 14:28:17 +0100 (CET) Received: from mails.dpdk.org (localhost [127.0.0.1]) by mails.dpdk.org (Postfix) with ESMTP id 3B62440151; Fri, 14 Nov 2025 14:28:17 +0100 (CET) Received: from mail-pf1-f227.google.com (mail-pf1-f227.google.com [209.85.210.227]) by mails.dpdk.org (Postfix) with ESMTP id C196740151 for ; Fri, 14 Nov 2025 14:28:15 +0100 (CET) Received: by mail-pf1-f227.google.com with SMTP id d2e1a72fcca58-7aad4823079so1824491b3a.0 for ; Fri, 14 Nov 2025 05:28:15 -0800 (PST) DKIM-Signature: v=1; a=rsa-sha256; c=relaxed/relaxed; d=iol.unh.edu; s=unh-iol; t=1763126895; x=1763731695; darn=dpdk.org; h=references:in-reply-to:cc:to:from:subject:message-id:date:from:to :cc:subject:date:message-id:reply-to; bh=10v+gbh5O5La3J50O2eFcIsLxXZQJjWCl7qXkRgp2fc=; b=IKsWSJsHx16YfLCPSsjZ8O2xMi6frMtW0i1oyO5NAGjmyxhc/G+EUL4gjCCD7+mA23 PEtC5HWm8sv0zlqgYQThEf6y2G10uCiwpYIaYPwTMEPstF1aUBxEL1B0EC9kCUpeDTS2 +sET/WJbXPGujQ4h13Jq03ni/j+ly7idXUvkk= X-Google-DKIM-Signature: v=1; a=rsa-sha256; c=relaxed/relaxed; d=1e100.net; s=20230601; t=1763126895; x=1763731695; h=references:in-reply-to:cc:to:from:subject:message-id:date:x-gm-gg :x-gm-message-state:from:to:cc:subject:date:message-id:reply-to; bh=10v+gbh5O5La3J50O2eFcIsLxXZQJjWCl7qXkRgp2fc=; b=ki4no3JgxyUpKbnSt72hIqsKD6o3ti6FtgYabxuamtWzzmkzzuDczrdRVNBStToyAc MBO8gcxDHTvfmaiLZVn3RFfFvzi0cPQnHz4eoHjbUXcKxLH4+F9m4DKHeMpVc1F2UKQP 3nlFQvms7I5zP+WJ07NQ0oGLa/QqgbAdlfanZaTAsQTJWWOMK+15VZyVp+QKmLwxDyw6 dnxQUyONEzwMYCrVAIRozq958xqVf+7CirnBdcy5/Pcn63quUtdCuQZJULwJtH+hWjzw IXC48yuxY0/Y4cQHdap3hyq2rl4gCBULDY/3uXAoC1+0f/1zVbdFhWQkmtz86xgVnZsJ eeHg== X-Gm-Message-State: AOJu0YyxYRdTEphJ/c27t8fa57nXtumYaET1j5GZ/8lvCMTiAN0IynQ5 LkccuLRE35cQTAIBp+kyIoE7xezCLbHVs5O4/zn5ooah5DFHAutgJTGxL6c4sJT2qaiZSgDmMAd HA+HpNy1rMgFrxs9RYbBJnja1VShSBHqTjYzcNdGGfZ3/ X-Gm-Gg: ASbGnctc3ef4DNx76gc/sUP0Tcz9SfQEZy01KoSZuyJTpDvKLILWivOcriRTktmjAWF kpddrubY9ystk9p6BY/M3km6phkpVMSvlK7iyGPLT/uasPaITmkGaFVQoFImmzhvhF6M2fE9iyt QqHMMOO8EIjIMX/6rwCiipkbBt+EUafNl8iSpcc7DmlGR+FUZjxcMNJm2aMhTiE7YfVjnQDBVxN Ir1P5xfaVGqnYRgoGX9s9YLhiEzWy/rv7vhae7UPelG8FULSo7Wvds47gmmcOxGvgzag+ItYQKj zNG4LZh+OAWHhmLGHDYLieqHq9lhYCtIJ6koN+v4bIFEdMjRTQ/1t2ngc/e04vPzdX2atCNC6Ef eubNb44okQY8ePNeciUHxLk6OIcDqEqE= X-Google-Smtp-Source: AGHT+IGzWnbfLPJjG9ebx2ZWebQgCt9KEkRh1GhsRuKiTB2OK2hjAFuNA2VQCMCW9AiTzBsebbWVwnUfd+LB X-Received: by 2002:a05:6a20:7285:b0:33f:4e3d:affe with SMTP id adf61e73a8af0-35ba0b8c09emr3957006637.17.1763126894809; Fri, 14 Nov 2025 05:28:14 -0800 (PST) Received: from postal.iol.unh.edu (postal.iol.unh.edu. [132.177.123.84]) by smtp-relay.gmail.com with ESMTPS id 41be03b00d2f7-bc374cab105sm380711a12.9.2025.11.14.05.28.14 (version=TLS1_2 cipher=ECDHE-ECDSA-AES128-GCM-SHA256 bits=128/128); Fri, 14 Nov 2025 05:28:14 -0800 (PST) X-Relaying-Domain: iol.unh.edu Date: Fri, 14 Nov 2025 05:28:14 -0800 (PST) Message-ID: <69172e6e.050a0220.305d00.38f3SMTPIN_ADDED_MISSING@mx.google.com> Received: from [172.21.0.3] (unknown [172.18.0.240]) by postal.iol.unh.edu (Postfix) with ESMTP id 1293D6051830; Fri, 14 Nov 2025 08:28:14 -0500 (EST) Subject: |SUCCESS| pw158754 [PATCH] net/ice: add MAC anti-spoof disable optio From: dpdklab@iol.unh.edu To: Test Report Cc: dpdk-test-reports@iol.unh.edu, Bruce Richardson In-Reply-To: <20251113105914.34949-1-anurag.mandal@intel.com> References: <20251113105914.34949-1-anurag.mandal@intel.com> Content-Type: text/plain X-BeenThere: test-report@dpdk.org X-Mailman-Version: 2.1.29 Precedence: list List-Id: automatic DPDK test reports List-Unsubscribe: , List-Archive: List-Post: List-Help: List-Subscribe: , Errors-To: test-report-bounces@dpdk.org Test-Label: iol-unit-amd64-testing Test-Status: SUCCESS http://dpdk.org/patch/158754 _Testing PASS_ Submitter: Anurag Mandal Date: Thursday, November 13 2025 10:59:14 DPDK git baseline: Repo:dpdk-next-net-intel Branch: master CommitID:123703be5bdd0fa45e4fda14f36a0d941d1f7e63 158754 --> testing pass Upstream job id: Generic-VM-Unit-Test-DPDK#32535 Test environment and result as below: +-------------------------------+----------------+ | Environment | dpdk_unit_test | +===============================+================+ | CentOS Stream 10 | PASS | +-------------------------------+----------------+ | Debian GNU/Linux 12 | PASS | +-------------------------------+----------------+ | CentOS Stream 9 | PASS | +-------------------------------+----------------+ | Fedora Linux 40 | PASS | +-------------------------------+----------------+ | Fedora Linux 41 | PASS | +-------------------------------+----------------+ | Fedora Linux 42 | PASS | +-------------------------------+----------------+ | Red Hat Enterprise Linux 9.5 | PASS | +-------------------------------+----------------+ | Red Hat Enterprise Linux 8.10 | PASS | +-------------------------------+----------------+ | Ubuntu 20.04 | PASS | +-------------------------------+----------------+ | Ubuntu 22.04 | PASS | +-------------------------------+----------------+ | Ubuntu 24.04 | PASS | +-------------------------------+----------------+ | Windows Server 2022 | PASS | +-------------------------------+----------------+ CentOS Stream 10 Kernel: 5.15 Compiler: gcc gcc (GCC) 14.2.1 20250110 (Red Hat 14.2.1-8) Debian GNU/Linux 12 Kernel: 5.15 Compiler: gcc gcc (Debian 12.2.0-14+deb12u1) 12.2.0 CentOS Stream 9 Kernel: 5.15 Compiler: gcc gcc (GCC) 11.5.0 20240719 (Red Hat 11.5.0-11) Fedora Linux 40 Kernel: 5.15 Compiler: clang gcc (GCC) 14.2.1 20240912 (Red Hat 14.2.1-3) Fedora Linux 41 Kernel: 5.15 Compiler: clang gcc (GCC) 14.3.1 20250523 (Red Hat 14.3.1-1) Fedora Linux 42 Kernel: 5.15 Compiler: clang gcc (GCC) 15.2.1 20250808 (Red Hat 15.2.1-1) Red Hat Enterprise Linux 9.5 Kernel: 5.15 Compiler: gcc gcc (GCC) 11.5.0 20240719 (Red Hat 11.5.0-2) Red Hat Enterprise Linux 8.10 Kernel: 5.15 Compiler: gcc gcc (GCC) 8.5.0 20210514 (Red Hat 8.5.0-22) Ubuntu 20.04 Kernel: 5.15 Compiler: gcc gcc (Ubuntu 9.4.0-1ubuntu1~20.04.2) 9.4.0 Ubuntu 22.04 Kernel: 5.15 Compiler: gcc gcc (Ubuntu 11.4.0-1ubuntu1~22.04) 11.4.0 Ubuntu 24.04 Kernel: 5.15 Compiler: gcc gcc (Ubuntu 13.3.0-6ubuntu2~24.04) 13.3.0 Windows Server 2022 Kernel: 10.0.20348.2031 Compiler: clang 15.0.7, gcc 14.1.0 (MinGW), and MSVC VS 19.39.33521 To view detailed results, visit: https://lab.dpdk.org/results/dashboard/patchsets/34571/ UNH-IOL DPDK Community Lab To manage your email subscriptions, visit: https://lab.dpdk.org/results/dashboard/preferences/subscriptions/