From mboxrd@z Thu Jan 1 00:00:00 1970 Return-Path: Received: from mails.dpdk.org (mails.dpdk.org [217.70.189.124]) by inbox.dpdk.org (Postfix) with ESMTP id C5A9448B08 for ; Fri, 14 Nov 2025 14:33:11 +0100 (CET) Received: from mails.dpdk.org (localhost [127.0.0.1]) by mails.dpdk.org (Postfix) with ESMTP id C0DFD40151; Fri, 14 Nov 2025 14:33:11 +0100 (CET) Received: from mail-pl1-f228.google.com (mail-pl1-f228.google.com [209.85.214.228]) by mails.dpdk.org (Postfix) with ESMTP id A560640151 for ; Fri, 14 Nov 2025 14:33:10 +0100 (CET) Received: by mail-pl1-f228.google.com with SMTP id d9443c01a7336-29853ec5b8cso22505855ad.3 for ; Fri, 14 Nov 2025 05:33:10 -0800 (PST) DKIM-Signature: v=1; a=rsa-sha256; c=relaxed/relaxed; d=iol.unh.edu; s=unh-iol; t=1763127190; x=1763731990; darn=dpdk.org; h=references:in-reply-to:cc:to:from:subject:message-id:date:from:to :cc:subject:date:message-id:reply-to; bh=fJ21lVg5Yqf81JMSjsMn5KV4Lpq+LhG2B64zzc1w9OE=; b=g0ylS0qquvoeCAj6dPfOCxNrlw2ceuzX7kb624oh/inHCyUyb76peUs3M7yWH9O4hg RoQ9z2lzw0pn+bxfpXooPplrAorTReWuo5eTst/usfAY1XNRSpd5sFFosHHX7qr4V7oU XUrFu2J5SQG1BvSCaKKC5/NxpnVEz2j+ZRyY0= X-Google-DKIM-Signature: v=1; a=rsa-sha256; c=relaxed/relaxed; d=1e100.net; s=20230601; t=1763127190; x=1763731990; h=references:in-reply-to:cc:to:from:subject:message-id:date:x-gm-gg :x-gm-message-state:from:to:cc:subject:date:message-id:reply-to; bh=fJ21lVg5Yqf81JMSjsMn5KV4Lpq+LhG2B64zzc1w9OE=; b=VwtbGOOX/+iFJTO3ypVz0zrPNfsLZfhI0p+Zp8EEZ6pP2sxyM4qG7Fgj3bKrh+9f1J WkuX1tk1zQ9/KRqpOLA4z01xnp+E4xrl8nPdEtPRJ458TqiLfVUIK+eCdHomhD+e/uwr j5OkdUq+JpzPWpRIk9BGRuWNpgt0iZKDORd4eUJfOffEEGPuEvg4Y8l8M7dZUFDkfvk6 Xenyt/Ft4fvh4YAIX/esbT5O28UzCiNFNbkb4vE8JGL6B/WYe3pSDueyJ0Tqk2cDr8mS xysJ5DmEOXnCfJ/5beoLRhwTHHa6w0kydxBkpN51K6lXPLso2g29qg/RBV+/J+HwW58+ bjjA== X-Gm-Message-State: AOJu0Ywvl/TNhWCedrmRz9kQ8HZ5O/sMsmof0oSfWA9rQJoYxl+J2lca oyGXKkTZFcSXxNqFllOQWMkE36RDXz3Avj2ph0m8YFxaj0O1kqwzJFpF2fSAxP5vxhZ8kuDFnqT FZwQa3G0WzLcJBHvPPxr3XHub4AfS9kX1vw0E7e3UrbJiWLZ6uGkrRUnTv1EZ X-Gm-Gg: ASbGncuGig/+K/bG7ZYT7OTP6GKMigGLXHiX3vi6fx+E+6gcCxZFZYD7H22UiniGP75 Q6IFBxE2HZ7osd382rYneD9k6iK2PwchDiGLCQMRApAwVKmxJM/JnrOkipv6foILTQsr0mYRWCT u3BxtPvOq6rD5kLEM1AUdzv5iPI/y2miwSUXSHzgN/T6YXxq9tS/5Ry/QyPtxl59tXjk16tdqXd jAUx8nx1l1aaKRmFcgYancoqPV2ql4KNZUytqLPObNyIstN4U0qxMm86/mY8R45QuTdjg75nsXk QBXiMB60kEJpwSqEhExejz43OEotTKP/mV7rW6aU/YPuxDRiINplkxlY2PBYT05B8Cxc+xuhXnn hNH0jyFCt X-Google-Smtp-Source: AGHT+IHGksyNs8m0PkMlCn90m7S5Lv2BK+pX+JU9n7gS2P03IEftlPJWgrgJjp+BiJAFbuBPPuEtA9bfU7cp X-Received: by 2002:a17:902:f70c:b0:295:62d:5004 with SMTP id d9443c01a7336-2986a6f0a62mr33636405ad.26.1763127188437; Fri, 14 Nov 2025 05:33:08 -0800 (PST) Received: from postal.iol.unh.edu (postal.iol.unh.edu. [2606:4100:3880:1234::84]) by smtp-relay.gmail.com with ESMTPS id d9443c01a7336-2985c2b86aasm5574895ad.47.2025.11.14.05.33.08 (version=TLS1_2 cipher=ECDHE-ECDSA-AES128-GCM-SHA256 bits=128/128); Fri, 14 Nov 2025 05:33:08 -0800 (PST) X-Relaying-Domain: iol.unh.edu Date: Fri, 14 Nov 2025 05:33:08 -0800 (PST) Message-ID: <69172f94.170a0220.1b670.a680SMTPIN_ADDED_MISSING@mx.google.com> Received: from [172.21.0.2] (unknown [172.18.0.240]) by postal.iol.unh.edu (Postfix) with ESMTP id EB5CF6051830; Fri, 14 Nov 2025 08:33:07 -0500 (EST) Subject: |SUCCESS| pw158788 [PATCH] net: ipv6 link local compliance with rfc From: dpdklab@iol.unh.edu To: Test Report Cc: dpdk-test-reports@iol.unh.edu In-Reply-To: <20251114105751.54802-3-rjarry@redhat.com> References: <20251114105751.54802-3-rjarry@redhat.com> Content-Type: text/plain X-BeenThere: test-report@dpdk.org X-Mailman-Version: 2.1.29 Precedence: list List-Id: automatic DPDK test reports List-Unsubscribe: , List-Archive: List-Post: List-Help: List-Subscribe: , Errors-To: test-report-bounces@dpdk.org Test-Label: iol-unit-amd64-testing Test-Status: SUCCESS http://dpdk.org/patch/158788 _Testing PASS_ Submitter: Robin Jarry Date: Friday, November 14 2025 10:57:53 DPDK git baseline: Repo:dpdk Branch: master CommitID:be0112878b4fc3a1b918370ed2fe615c52039d77 158788 --> testing pass Upstream job id: Generic-Unit-Test-DPDK#392776 Test environment and result as below: +-------------------------------+----------------+ | Environment | dpdk_unit_test | +===============================+================+ | CentOS Stream 10 | PASS | +-------------------------------+----------------+ | Debian GNU/Linux 12 | PASS | +-------------------------------+----------------+ | CentOS Stream 9 | PASS | +-------------------------------+----------------+ | Fedora Linux 41 | PASS | +-------------------------------+----------------+ | Fedora Linux 40 | PASS | +-------------------------------+----------------+ | Red Hat Enterprise Linux 8.10 | PASS | +-------------------------------+----------------+ | Fedora Linux 42 | PASS | +-------------------------------+----------------+ | Ubuntu 20.04 | PASS | +-------------------------------+----------------+ | Ubuntu 22.04 | PASS | +-------------------------------+----------------+ | Red Hat Enterprise Linux 9.5 | PASS | +-------------------------------+----------------+ | Ubuntu 24.04 | PASS | +-------------------------------+----------------+ CentOS Stream 10 Kernel: 5.15 Compiler: gcc gcc (GCC) 14.2.1 20250110 (Red Hat 14.2.1-8) Debian GNU/Linux 12 Kernel: 5.15 Compiler: gcc gcc (Debian 12.2.0-14+deb12u1) 12.2.0 CentOS Stream 9 Kernel: 5.15 Compiler: gcc gcc (GCC) 11.5.0 20240719 (Red Hat 11.5.0-11) Fedora Linux 41 Kernel: 5.15 Compiler: gcc gcc (GCC) 14.3.1 20250523 (Red Hat 14.3.1-1) Fedora Linux 40 Kernel: 5.15 Compiler: clang gcc (GCC) 14.2.1 20240912 (Red Hat 14.2.1-3) Red Hat Enterprise Linux 8.10 Kernel: 5.15 Compiler: gcc gcc (GCC) 8.5.0 20210514 (Red Hat 8.5.0-22) Fedora Linux 42 Kernel: 5.15 Compiler: clang gcc (GCC) 15.2.1 20250808 (Red Hat 15.2.1-1) Ubuntu 20.04 Kernel: 5.15 Compiler: gcc gcc (Ubuntu 9.4.0-1ubuntu1~20.04.2) 9.4.0 Ubuntu 22.04 Kernel: 5.15 Compiler: gcc gcc (Ubuntu 11.4.0-1ubuntu1~22.04) 11.4.0 Red Hat Enterprise Linux 9.5 Kernel: 5.15 Compiler: gcc gcc (GCC) 11.5.0 20240719 (Red Hat 11.5.0-2) Ubuntu 24.04 Kernel: 5.15 Compiler: gcc gcc (Ubuntu 13.3.0-6ubuntu2~24.04) 13.3.0 To view detailed results, visit: https://lab.dpdk.org/results/dashboard/patchsets/34590/ UNH-IOL DPDK Community Lab To manage your email subscriptions, visit: https://lab.dpdk.org/results/dashboard/preferences/subscriptions/