From mboxrd@z Thu Jan 1 00:00:00 1970 Return-Path: Received: from mails.dpdk.org (mails.dpdk.org [217.70.189.124]) by inbox.dpdk.org (Postfix) with ESMTP id 3135D48B08 for ; Fri, 14 Nov 2025 14:36:09 +0100 (CET) Received: from mails.dpdk.org (localhost [127.0.0.1]) by mails.dpdk.org (Postfix) with ESMTP id 0C78140151; Fri, 14 Nov 2025 14:36:09 +0100 (CET) Received: from mail-il1-f226.google.com (mail-il1-f226.google.com [209.85.166.226]) by mails.dpdk.org (Postfix) with ESMTP id 97AAB40151 for ; Fri, 14 Nov 2025 14:36:07 +0100 (CET) Received: by mail-il1-f226.google.com with SMTP id e9e14a558f8ab-4331d3eea61so15201155ab.2 for ; Fri, 14 Nov 2025 05:36:07 -0800 (PST) DKIM-Signature: v=1; a=rsa-sha256; c=relaxed/relaxed; d=iol.unh.edu; s=unh-iol; t=1763127367; x=1763732167; darn=dpdk.org; h=references:in-reply-to:cc:to:from:subject:message-id:date:from:to :cc:subject:date:message-id:reply-to; bh=PCZUMfmvf0hYPeuM7cDlnKM4HjSygWqPLZXgM2E6woQ=; b=W/O8HoF3v7dpNrzMpGisPpGLD0c6W8ILkQp1STcJ9xx0+XRRRiWGUjU+DrCI442j7D LlvZEIhFNKT5d6FQE98Jtx1tdov0WLtdbx1+OUSU6wOkpqUHscC8uSyVKaZQ0mqr8Q5G Agqdc3hPmKN+O86cpx4MakEKTnd4eSQynLE5Y= X-Google-DKIM-Signature: v=1; a=rsa-sha256; c=relaxed/relaxed; d=1e100.net; s=20230601; t=1763127367; x=1763732167; h=references:in-reply-to:cc:to:from:subject:message-id:date:x-gm-gg :x-gm-message-state:from:to:cc:subject:date:message-id:reply-to; bh=PCZUMfmvf0hYPeuM7cDlnKM4HjSygWqPLZXgM2E6woQ=; b=lQhsqvn+x6yVDJg9P05y+Yyago76ZospuqP/pySDAUkt+CqgeiiQ6Wx1ZdMuZRQPVu LGMUILGVeZLLHav9f1alACnAUT2P8kyXKtPOaTVc+XB4C96syTiu242pSmhML6EjkKQS tmi1IfhdjfOqQAqr2rNxmd6c55euEt63T9cV+Et8FfPfEAZ2xyE2fKtZDnxk3L0wGlNj ooJMopfOuqbiGElAHJuzaE20z9ilgSAmtNonNwaaBAPz1WcaMoLn9CMNlMHbyUALkhYD AAT4TutYMcwhysiVImLcGiaVycrt5P2lYwTirU8pmlPfy4hw2+bilBN+8EHNNJgJM6R8 MKSA== X-Gm-Message-State: AOJu0YwNfIFwktYIDvjGGd1KBDGDyRR7biR3iVseE4eCxhSUfP+BtcYw UHC3tX2lFZruveV36xSav9FIubeCzJflnecWdIIfdvTPigsfBB8Hlkf26vVln8HP4ckln/tKnZ9 TvfBANCoRw9Yj/oS3U1Hgmj1pogJVVfH2+b/RlcBI6ISdydLafJMhWwAg//GL X-Gm-Gg: ASbGncvoadGP3f7rJYYlwHTaybbTMBfcT2esfdiq/0rgkSmxQLQSt0vQ7rxCSBDZpB7 aALOuKl93O7DdcrPTL4i8XSwHFpsrOXZIes7X3prWF3dWDRXY3b/XxyItFE3nv1IrH5xSwtg937 oGMyinoEpXjvCiEZge+MIO+aBaD5k9huWBmwyHjVeS8M5GkxSV+U6nG1AfzqX7xIjIQyAUKtooo Qtt8H6oCiFaPnxVOpxwEtCCCyGSRDZkwReothA/OkGkccjVZo9rSYIUTyHEXShOXXTIjyNvZWiF Tn285S4DPhmar5SplXtbPIOr7d86m+Hxuc6NVVPp3XGMsu3ijqkf7Mx5JgNQs+CgSB1sAgrDUky b/MO0hp/E X-Google-Smtp-Source: AGHT+IFT25C7nUtynsdjQBez6UXtD0UnejRfzY/U+w6D+nRFAzYfcQmmmaHV2C5AxpMdTJ+yLXP0pJdOVMYz X-Received: by 2002:a05:6e02:3807:b0:433:68e3:7679 with SMTP id e9e14a558f8ab-4348c896055mr43774365ab.8.1763127366820; Fri, 14 Nov 2025 05:36:06 -0800 (PST) Received: from postal.iol.unh.edu (postal.iol.unh.edu. [2606:4100:3880:1234::84]) by smtp-relay.gmail.com with ESMTPS id ca18e2360f4ac-948d2f64f0dsm29023939f.12.2025.11.14.05.36.06 (version=TLS1_2 cipher=ECDHE-ECDSA-AES128-GCM-SHA256 bits=128/128); Fri, 14 Nov 2025 05:36:06 -0800 (PST) X-Relaying-Domain: iol.unh.edu Date: Fri, 14 Nov 2025 05:36:06 -0800 (PST) Message-ID: <69173046.5d0a0220.26d46e.dd53SMTPIN_ADDED_MISSING@mx.google.com> Received: from [172.21.0.2] (unknown [172.18.0.240]) by postal.iol.unh.edu (Postfix) with ESMTP id 611056051830; Fri, 14 Nov 2025 08:36:06 -0500 (EST) Subject: |SUCCESS| pw158754 [PATCH] net/ice: add MAC anti-spoof disable optio From: dpdklab@iol.unh.edu To: Test Report Cc: dpdk-test-reports@iol.unh.edu, Bruce Richardson In-Reply-To: <20251113105914.34949-1-anurag.mandal@intel.com> References: <20251113105914.34949-1-anurag.mandal@intel.com> Content-Type: text/plain X-BeenThere: test-report@dpdk.org X-Mailman-Version: 2.1.29 Precedence: list List-Id: automatic DPDK test reports List-Unsubscribe: , List-Archive: List-Post: List-Help: List-Subscribe: , Errors-To: test-report-bounces@dpdk.org Test-Label: iol-unit-amd64-testing Test-Status: SUCCESS http://dpdk.org/patch/158754 _Testing PASS_ Submitter: Anurag Mandal Date: Thursday, November 13 2025 10:59:14 DPDK git baseline: Repo:dpdk-next-net-intel Branch: master CommitID:123703be5bdd0fa45e4fda14f36a0d941d1f7e63 158754 --> testing pass Upstream job id: Generic-VM-Unit-Test-DPDK#32536 Test environment and result as below: +-------------------------------+----------------+ | Environment | dpdk_unit_test | +===============================+================+ | CentOS Stream 10 | PASS | +-------------------------------+----------------+ | Debian GNU/Linux 12 | PASS | +-------------------------------+----------------+ | CentOS Stream 9 | PASS | +-------------------------------+----------------+ | Fedora Linux 40 | PASS | +-------------------------------+----------------+ | Fedora Linux 41 | PASS | +-------------------------------+----------------+ | Fedora Linux 42 | PASS | +-------------------------------+----------------+ | Red Hat Enterprise Linux 9.5 | PASS | +-------------------------------+----------------+ | Red Hat Enterprise Linux 8.10 | PASS | +-------------------------------+----------------+ | Ubuntu 20.04 | PASS | +-------------------------------+----------------+ | Ubuntu 22.04 | PASS | +-------------------------------+----------------+ | Ubuntu 24.04 | PASS | +-------------------------------+----------------+ | Windows Server 2022 | PASS | +-------------------------------+----------------+ CentOS Stream 10 Kernel: 5.15 Compiler: gcc gcc (GCC) 14.2.1 20250110 (Red Hat 14.2.1-8) Debian GNU/Linux 12 Kernel: 5.15 Compiler: gcc gcc (Debian 12.2.0-14+deb12u1) 12.2.0 CentOS Stream 9 Kernel: 5.15 Compiler: gcc gcc (GCC) 11.5.0 20240719 (Red Hat 11.5.0-11) Fedora Linux 40 Kernel: 5.15 Compiler: clang gcc (GCC) 14.2.1 20240912 (Red Hat 14.2.1-3) Fedora Linux 41 Kernel: 5.15 Compiler: clang gcc (GCC) 14.3.1 20250523 (Red Hat 14.3.1-1) Fedora Linux 42 Kernel: 5.15 Compiler: clang gcc (GCC) 15.2.1 20250808 (Red Hat 15.2.1-1) Red Hat Enterprise Linux 9.5 Kernel: 5.15 Compiler: gcc gcc (GCC) 11.5.0 20240719 (Red Hat 11.5.0-2) Red Hat Enterprise Linux 8.10 Kernel: 5.15 Compiler: gcc gcc (GCC) 8.5.0 20210514 (Red Hat 8.5.0-22) Ubuntu 20.04 Kernel: 5.15 Compiler: gcc gcc (Ubuntu 9.4.0-1ubuntu1~20.04.2) 9.4.0 Ubuntu 22.04 Kernel: 5.15 Compiler: gcc gcc (Ubuntu 11.4.0-1ubuntu1~22.04) 11.4.0 Ubuntu 24.04 Kernel: 5.15 Compiler: gcc gcc (Ubuntu 13.3.0-6ubuntu2~24.04) 13.3.0 Windows Server 2022 Kernel: 10.0.20348.2031 Compiler: clang 15.0.7, gcc 14.1.0 (MinGW), and MSVC VS 19.39.33521 To view detailed results, visit: https://lab.dpdk.org/results/dashboard/patchsets/34571/ UNH-IOL DPDK Community Lab To manage your email subscriptions, visit: https://lab.dpdk.org/results/dashboard/preferences/subscriptions/