From mboxrd@z Thu Jan 1 00:00:00 1970 Return-Path: Received: from mails.dpdk.org (mails.dpdk.org [217.70.189.124]) by inbox.dpdk.org (Postfix) with ESMTP id DA46F48B08 for ; Fri, 14 Nov 2025 14:43:38 +0100 (CET) Received: from mails.dpdk.org (localhost [127.0.0.1]) by mails.dpdk.org (Postfix) with ESMTP id B933540151; Fri, 14 Nov 2025 14:43:38 +0100 (CET) Received: from mail-pl1-f226.google.com (mail-pl1-f226.google.com [209.85.214.226]) by mails.dpdk.org (Postfix) with ESMTP id 5088D40151 for ; Fri, 14 Nov 2025 14:43:37 +0100 (CET) Received: by mail-pl1-f226.google.com with SMTP id d9443c01a7336-29853ec5b8cso22646195ad.3 for ; Fri, 14 Nov 2025 05:43:37 -0800 (PST) DKIM-Signature: v=1; a=rsa-sha256; c=relaxed/relaxed; d=iol.unh.edu; s=unh-iol; t=1763127816; x=1763732616; darn=dpdk.org; h=references:in-reply-to:cc:to:from:subject:message-id:date:from:to :cc:subject:date:message-id:reply-to; bh=OC5GvPJ/GBb2u+jM7bwpqf4CXu5tEKBLCqR/WWZ/rDU=; b=Pf7LXpHXy1JLquLquYNi7aczcDNS7hyEuVTEVjsx/7H21+MM7tAGajEq4BCw1jT26c P7dOjyWElsLkW86jntDWPO5VfN3qK220pzYTTrc3EmBZjMgWyakR9axdD38kYDPC374k F7OAnBwULEXRzQuti7OhJTg2tQbLnoeZHBPns= X-Google-DKIM-Signature: v=1; a=rsa-sha256; c=relaxed/relaxed; d=1e100.net; s=20230601; t=1763127816; x=1763732616; h=references:in-reply-to:cc:to:from:subject:message-id:date:x-gm-gg :x-gm-message-state:from:to:cc:subject:date:message-id:reply-to; bh=OC5GvPJ/GBb2u+jM7bwpqf4CXu5tEKBLCqR/WWZ/rDU=; b=ZSI6kNiKy0wRYVzUUKO0uiRuNZvBueCBrk85/sOSu+bupzzWT+mB2xWkzO3G/B0Biv E8Z3D1SuDJG+S7cvXHhrk/To5dxU14Tab/rnWvYfdPBNtBhXb9jOKV/T0PBdHtJyKi3P +rknp5NI+h5jOmT86sNZlKgov5zrDQXmQpLaHWyhtiZbfwoeFY9PAQfrd33H/RX02V7z cw+waj4vAwpOZMKzvHUI1aEc7anHAIrZGpGThR4yofTSd0YswP0odNCqAYikElBySJa8 S6xrcGhp+BmM8Vs1jeF3ypEZ9EYiLRz4EBxaeZA8OQS/MAsgEiqoLzze3EuJ+eZUR2FJ NAqg== X-Gm-Message-State: AOJu0YwkRq3Faj75gllC80mxjIBbm5eV1VdvQbmgOV7GGkOv20U64bFh yGl1EtGX4eqTbP3TgR984dci/h62F+uU/B5fGi65f8jWTjDnqXe8LnXz2CYRkw44M0fJJ3flI7E 4KRyR6JADPuCxzz/+1AGjLMQD5ED6z9DhSFBaUWpMw08o X-Gm-Gg: ASbGncuJpGBkefO6z9R9dDzWu5FUr1VRgg+rcXr5J3OQli7+cQtqXeVYd6+u19BfExM 38w0cUEN0LrK9DLAE76H/IScoJQa8hUIdLdg+bx1rC7gX9y+8wtqttLMeNW7Upk1JdAfH9qR+Lh l6U5yOwBCpJAJ+Uvh1gQH3EKHdGXRcdLCHjK+Vpk8VDN5hM19pj4hnGcC/cfakf1SFzqAPb7lNp 8Qr4d1alDpc+i8SlGfDbfJbE6euYhSOTXScjfptC/JboEtvF10a8sVWp4rowjB6OjJvn7SJK4Yo cGgG1p5WJ3ucyaYIl29yNbZAr+gfmRcjhyQ2hPhkx4iCgrW9JXaFYtlSCJ7tPpAKDqVjIM7E5NY mhHAZ52oqJmGNnblg7vFDxgUjOxmbues= X-Google-Smtp-Source: AGHT+IEPag5M2WDlFVPXARN845te7AbMAL3M62UmWuBphIhbI5f31isE8uS/We9MmcM4qRouLEmFIYNx4eL6 X-Received: by 2002:a17:902:da4d:b0:298:43f4:cc49 with SMTP id d9443c01a7336-2986a6e952fmr32491305ad.24.1763127816216; Fri, 14 Nov 2025 05:43:36 -0800 (PST) Received: from postal.iol.unh.edu (postal.iol.unh.edu. [132.177.123.84]) by smtp-relay.gmail.com with ESMTPS id d9443c01a7336-2985c234263sm5361385ad.1.2025.11.14.05.43.36 (version=TLS1_2 cipher=ECDHE-ECDSA-AES128-GCM-SHA256 bits=128/128); Fri, 14 Nov 2025 05:43:36 -0800 (PST) X-Relaying-Domain: iol.unh.edu Date: Fri, 14 Nov 2025 05:43:36 -0800 (PST) Message-ID: <69173208.170a0220.30e0d7.9d21SMTPIN_ADDED_MISSING@mx.google.com> Received: from [172.21.0.3] (unknown [172.18.0.240]) by postal.iol.unh.edu (Postfix) with ESMTP id 7387E6051830; Fri, 14 Nov 2025 08:43:35 -0500 (EST) Subject: |SUCCESS| pw158775 [PATCH] net/mlx5: fix state corruption in dev sta From: dpdklab@iol.unh.edu To: Test Report Cc: dpdk-test-reports@iol.unh.edu In-Reply-To: <20251113193711.7883-1-mkashani@nvidia.com> References: <20251113193711.7883-1-mkashani@nvidia.com> Content-Type: text/plain X-BeenThere: test-report@dpdk.org X-Mailman-Version: 2.1.29 Precedence: list List-Id: automatic DPDK test reports List-Unsubscribe: , List-Archive: List-Post: List-Help: List-Subscribe: , Errors-To: test-report-bounces@dpdk.org Test-Label: iol-compile-amd64-testing Test-Status: SUCCESS http://dpdk.org/patch/158775 _Testing PASS_ Submitter: Maayan Kashani Date: Thursday, November 13 2025 19:37:11 DPDK git baseline: Repo:dpdk-next-net-mlx Branch: master CommitID:ae657d56b1f0ea979b3f611edf28d773efc2ddcf 158775 --> testing pass Upstream job id: Generic-DPDK-Compile-Meson#444270 Test environment and result as below: +-------------------------------+--------------------+------------------+ | Environment | dpdk_meson_compile | dpdk_compile_ovs | +===============================+====================+==================+ | Ubuntu 20.04 | PASS | SKIPPED | +-------------------------------+--------------------+------------------+ | FreeBSD 14.2 | PASS | SKIPPED | +-------------------------------+--------------------+------------------+ | Alpine Linux 3.22.0 | PASS | SKIPPED | +-------------------------------+--------------------+------------------+ | CentOS Stream 9 | PASS | SKIPPED | +-------------------------------+--------------------+------------------+ | CentOS Stream 10 | PASS | SKIPPED | +-------------------------------+--------------------+------------------+ | Debian GNU/Linux 12 | PASS | SKIPPED | +-------------------------------+--------------------+------------------+ | Fedora Linux 42 | PASS | PASS | +-------------------------------+--------------------+------------------+ | openSUSE Leap 15.6 | PASS | SKIPPED | +-------------------------------+--------------------+------------------+ | Red Hat Enterprise Linux 8.10 | PASS | SKIPPED | +-------------------------------+--------------------+------------------+ | Red Hat Enterprise Linux 9.5 | PASS | SKIPPED | +-------------------------------+--------------------+------------------+ | Ubuntu 22.04 | PASS | SKIPPED | +-------------------------------+--------------------+------------------+ | Ubuntu 24.04 | PASS | PASS | +-------------------------------+--------------------+------------------+ Ubuntu 20.04 Kernel: 4.19 Compiler: gcc gcc (Ubuntu 9.4.0-1ubuntu1~20.04.2) 9.4.0 FreeBSD 14.2 Kernel: 14.2-RELEASE Compiler: clang 18.1.6 Alpine Linux 3.22.0 Kernel: 5.15 Compiler: gcc gcc (Alpine 14.2.0) 14.2.0 CentOS Stream 9 Kernel: 5.15 Compiler: gcc gcc (GCC) 11.5.0 20240719 (Red Hat 11.5.0-11) CentOS Stream 10 Kernel: 5.15 Compiler: gcc gcc (GCC) 14.2.1 20250110 (Red Hat 14.2.1-8) Debian GNU/Linux 12 Kernel: 5.15 Compiler: gcc gcc (Debian 12.2.0-14+deb12u1) 12.2.0 Fedora Linux 42 Kernel: 5.15 Compiler: clang gcc (GCC) 15.2.1 20250808 (Red Hat 15.2.1-1) openSUSE Leap 15.6 Kernel: 5.15 Compiler: gcc gcc (SUSE Linux) 7.5.0 Red Hat Enterprise Linux 8.10 Kernel: 5.15 Compiler: gcc gcc (GCC) 8.5.0 20210514 (Red Hat 8.5.0-22) Red Hat Enterprise Linux 9.5 Kernel: 5.15 Compiler: gcc gcc (GCC) 11.5.0 20240719 (Red Hat 11.5.0-2) Ubuntu 22.04 Kernel: 5.15 Compiler: gcc gcc (Ubuntu 11.4.0-1ubuntu1~22.04) 11.4.0 Ubuntu 24.04 Kernel: 5.15 Compiler: gcc gcc (Ubuntu 13.3.0-6ubuntu2~24.04) 13.3.0 To view detailed results, visit: https://lab.dpdk.org/results/dashboard/patchsets/34582/ UNH-IOL DPDK Community Lab To manage your email subscriptions, visit: https://lab.dpdk.org/results/dashboard/preferences/subscriptions/