From mboxrd@z Thu Jan 1 00:00:00 1970 Return-Path: Received: from mails.dpdk.org (mails.dpdk.org [217.70.189.124]) by inbox.dpdk.org (Postfix) with ESMTP id D7A7A48B08 for ; Fri, 14 Nov 2025 14:43:50 +0100 (CET) Received: from mails.dpdk.org (localhost [127.0.0.1]) by mails.dpdk.org (Postfix) with ESMTP id D045340151; Fri, 14 Nov 2025 14:43:50 +0100 (CET) Received: from mail-il1-f228.google.com (mail-il1-f228.google.com [209.85.166.228]) by mails.dpdk.org (Postfix) with ESMTP id D673740151 for ; Fri, 14 Nov 2025 14:43:49 +0100 (CET) Received: by mail-il1-f228.google.com with SMTP id e9e14a558f8ab-4330dfb6ea3so7944035ab.0 for ; Fri, 14 Nov 2025 05:43:49 -0800 (PST) DKIM-Signature: v=1; a=rsa-sha256; c=relaxed/relaxed; d=iol.unh.edu; s=unh-iol; t=1763127829; x=1763732629; darn=dpdk.org; h=references:in-reply-to:cc:to:from:subject:message-id:date:from:to :cc:subject:date:message-id:reply-to; bh=BuX+FosCsKgkTVV71d/qme6dEaabEJA3kVEVRm3sSA4=; b=bk+CD+7hbGV7CV3z209cYzqey86w9XiSOlnau7EIQJpsXtcQP8cJkQmTmMxTKu2UGQ x/xlX3X+4GahjO8qWI/lMKvZFOpdBVfYs/UG41mw59Xhx4ZoER5IC9Aru7cXxBhBghs1 4KpG95TzDAk2Hj9CGyc/7DFw14b419zmku7ic= X-Google-DKIM-Signature: v=1; a=rsa-sha256; c=relaxed/relaxed; d=1e100.net; s=20230601; t=1763127829; x=1763732629; h=references:in-reply-to:cc:to:from:subject:message-id:date:x-gm-gg :x-gm-message-state:from:to:cc:subject:date:message-id:reply-to; bh=BuX+FosCsKgkTVV71d/qme6dEaabEJA3kVEVRm3sSA4=; b=twKR0QFKxXkEoHI4DpNXTly4wcWk3fa0ElXFpf5u4tvCrnANCPljDyLpFF0cpjCqj+ tum453AFs/kLnLv4uug7zyevTSx/D4maXR2Q1fRDFNy9ZT8BL1LbnwIPBVeJ8QQDjbq0 DnNaW+duBAgeDyecyxPWJtwdr+jxKLv7IrAwuJCN8HKvwyCo1p0R7XqfZPsA2h8tSkDV 9EIXdzO1WzfxK4eeXWaHaTUgzo9eCb8lHmKx0573tf4ZSgteJtWBG9O8B0J4zZgCaNDC Wy5eL0brf5XrmrA9HXJts0qDT24iH908724CZR2t2+aSki6o1Q910+xFbQwrJK+2AR3A lpUg== X-Gm-Message-State: AOJu0YzgoWeBQ4MxDW7f/IX7nxg9UXBEPupM71gj1BTdlSDuSoJxq3Yx iqextMeNin+OkhsOmyZYJmn9FHOjRySnKcxq14FED7C+3iJr/rglPN9iknigLVANE1CVpRqoVwb IePSNSM8YpUxxpB/7gEU4BuJj2r+SopZBm4pCtRYwvWNZ X-Gm-Gg: ASbGncuovfrBc4eAIrExD5EUF0swyjCfAmpsZ0rmfkPs/dzmkKnuxp0fszsla78r5do 5DULCipVEByU/SlWak++jnH8itdaurKYbX7v9L8r19d9Fe+5Jng+UYT7+o9a26ExTY1BDJh3hvm mBdN/PodhozzEsq1GTRa8BycbrALHSKd2F9siypS2evqMb+s+/GOk6MbU+dYXHxgb1vcdKh+xDe b/gktNCqNupKlyBmAhWbUChnqzYGDFB1vICOxb+9w0PMxfw0ZJJJm66biOMxOxm2d92fLwDHZ52 uOHBOYuvUncN/d/ZttqxEyFwFaNDF2bJzkUnuYW2fcjw7ZdnP6/9c/hgFjXA6rP+KMmUEgJnTox rMqxE9JbEatnGE4V2049b1cLT4ncrhEU= X-Google-Smtp-Source: AGHT+IEVVxY0hgimHzLZplzHncQH2pYsMXDJPSLEUxPFONwT7DyDV4neri1h1BkIILQuQ+BkKp0fAsDcHl7U X-Received: by 2002:a05:6e02:148f:b0:433:2597:8cc with SMTP id e9e14a558f8ab-4348c9498fbmr46167225ab.29.1763127828656; Fri, 14 Nov 2025 05:43:48 -0800 (PST) Received: from postal.iol.unh.edu (postal.iol.unh.edu. [132.177.123.84]) by smtp-relay.gmail.com with ESMTPS id e9e14a558f8ab-434839e2cfasm4305825ab.30.2025.11.14.05.43.48 (version=TLS1_2 cipher=ECDHE-ECDSA-AES128-GCM-SHA256 bits=128/128); Fri, 14 Nov 2025 05:43:48 -0800 (PST) X-Relaying-Domain: iol.unh.edu Date: Fri, 14 Nov 2025 05:43:48 -0800 (PST) Message-ID: <69173214.050a0220.122f6e.443aSMTPIN_ADDED_MISSING@mx.google.com> Received: from [172.21.0.3] (unknown [172.18.0.240]) by postal.iol.unh.edu (Postfix) with ESMTP id 32BFA60003E7; Fri, 14 Nov 2025 08:43:48 -0500 (EST) Subject: |SUCCESS| pw158775 [PATCH] net/mlx5: fix state corruption in dev sta From: dpdklab@iol.unh.edu To: Test Report Cc: dpdk-test-reports@iol.unh.edu In-Reply-To: <20251113193711.7883-1-mkashani@nvidia.com> References: <20251113193711.7883-1-mkashani@nvidia.com> Content-Type: text/plain X-BeenThere: test-report@dpdk.org X-Mailman-Version: 2.1.29 Precedence: list List-Id: automatic DPDK test reports List-Unsubscribe: , List-Archive: List-Post: List-Help: List-Subscribe: , Errors-To: test-report-bounces@dpdk.org Test-Label: iol-compile-amd64-testing Test-Status: SUCCESS http://dpdk.org/patch/158775 _Testing PASS_ Submitter: Maayan Kashani Date: Thursday, November 13 2025 19:37:11 DPDK git baseline: Repo:dpdk-next-net-mlx Branch: master CommitID:ae657d56b1f0ea979b3f611edf28d773efc2ddcf 158775 --> testing pass Upstream job id: Generic-DPDK-Compile-Meson#444263 Test environment and result as below: +-------------------------------+--------------------+------------------+ | Environment | dpdk_meson_compile | dpdk_compile_ovs | +===============================+====================+==================+ | Ubuntu 20.04 | PASS | SKIPPED | +-------------------------------+--------------------+------------------+ | FreeBSD 14.2 | PASS | SKIPPED | +-------------------------------+--------------------+------------------+ | Alpine Linux 3.22.0 | PASS | SKIPPED | +-------------------------------+--------------------+------------------+ | CentOS Stream 9 | PASS | SKIPPED | +-------------------------------+--------------------+------------------+ | CentOS Stream 10 | PASS | SKIPPED | +-------------------------------+--------------------+------------------+ | Debian GNU/Linux 12 | PASS | SKIPPED | +-------------------------------+--------------------+------------------+ | Fedora Linux 42 | PASS | PASS | +-------------------------------+--------------------+------------------+ | openSUSE Leap 15.6 | PASS | SKIPPED | +-------------------------------+--------------------+------------------+ | Red Hat Enterprise Linux 8.10 | PASS | SKIPPED | +-------------------------------+--------------------+------------------+ | Red Hat Enterprise Linux 9.5 | PASS | SKIPPED | +-------------------------------+--------------------+------------------+ | Ubuntu 22.04 | PASS | SKIPPED | +-------------------------------+--------------------+------------------+ | Ubuntu 24.04 | PASS | PASS | +-------------------------------+--------------------+------------------+ Ubuntu 20.04 Kernel: 4.19 Compiler: gcc gcc (Ubuntu 9.4.0-1ubuntu1~20.04.2) 9.4.0 FreeBSD 14.2 Kernel: 14.2-RELEASE Compiler: clang 18.1.6 Alpine Linux 3.22.0 Kernel: 5.15 Compiler: gcc gcc (Alpine 14.2.0) 14.2.0 CentOS Stream 9 Kernel: 5.15 Compiler: gcc gcc (GCC) 11.5.0 20240719 (Red Hat 11.5.0-11) CentOS Stream 10 Kernel: 5.15 Compiler: gcc gcc (GCC) 14.2.1 20250110 (Red Hat 14.2.1-8) Debian GNU/Linux 12 Kernel: 5.15 Compiler: gcc gcc (Debian 12.2.0-14+deb12u1) 12.2.0 Fedora Linux 42 Kernel: 5.15 Compiler: clang gcc (GCC) 15.2.1 20250808 (Red Hat 15.2.1-1) openSUSE Leap 15.6 Kernel: 5.15 Compiler: gcc gcc (SUSE Linux) 7.5.0 Red Hat Enterprise Linux 8.10 Kernel: 5.15 Compiler: gcc gcc (GCC) 8.5.0 20210514 (Red Hat 8.5.0-22) Red Hat Enterprise Linux 9.5 Kernel: 5.15 Compiler: gcc gcc (GCC) 11.5.0 20240719 (Red Hat 11.5.0-2) Ubuntu 22.04 Kernel: 5.15 Compiler: gcc gcc (Ubuntu 11.4.0-1ubuntu1~22.04) 11.4.0 Ubuntu 24.04 Kernel: 5.15 Compiler: gcc gcc (Ubuntu 13.3.0-6ubuntu2~24.04) 13.3.0 To view detailed results, visit: https://lab.dpdk.org/results/dashboard/patchsets/34582/ UNH-IOL DPDK Community Lab To manage your email subscriptions, visit: https://lab.dpdk.org/results/dashboard/preferences/subscriptions/