From mboxrd@z Thu Jan 1 00:00:00 1970 Return-Path: Received: from mails.dpdk.org (mails.dpdk.org [217.70.189.124]) by inbox.dpdk.org (Postfix) with ESMTP id 6B3D248B08 for ; Fri, 14 Nov 2025 14:48:44 +0100 (CET) Received: from mails.dpdk.org (localhost [127.0.0.1]) by mails.dpdk.org (Postfix) with ESMTP id 49ED440151; Fri, 14 Nov 2025 14:48:44 +0100 (CET) Received: from mail-vs1-f100.google.com (mail-vs1-f100.google.com [209.85.217.100]) by mails.dpdk.org (Postfix) with ESMTP id 06B7440151 for ; Fri, 14 Nov 2025 14:48:42 +0100 (CET) Received: by mail-vs1-f100.google.com with SMTP id ada2fe7eead31-5dbe6be1ac5so788664137.1 for ; Fri, 14 Nov 2025 05:48:42 -0800 (PST) DKIM-Signature: v=1; a=rsa-sha256; c=relaxed/relaxed; d=iol.unh.edu; s=unh-iol; t=1763128122; x=1763732922; darn=dpdk.org; h=references:in-reply-to:cc:to:from:subject:message-id:date:from:to :cc:subject:date:message-id:reply-to; bh=Ha0nXIKw4V89xGWYpx6jrKCOsEJpj6cxmja1QECEHQ4=; b=NJ52T5q2ik/43IUCqvEbxQWq33JOhFApdXU+vO5+5YbRGuvLyDlROwzDk4WUEeCFT4 qBci89WG3kprO8BqTItf5a0YdH9T4V+UDyj/+gNjOLrtlqfJJfQYh0I4iD5wilUNoljU 32y33EZkMwGLKEI/c/atMEvtV0wUNrt1o4mbk= X-Google-DKIM-Signature: v=1; a=rsa-sha256; c=relaxed/relaxed; d=1e100.net; s=20230601; t=1763128122; x=1763732922; h=references:in-reply-to:cc:to:from:subject:message-id:date:x-gm-gg :x-gm-message-state:from:to:cc:subject:date:message-id:reply-to; bh=Ha0nXIKw4V89xGWYpx6jrKCOsEJpj6cxmja1QECEHQ4=; b=DzuTVO4n4dZXhd9/Fy0VNbFy2thQwHUQpkS+sG3OmegqV6K6U6LHvIcwlOgBrTs/5K V/Pqf4mwHFAKga1ZmUD3TV7UHKO9OZ42Pd9kBBEXuBzLIoAPECcet9BaGQTrTUGLUucT CKPtJIRXcQhmlHNaZ00kdzRqNFf8DMpQHkV0vDI6O9Ht9UwxUem0aPXqH6lqXk0wcinK LDBm7eSduQYZ8buWUwALRdZJMePNfQ3nlQjm3lY4tmLv21YM2Ki/EKMsPocnSfY1fqDe ckBOBcE3uZ8yWFPOxMO91jZ5chD/nJ50reSu3WYjyqrkhalVSUy8PlntPeCUhPyutUEd FaQQ== X-Gm-Message-State: AOJu0Ywh5K+vkRFzgHMR4+rlUY8TpAv6fGVXLOHY7t5rgV+NweFnNr5x Iee7Kc9lZyImUjbA9rRtL5icgb5ZNaSRsmfspR1SsZdH83zPy+39fG1S3AYdK3n9y0jginVRVLv qjKLFYbyJ0KIUPjCz6PLdnQfl351ij/DxQzvv4Ht3QEc3 X-Gm-Gg: ASbGncuicZU2IEJP+W+ydGts8RKCA0U8SAAf2PiOYqOU28uggYPRDPXSp+51dbrRdQc b3oaZF9SGCz9rqEf0g9QcxIRbxydW3W5e8xXsQUOVrlnHf4KE/JJO6uLybGryA0igaMEnmOHhIj b+JFbtdM/VWqK/gemJvuAb6iyD1E48jR+0G2+bsVKCpVMO+1UsITBu70D4kkkh6kb8Nbd7IdE3e H2pg15VTsIOzcN35TI6xpbgQLy/eMB9I7rhrX2xM9GSX6opdffdrDwBgh+Eh7nS9qKxhSEDptoC /C2sFAoOagMzJumkE8Vr8Rkxx9HCX815JWv4Riurdnd7c2Q5t/yDwm12mY9l7+/FTYwUUlOg7qa +SQCQbEeg+vDfDPTnhmkl3UxPtIQLMgE= X-Google-Smtp-Source: AGHT+IH6ObfNpg81WUwnWZ3UboGrJj3OhOefb6W6JAFHWy6Rt7Xf6y0Brn0a1EkXTwA6sC89o++/whSqFbVm X-Received: by 2002:a05:6102:510e:b0:5db:e297:2c75 with SMTP id ada2fe7eead31-5dfc5538139mr1186049137.18.1763128122250; Fri, 14 Nov 2025 05:48:42 -0800 (PST) Received: from postal.iol.unh.edu (postal.iol.unh.edu. [132.177.123.84]) by smtp-relay.gmail.com with ESMTPS id ada2fe7eead31-5dfb708456dsm530497137.2.2025.11.14.05.48.42 (version=TLS1_2 cipher=ECDHE-ECDSA-AES128-GCM-SHA256 bits=128/128); Fri, 14 Nov 2025 05:48:42 -0800 (PST) X-Relaying-Domain: iol.unh.edu Date: Fri, 14 Nov 2025 05:48:42 -0800 (PST) Message-ID: <6917333a.050a0220.2a416b.9391SMTPIN_ADDED_MISSING@mx.google.com> Received: from [172.21.0.2] (unknown [172.18.0.240]) by postal.iol.unh.edu (Postfix) with ESMTP id BB59F6051830; Fri, 14 Nov 2025 08:48:41 -0500 (EST) Subject: |SUCCESS| pw158756-158759 [PATCH] [v4,4/4] bus/fslmc: add support fo From: dpdklab@iol.unh.edu To: Test Report Cc: dpdk-test-reports@iol.unh.edu, Stephen Hemminger In-Reply-To: <20251113114355.2027438-4-hemant.agrawal@nxp.com> References: <20251113114355.2027438-4-hemant.agrawal@nxp.com> Content-Type: text/plain X-BeenThere: test-report@dpdk.org X-Mailman-Version: 2.1.29 Precedence: list List-Id: automatic DPDK test reports List-Unsubscribe: , List-Archive: List-Post: List-Help: List-Subscribe: , Errors-To: test-report-bounces@dpdk.org Test-Label: iol-compile-arm64-testing Test-Status: SUCCESS http://dpdk.org/patch/158759 _Testing PASS_ Submitter: Hemant Agrawal Date: Thursday, November 13 2025 11:43:55 DPDK git baseline: Repo:dpdk-next-net Branch: master CommitID:29807269854f9bfc72f1323273de8e23adc724d4 158756-158759 --> testing pass Upstream job id: Generic-DPDK-Compile-Meson#444033 Test environment and result as below: +------------------------------+--------------------+ | Environment | dpdk_meson_compile | +==============================+====================+ | Red Hat Enterprise Linux 9.5 | PASS | +------------------------------+--------------------+ | Ubuntu 20.04 | PASS | +------------------------------+--------------------+ | Debian GNU/Linux 12 | PASS | +------------------------------+--------------------+ | Fedora Linux 42 | PASS | +------------------------------+--------------------+ | Ubuntu 22.04 | PASS | +------------------------------+--------------------+ | Ubuntu 24.04 | PASS | +------------------------------+--------------------+ | CentOS Stream 9 | PASS | +------------------------------+--------------------+ | CentOS Stream 10 | PASS | +------------------------------+--------------------+ Red Hat Enterprise Linux 9.5 Kernel: 5.4 Compiler: gcc gcc (GCC) 11.5.0 20240719 (Red Hat 11.5.0-2) Ubuntu 20.04 Kernel: 5.15 Compiler: aarch64-linux-gnu-gcc gcc (Ubuntu 9.4.0-1ubuntu1~20.04.2) 9.4.0 Debian GNU/Linux 12 Kernel: 5.4 Compiler: gcc gcc (Debian 12.2.0-14+deb12u1) 12.2.0 Fedora Linux 42 Kernel: 5.4 Compiler: gcc gcc (GCC) 15.2.1 20250808 (Red Hat 15.2.1-1) Ubuntu 22.04 Kernel: 5.4 Compiler: gcc gcc (Ubuntu 11.4.0-1ubuntu1~22.04) 11.4.0 Ubuntu 24.04 Kernel: 5.4 Compiler: gcc gcc (Ubuntu 13.3.0-6ubuntu2~24.04) 13.3.0 CentOS Stream 9 Kernel: 5.4 Compiler: gcc gcc (GCC) 11.5.0 20240719 (Red Hat 11.5.0-11) CentOS Stream 10 Kernel: 5.4 Compiler: gcc gcc (GCC) 14.2.1 20250110 (Red Hat 14.2.1-8) To view detailed results, visit: https://lab.dpdk.org/results/dashboard/patchsets/34573/ UNH-IOL DPDK Community Lab To manage your email subscriptions, visit: https://lab.dpdk.org/results/dashboard/preferences/subscriptions/