From mboxrd@z Thu Jan 1 00:00:00 1970 Return-Path: Received: from mails.dpdk.org (mails.dpdk.org [217.70.189.124]) by inbox.dpdk.org (Postfix) with ESMTP id 7A6E048B08 for ; Fri, 14 Nov 2025 15:01:22 +0100 (CET) Received: from mails.dpdk.org (localhost [127.0.0.1]) by mails.dpdk.org (Postfix) with ESMTP id 5B6D840151; Fri, 14 Nov 2025 15:01:22 +0100 (CET) Received: from mail-ot1-f100.google.com (mail-ot1-f100.google.com [209.85.210.100]) by mails.dpdk.org (Postfix) with ESMTP id 5343B40151 for ; Fri, 14 Nov 2025 15:01:21 +0100 (CET) Received: by mail-ot1-f100.google.com with SMTP id 46e09a7af769-7c71cca8fc2so1281156a34.1 for ; Fri, 14 Nov 2025 06:01:21 -0800 (PST) DKIM-Signature: v=1; a=rsa-sha256; c=relaxed/relaxed; d=iol.unh.edu; s=unh-iol; t=1763128880; x=1763733680; darn=dpdk.org; h=references:in-reply-to:cc:to:from:subject:message-id:date:from:to :cc:subject:date:message-id:reply-to; bh=99WEitdp4y6K/2IqKDtRKxgjgSkYGIlN5K5ZC5L0jQw=; b=Ry49LAUsA79YfRJ9mYmdoa1XgoOgAYDBDt2yEYEeA9baBSHVixiwlQi96x613hou1P vXkBt5HA3sQP/audswXaEEFTlWt8/S5lm4mW3F11cyvwS+e+J/3D4cumV+L7PC7CFRcP S5jRLfRPDJd7a66dek3hI5EKchy+CMh+xKKXM= X-Google-DKIM-Signature: v=1; a=rsa-sha256; c=relaxed/relaxed; d=1e100.net; s=20230601; t=1763128880; x=1763733680; h=references:in-reply-to:cc:to:from:subject:message-id:date:x-gm-gg :x-gm-message-state:from:to:cc:subject:date:message-id:reply-to; bh=99WEitdp4y6K/2IqKDtRKxgjgSkYGIlN5K5ZC5L0jQw=; b=SLeCR2VILZAYRFIuTu7C5/Im4PEpDQyahRnTQsryfyREWTjxJPRu5KODIZNItq2aiJ z6TtjSPd6qLJD5TjQ9jLnIEcZP8BpcGUi/J0e0Op5YwfN7yI1xwQcB83aeSBELr8lvmf okii2yLpS+xK8xvLwAEBZUk/JD3llulHbrrFZFgSc+Ow0RcNhe62KA7Qygy4dA2685wC lsObIblg/gK1bcsyoOYsAY6eXrpAhGzGVQJLT1ItN/hUlHBg44Jjh6rhRQ6LSMxZaVLr ybaOa59wN3iC83HA3vCHmZ5y8NgoDnb6GqdGEzGmS+Fa8Df0rkSpNeQRfGmSjneylhKA pyUQ== X-Gm-Message-State: AOJu0YwlJXXaC7h6Re8AvbZOwFPIECxSZ1n2XSwhnEduJyMVJLMEc682 5eC9irXSucONxbTkDttARFgzqooxM9pfFOJp47PVxOM11HYUvfbrUNHlBieO9r1h90wpCKb6h90 uQqLd4+kv5KVGOnxeNhXdKCCURxC0iMAEojiw8f074jrt X-Gm-Gg: ASbGnct+8Auk7f4pzCsqN9Fyf+7c0W+uPb2jo2cJOQKUcD8wPcjQFaO72j7D56jeQVE kWX7pxqMfoM+X6pEsHQUPsyz+Ecl2vWxqu3u349qIUu01G5iHeN5O4wg/dDpS+4T60Zs2Fmeqri 70G8D4reUsGlXksK3fIbVoiTWM+n119giP5QhCUnfxhjp0w6YaMcLCQL4o7avpF/I2gujmhb8v3 VQKCCIokJP7pL8Gf63CAkqlZKYIi7UZLPlTr6/fEgeAL2iygSaXzDDz90if6FHP/KzBcdpm1Hvj B31E31+84o0+mHyBtqf6A1dJIV4kYVU0Y1vMynhC8NexunZW9rO+h7PmZhU69XeXuH6eCPrdti8 RLkbzIzfaQj/UCKRJmfrcnG6PTUNIR3U= X-Google-Smtp-Source: AGHT+IFj5mp1jHUUjo3bjyiuN81rb5gyDnr1mBRnU5BghTxelI65imRrR3x8U8/t6+b3kyXZydX49H0yAXnN X-Received: by 2002:a05:6808:1523:b0:44d:c185:f816 with SMTP id 5614622812f47-450974b3f40mr1676531b6e.34.1763128879768; Fri, 14 Nov 2025 06:01:19 -0800 (PST) Received: from postal.iol.unh.edu (postal.iol.unh.edu. [132.177.123.84]) by smtp-relay.gmail.com with ESMTPS id 586e51a60fabf-3e8522adbb3sm398486fac.17.2025.11.14.06.01.19 (version=TLS1_2 cipher=ECDHE-ECDSA-AES128-GCM-SHA256 bits=128/128); Fri, 14 Nov 2025 06:01:19 -0800 (PST) X-Relaying-Domain: iol.unh.edu Date: Fri, 14 Nov 2025 06:01:19 -0800 (PST) Message-ID: <6917362f.050a0220.26405d.3590SMTPIN_ADDED_MISSING@mx.google.com> Received: from [172.21.0.3] (unknown [172.18.0.240]) by postal.iol.unh.edu (Postfix) with ESMTP id B02E56051830; Fri, 14 Nov 2025 09:01:17 -0500 (EST) Subject: |SUCCESS| pw158775 [PATCH] net/mlx5: fix state corruption in dev sta From: dpdklab@iol.unh.edu To: Test Report Cc: dpdk-test-reports@iol.unh.edu In-Reply-To: <20251113193711.7883-1-mkashani@nvidia.com> References: <20251113193711.7883-1-mkashani@nvidia.com> Content-Type: text/plain X-BeenThere: test-report@dpdk.org X-Mailman-Version: 2.1.29 Precedence: list List-Id: automatic DPDK test reports List-Unsubscribe: , List-Archive: List-Post: List-Help: List-Subscribe: , Errors-To: test-report-bounces@dpdk.org Test-Label: iol-compile-amd64-testing Test-Status: SUCCESS http://dpdk.org/patch/158775 _Testing PASS_ Submitter: Maayan Kashani Date: Thursday, November 13 2025 19:37:11 DPDK git baseline: Repo:dpdk-next-net-mlx Branch: master CommitID:ae657d56b1f0ea979b3f611edf28d773efc2ddcf 158775 --> testing pass Upstream job id: Generic-DPDK-Compile-Meson#444275 Test environment and result as below: +-------------------------------+--------------------+------------------+ | Environment | dpdk_meson_compile | dpdk_compile_ovs | +===============================+====================+==================+ | Ubuntu 20.04 | PASS | SKIPPED | +-------------------------------+--------------------+------------------+ | FreeBSD 14.2 | PASS | SKIPPED | +-------------------------------+--------------------+------------------+ | Alpine Linux 3.22.0 | PASS | SKIPPED | +-------------------------------+--------------------+------------------+ | CentOS Stream 9 | PASS | SKIPPED | +-------------------------------+--------------------+------------------+ | CentOS Stream 10 | PASS | SKIPPED | +-------------------------------+--------------------+------------------+ | Debian GNU/Linux 12 | PASS | SKIPPED | +-------------------------------+--------------------+------------------+ | Fedora Linux 42 | PASS | PASS | +-------------------------------+--------------------+------------------+ | openSUSE Leap 15.6 | PASS | SKIPPED | +-------------------------------+--------------------+------------------+ | Red Hat Enterprise Linux 8.10 | PASS | SKIPPED | +-------------------------------+--------------------+------------------+ | Red Hat Enterprise Linux 9.5 | PASS | SKIPPED | +-------------------------------+--------------------+------------------+ | Ubuntu 22.04 | PASS | SKIPPED | +-------------------------------+--------------------+------------------+ | Ubuntu 24.04 | PASS | PASS | +-------------------------------+--------------------+------------------+ Ubuntu 20.04 Kernel: 4.19 Compiler: gcc gcc (Ubuntu 9.4.0-1ubuntu1~20.04.2) 9.4.0 FreeBSD 14.2 Kernel: 14.2-RELEASE Compiler: clang 18.1.6 Alpine Linux 3.22.0 Kernel: 5.15 Compiler: gcc gcc (Alpine 14.2.0) 14.2.0 CentOS Stream 9 Kernel: 5.15 Compiler: gcc gcc (GCC) 11.5.0 20240719 (Red Hat 11.5.0-11) CentOS Stream 10 Kernel: 5.15 Compiler: gcc gcc (GCC) 14.2.1 20250110 (Red Hat 14.2.1-8) Debian GNU/Linux 12 Kernel: 5.15 Compiler: gcc gcc (Debian 12.2.0-14+deb12u1) 12.2.0 Fedora Linux 42 Kernel: 5.15 Compiler: clang gcc (GCC) 15.2.1 20250808 (Red Hat 15.2.1-1) openSUSE Leap 15.6 Kernel: 5.15 Compiler: gcc gcc (SUSE Linux) 7.5.0 Red Hat Enterprise Linux 8.10 Kernel: 5.15 Compiler: gcc gcc (GCC) 8.5.0 20210514 (Red Hat 8.5.0-22) Red Hat Enterprise Linux 9.5 Kernel: 5.15 Compiler: gcc gcc (GCC) 11.5.0 20240719 (Red Hat 11.5.0-2) Ubuntu 22.04 Kernel: 5.15 Compiler: gcc gcc (Ubuntu 11.4.0-1ubuntu1~22.04) 11.4.0 Ubuntu 24.04 Kernel: 5.15 Compiler: gcc gcc (Ubuntu 13.3.0-6ubuntu2~24.04) 13.3.0 To view detailed results, visit: https://lab.dpdk.org/results/dashboard/patchsets/34582/ UNH-IOL DPDK Community Lab To manage your email subscriptions, visit: https://lab.dpdk.org/results/dashboard/preferences/subscriptions/