From mboxrd@z Thu Jan 1 00:00:00 1970 Return-Path: Received: from mails.dpdk.org (mails.dpdk.org [217.70.189.124]) by inbox.dpdk.org (Postfix) with ESMTP id C165348B0A for ; Fri, 14 Nov 2025 15:04:29 +0100 (CET) Received: from mails.dpdk.org (localhost [127.0.0.1]) by mails.dpdk.org (Postfix) with ESMTP id 9CE7740151; Fri, 14 Nov 2025 15:04:29 +0100 (CET) Received: from mail-io1-f99.google.com (mail-io1-f99.google.com [209.85.166.99]) by mails.dpdk.org (Postfix) with ESMTP id B151140151 for ; Fri, 14 Nov 2025 15:04:27 +0100 (CET) Received: by mail-io1-f99.google.com with SMTP id ca18e2360f4ac-9486b567baaso158075039f.0 for ; Fri, 14 Nov 2025 06:04:27 -0800 (PST) DKIM-Signature: v=1; a=rsa-sha256; c=relaxed/relaxed; d=iol.unh.edu; s=unh-iol; t=1763129067; x=1763733867; darn=dpdk.org; h=references:in-reply-to:cc:to:from:subject:message-id:date:from:to :cc:subject:date:message-id:reply-to; bh=IuaT+DFHtELrs7BUQTuaq9OSfk9wuDnH/KaZrEQw2sE=; b=VmzpC+O4FVMV2Hi/b/qCoenc2lMkVv0KqupJj63aob0YyLvK/Y4drGPRPMXxzcDyKt 4W81WtkZ2QNTrD3fGsGgT9f0ywzijFyXNZGXTwFEHlM0Jo9yT/1PdG7FyA5pEg+pD8fz GKd4XFEXgWXfxaTNlmEgLRLFNtrRb8sIPinbg= X-Google-DKIM-Signature: v=1; a=rsa-sha256; c=relaxed/relaxed; d=1e100.net; s=20230601; t=1763129067; x=1763733867; h=references:in-reply-to:cc:to:from:subject:message-id:date:x-gm-gg :x-gm-message-state:from:to:cc:subject:date:message-id:reply-to; bh=IuaT+DFHtELrs7BUQTuaq9OSfk9wuDnH/KaZrEQw2sE=; b=Z2jqRhjhnxqf07AD3uhmV1o+VUDEkB8HQz+wF9RlMzMMf36vqV6wdnxwl4L7Rq3HmX XW4g2vLQ7+Jdrc/PPAol1VH5Mi8mWO6Otw6VWiBpjATfmSGydQKlQ09QB+cZjxQhJAgL 59nybEk+ZuKfONjDOm2zdXIBUzpehb7xQEszwSPAyoGlmOgfR6UDZWfK3a5QsBL7ic4f XP1nfFpKVVUFw0s8GdwMmeoe9dxH1uWDiZQ9zgO25lyXH0Jht4ngohq9OYi5c3mTDslR xsDLV2QV0uTfjuATDnXGMzTr65JWN0c/s6R9gugVHUEZgnEfjOTG2uHjAH7OjEIRTvCa skRw== X-Gm-Message-State: AOJu0Yyixj4/cOQnY2n/vLdUA9MJKyGaIIA1zCf7o8sxESdbTkpjvLnH 6IPM9gqGibNcJ8EznN76N9RMssfcftY4/1farIT5skrfceQ1pzenVPzMTelQkblvGdzL1hjJKk2 xeRq7n8N1Pxcq3maFr90NAZNWl9ug3TyFm3K12a8s7CrV X-Gm-Gg: ASbGncvPRvl8pbro1YNbcaTRk6GbfWMnWVaOTAtPQzl4PwAnCvS0VZURKaPFs6mvJ7B WVD7zymJkw4XzMxxcq6FxlCIAGTL1RmD/I5H7Nes8qaZTX0ktVfLWNo5qaT2aEQHvQRUObKQN08 nS/Qp/W3HLYPv4qPVsgPz1xKOhj1joWAcb1aLObfsw2uVxvs4YlJykDgQaFkMJyAPbt+ciZp1hl dMiNR2dWHHaG5Mk00wtwJ2WX7hkpEmEZLiz8mSnX51ri0xcJOrD1X9Mv0Uto/TyO3fAX3lWbeRW EPwMF1NW+gQMtA5xBaRbA/gcEl/o2Oin3t93mNFxd8ILyeSL6HAS02+wy/vzT77OM3sQ3taFREu /IRPsK1fsmpXUMRY8cILWBa/4MXFhmQY= X-Google-Smtp-Source: AGHT+IFeHRtOSUGAJTceS12tVFsEVtxRo1tZJQFo1KX6fOMw+J+rOvIblx/6LRO2RrBW6koQdPaJWDEFtsJa X-Received: by 2002:a05:6e02:1a0a:b0:433:7e2f:83c5 with SMTP id e9e14a558f8ab-4348c88f4e9mr51486315ab.3.1763129066853; Fri, 14 Nov 2025 06:04:26 -0800 (PST) Received: from postal.iol.unh.edu (postal.iol.unh.edu. [132.177.123.84]) by smtp-relay.gmail.com with ESMTPS id e9e14a558f8ab-434833e96f6sm4426155ab.13.2025.11.14.06.04.26 (version=TLS1_2 cipher=ECDHE-ECDSA-AES128-GCM-SHA256 bits=128/128); Fri, 14 Nov 2025 06:04:26 -0800 (PST) X-Relaying-Domain: iol.unh.edu Date: Fri, 14 Nov 2025 06:04:26 -0800 (PST) Message-ID: <691736ea.050a0220.30701f.4ac2SMTPIN_ADDED_MISSING@mx.google.com> Received: from [172.21.0.2] (unknown [172.18.0.240]) by postal.iol.unh.edu (Postfix) with ESMTP id 59AA86051830; Fri, 14 Nov 2025 09:04:26 -0500 (EST) Subject: |SUCCESS| pw158772 [PATCH] [v2] net/axgbe: fix the build warning for From: dpdklab@iol.unh.edu To: Test Report Cc: dpdk-test-reports@iol.unh.edu, Stephen Hemminger In-Reply-To: <20251113164109.522-1-VenkatKumar.Ande@amd.com> References: <20251113164109.522-1-VenkatKumar.Ande@amd.com> Content-Type: text/plain X-BeenThere: test-report@dpdk.org X-Mailman-Version: 2.1.29 Precedence: list List-Id: automatic DPDK test reports List-Unsubscribe: , List-Archive: List-Post: List-Help: List-Subscribe: , Errors-To: test-report-bounces@dpdk.org Test-Label: iol-compile-amd64-testing Test-Status: SUCCESS http://dpdk.org/patch/158772 _Testing PASS_ Submitter: Venkat Kumar Ande Date: Thursday, November 13 2025 16:41:09 DPDK git baseline: Repo:dpdk-next-net Branch: master CommitID:fca6f2910345c25a5050a0b586e0d324ca616cbb 158772 --> testing pass Upstream job id: Windows-Compile-DPDK-VS#7543 Test environment and result as below: +-------------------------------+--------------------+------------------+-------------------+ | Environment | dpdk_meson_compile | dpdk_compile_ovs | dpdk_msvc_compile | +===============================+====================+==================+===================+ | Ubuntu 20.04 | PASS | SKIPPED | SKIPPED | +-------------------------------+--------------------+------------------+-------------------+ | FreeBSD 14.2 | PASS | SKIPPED | SKIPPED | +-------------------------------+--------------------+------------------+-------------------+ | CentOS Stream 9 | PASS | SKIPPED | SKIPPED | +-------------------------------+--------------------+------------------+-------------------+ | Fedora Linux 42 | PASS | PASS | SKIPPED | +-------------------------------+--------------------+------------------+-------------------+ | Debian GNU/Linux 12 | PASS | SKIPPED | SKIPPED | +-------------------------------+--------------------+------------------+-------------------+ | CentOS Stream 10 | PASS | SKIPPED | SKIPPED | +-------------------------------+--------------------+------------------+-------------------+ | openSUSE Leap 15.6 | PASS | SKIPPED | SKIPPED | +-------------------------------+--------------------+------------------+-------------------+ | Red Hat Enterprise Linux 8.10 | PASS | SKIPPED | SKIPPED | +-------------------------------+--------------------+------------------+-------------------+ | Red Hat Enterprise Linux 9.5 | PASS | SKIPPED | SKIPPED | +-------------------------------+--------------------+------------------+-------------------+ | Ubuntu 22.04 | PASS | SKIPPED | SKIPPED | +-------------------------------+--------------------+------------------+-------------------+ | Ubuntu 24.04 | PASS | PASS | SKIPPED | +-------------------------------+--------------------+------------------+-------------------+ | Alpine Linux 3.22.0 | PASS | SKIPPED | SKIPPED | +-------------------------------+--------------------+------------------+-------------------+ | Windows Server 2022 | SKIPPED | SKIPPED | PASS | +-------------------------------+--------------------+------------------+-------------------+ Ubuntu 20.04 Kernel: 4.19 Compiler: gcc gcc (Ubuntu 9.4.0-1ubuntu1~20.04.2) 9.4.0 FreeBSD 14.2 Kernel: 14.2-RELEASE Compiler: clang 18.1.6 CentOS Stream 9 Kernel: 5.15 Compiler: gcc gcc (GCC) 11.5.0 20240719 (Red Hat 11.5.0-11) Fedora Linux 42 Kernel: 5.15 Compiler: clang gcc (GCC) 15.2.1 20250808 (Red Hat 15.2.1-1) Debian GNU/Linux 12 Kernel: 5.15 Compiler: gcc gcc (Debian 12.2.0-14+deb12u1) 12.2.0 CentOS Stream 10 Kernel: 5.15 Compiler: gcc gcc (GCC) 14.2.1 20250110 (Red Hat 14.2.1-8) openSUSE Leap 15.6 Kernel: 5.15 Compiler: gcc gcc (SUSE Linux) 7.5.0 Red Hat Enterprise Linux 8.10 Kernel: 5.15 Compiler: gcc gcc (GCC) 8.5.0 20210514 (Red Hat 8.5.0-22) Red Hat Enterprise Linux 9.5 Kernel: 5.15 Compiler: gcc gcc (GCC) 11.5.0 20240719 (Red Hat 11.5.0-2) Ubuntu 22.04 Kernel: 5.15 Compiler: gcc gcc (Ubuntu 11.4.0-1ubuntu1~22.04) 11.4.0 Ubuntu 24.04 Kernel: 5.15 Compiler: gcc gcc (Ubuntu 13.3.0-6ubuntu2~24.04) 13.3.0 Alpine Linux 3.22.0 Kernel: 5.15 Compiler: gcc gcc (Alpine 14.2.0) 14.2.0 Windows Server 2022 Kernel: 10.0.20348.2031 Compiler: clang 15.0.7, gcc 14.1.0 (MinGW), and MSVC VS 19.39.33521 To view detailed results, visit: https://lab.dpdk.org/results/dashboard/patchsets/34580/ UNH-IOL DPDK Community Lab To manage your email subscriptions, visit: https://lab.dpdk.org/results/dashboard/preferences/subscriptions/