From mboxrd@z Thu Jan 1 00:00:00 1970 Return-Path: Received: from mails.dpdk.org (mails.dpdk.org [217.70.189.124]) by inbox.dpdk.org (Postfix) with ESMTP id D4A1E48B0A for ; Fri, 14 Nov 2025 15:06:08 +0100 (CET) Received: from mails.dpdk.org (localhost [127.0.0.1]) by mails.dpdk.org (Postfix) with ESMTP id CA85940151; Fri, 14 Nov 2025 15:06:08 +0100 (CET) Received: from mail-qv1-f99.google.com (mail-qv1-f99.google.com [209.85.219.99]) by mails.dpdk.org (Postfix) with ESMTP id BBB6440151 for ; Fri, 14 Nov 2025 15:06:07 +0100 (CET) Received: by mail-qv1-f99.google.com with SMTP id 6a1803df08f44-8738c6fdbe8so20029376d6.1 for ; Fri, 14 Nov 2025 06:06:07 -0800 (PST) DKIM-Signature: v=1; a=rsa-sha256; c=relaxed/relaxed; d=iol.unh.edu; s=unh-iol; t=1763129167; x=1763733967; darn=dpdk.org; h=references:in-reply-to:cc:to:from:subject:message-id:date:from:to :cc:subject:date:message-id:reply-to; bh=QSm6fzRMz/82P+IZ5e3CbRYOVWd9vlnuFl0IhvcLnpM=; b=GFnnUo+etAECeiFbxL8BABJz8cox2In/unIIEoLCBZsjJjpXoL1Vcipv6pBdOe1PHs vmRO3JgiVs9vakTv6Yl3W1xv0SIK3pKEDESG90MOA80h1YkgacB4+ClODFJQ7yjz8RMM lt5FJieCE7b8Kvz5NZb+HTnXC6X+aZEM/uUng= X-Google-DKIM-Signature: v=1; a=rsa-sha256; c=relaxed/relaxed; d=1e100.net; s=20230601; t=1763129167; x=1763733967; h=references:in-reply-to:cc:to:from:subject:message-id:date:x-gm-gg :x-gm-message-state:from:to:cc:subject:date:message-id:reply-to; bh=QSm6fzRMz/82P+IZ5e3CbRYOVWd9vlnuFl0IhvcLnpM=; b=lq2t5TG4vsTCluFsmW5OukLlfMROhQ/S81IINlVpIYNyz/tpedFrl6zrcoHo0JoDrW 8XvRr2Ram1kLpzGSMrQkLqxQm25hsJ6I8rd/OyVIMSyOaKck2aR2UbFChxinHTwBMQNM 9q9Rh2CkCxferPNA8K2nZGWeanp6lzyf8bBO0or1DnwjTUtzOeu+wEPTMRtrR1diWrcM 8C+SFv2BQ0Di//WSk9iLa/WBY3QMAqyCwFQP0r+j4A9LLAuX4c7vasktccseWnrctwLo i/RUKUZdDSVR+EsASwFDfD6EAlrENdW8neqD8A+FZhsoW0MFRd09Ru5IMzpLxvUdbBMm QxqQ== X-Gm-Message-State: AOJu0YxHHrcrEnDDOD2vMX6YTXTSlqquWX7lgUMxHFIg+wQ2isEwwByz dENyqiEuy/4pURPq4QAsZgLO3mYOoxZ4yRoqf0QNd31d9eT5F8bFRRWjQIYafJdTb1WQVztb2gQ h1eD0KFoMEj9sKiw9ARDe9PDD0Yf/KhzuCRX7XlEjArpA X-Gm-Gg: ASbGncuwpzMLQl7/wq5NUro99Dl4Wp2wS6vrJSiawLUoS59leig6PyIRDYnNTdzlYTj uhwaQjVok7pnqCuNnHAubt3iSIQQIhllPvUBQpHziAQQ092z/H6WnP4cLDU1piMbTbreB+fyp67 kICtpu8/bT7PNKpEPGIm9npvyhfVD3v7puHJE9qvPj8x+vxaKmaljjwHm65kmUrjszux6B5PdDn BnvmRwnRgwYgY4knJP2AbtVH6AB0IzpOy7VaLTlw2jyrLpwoIjcj5D1i5kjO6v58G/a68yYhRod dusv87xBKbMi2oDp8dWF3/sHKNEUcXq47jJhr1aHwv+bIwy8a73gZ1aV/rSsoZ2uEbAEY1EedeJ 9ioVa8fivIDbtyPfai6Y0G+xqdUw42zg= X-Google-Smtp-Source: AGHT+IH2R6wNErINygf/cz9V22eXSKdVGEdo+vv4EhciJkD/DEzsv1l2Et4mawL0wcB1VYz3zHQV+RY/YXLs X-Received: by 2002:a05:6214:2241:b0:880:5249:be3e with SMTP id 6a1803df08f44-88290e3ffc6mr45795616d6.13.1763129163138; Fri, 14 Nov 2025 06:06:03 -0800 (PST) Received: from postal.iol.unh.edu (postal.iol.unh.edu. [132.177.123.84]) by smtp-relay.gmail.com with ESMTPS id 6a1803df08f44-8828656bc18sm5610826d6.23.2025.11.14.06.06.03 (version=TLS1_2 cipher=ECDHE-ECDSA-AES128-GCM-SHA256 bits=128/128); Fri, 14 Nov 2025 06:06:03 -0800 (PST) X-Relaying-Domain: iol.unh.edu Date: Fri, 14 Nov 2025 06:06:03 -0800 (PST) Message-ID: <6917374b.050a0220.237ff6.a4e3SMTPIN_ADDED_MISSING@mx.google.com> Received: from [172.21.0.2] (unknown [172.18.0.240]) by postal.iol.unh.edu (Postfix) with ESMTP id D61996051830; Fri, 14 Nov 2025 09:06:02 -0500 (EST) Subject: |SUCCESS| pw158695 [PATCH] license: standardize SPDX tag for 3-Claus From: dpdklab@iol.unh.edu To: Test Report Cc: dpdk-test-reports@iol.unh.edu In-Reply-To: <20251112091335.662991-1-thomas@monjalon.net> References: <20251112091335.662991-1-thomas@monjalon.net> Content-Type: text/plain X-BeenThere: test-report@dpdk.org X-Mailman-Version: 2.1.29 Precedence: list List-Id: automatic DPDK test reports List-Unsubscribe: , List-Archive: List-Post: List-Help: List-Subscribe: , Errors-To: test-report-bounces@dpdk.org Test-Label: iol-compile-amd64-testing Test-Status: SUCCESS http://dpdk.org/patch/158695 _Testing PASS_ Submitter: Thomas Monjalon Date: Wednesday, November 12 2025 09:13:35 DPDK git baseline: Repo:dpdk Branch: master CommitID:be0112878b4fc3a1b918370ed2fe615c52039d77 158695 --> testing pass Upstream job id: Windows-Compile-DPDK-Native#32321 Test environment and result as below: +-------------------------------+--------------------+------------------+-------------------+-------------------------+----------------------+ | Environment | dpdk_meson_compile | dpdk_compile_ovs | dpdk_msvc_compile | dpdk_llvm_clang_compile | dpdk_mingw64_compile | +===============================+====================+==================+===================+=========================+======================+ | Ubuntu 20.04 | PASS | SKIPPED | SKIPPED | SKIPPED | SKIPPED | +-------------------------------+--------------------+------------------+-------------------+-------------------------+----------------------+ | FreeBSD 14.2 | PASS | SKIPPED | SKIPPED | SKIPPED | SKIPPED | +-------------------------------+--------------------+------------------+-------------------+-------------------------+----------------------+ | CentOS Stream 9 | PASS | SKIPPED | SKIPPED | SKIPPED | SKIPPED | +-------------------------------+--------------------+------------------+-------------------+-------------------------+----------------------+ | CentOS Stream 10 | PASS | SKIPPED | SKIPPED | SKIPPED | SKIPPED | +-------------------------------+--------------------+------------------+-------------------+-------------------------+----------------------+ | Debian GNU/Linux 12 | PASS | SKIPPED | SKIPPED | SKIPPED | SKIPPED | +-------------------------------+--------------------+------------------+-------------------+-------------------------+----------------------+ | Fedora Linux 42 | PASS | PASS | SKIPPED | SKIPPED | SKIPPED | +-------------------------------+--------------------+------------------+-------------------+-------------------------+----------------------+ | openSUSE Leap 15.6 | PASS | SKIPPED | SKIPPED | SKIPPED | SKIPPED | +-------------------------------+--------------------+------------------+-------------------+-------------------------+----------------------+ | Red Hat Enterprise Linux 8.10 | PASS | SKIPPED | SKIPPED | SKIPPED | SKIPPED | +-------------------------------+--------------------+------------------+-------------------+-------------------------+----------------------+ | Red Hat Enterprise Linux 9.5 | PASS | SKIPPED | SKIPPED | SKIPPED | SKIPPED | +-------------------------------+--------------------+------------------+-------------------+-------------------------+----------------------+ | Ubuntu 22.04 | PASS | SKIPPED | SKIPPED | SKIPPED | SKIPPED | +-------------------------------+--------------------+------------------+-------------------+-------------------------+----------------------+ | Ubuntu 24.04 | PASS | PASS | SKIPPED | SKIPPED | SKIPPED | +-------------------------------+--------------------+------------------+-------------------+-------------------------+----------------------+ | Alpine Linux 3.22.0 | PASS | SKIPPED | SKIPPED | SKIPPED | SKIPPED | +-------------------------------+--------------------+------------------+-------------------+-------------------------+----------------------+ | Windows Server 2022 | SKIPPED | SKIPPED | PASS | PASS | PASS | +-------------------------------+--------------------+------------------+-------------------+-------------------------+----------------------+ Ubuntu 20.04 Kernel: 4.19 Compiler: gcc gcc (Ubuntu 9.4.0-1ubuntu1~20.04.2) 9.4.0 FreeBSD 14.2 Kernel: 14.2-RELEASE Compiler: clang 18.1.6 CentOS Stream 9 Kernel: 5.15 Compiler: gcc gcc (GCC) 11.5.0 20240719 (Red Hat 11.5.0-11) CentOS Stream 10 Kernel: 5.15 Compiler: gcc gcc (GCC) 14.2.1 20250110 (Red Hat 14.2.1-8) Debian GNU/Linux 12 Kernel: 5.15 Compiler: gcc gcc (Debian 12.2.0-14+deb12u1) 12.2.0 Fedora Linux 42 Kernel: 5.15 Compiler: clang gcc (GCC) 15.2.1 20250808 (Red Hat 15.2.1-1) openSUSE Leap 15.6 Kernel: 5.15 Compiler: gcc gcc (SUSE Linux) 7.5.0 Red Hat Enterprise Linux 8.10 Kernel: 5.15 Compiler: gcc gcc (GCC) 8.5.0 20210514 (Red Hat 8.5.0-22) Red Hat Enterprise Linux 9.5 Kernel: 5.15 Compiler: gcc gcc (GCC) 11.5.0 20240719 (Red Hat 11.5.0-2) Ubuntu 22.04 Kernel: 5.15 Compiler: gcc gcc (Ubuntu 11.4.0-1ubuntu1~22.04) 11.4.0 Ubuntu 24.04 Kernel: 5.15 Compiler: gcc gcc (Ubuntu 13.3.0-6ubuntu2~24.04) 13.3.0 Alpine Linux 3.22.0 Kernel: 5.15 Compiler: gcc gcc (Alpine 14.2.0) 14.2.0 Windows Server 2022 Kernel: 10.0.20348.2031 Compiler: clang 15.0.7, gcc 14.1.0 (MinGW), and MSVC VS 19.39.33521 To view detailed results, visit: https://lab.dpdk.org/results/dashboard/patchsets/34545/ UNH-IOL DPDK Community Lab To manage your email subscriptions, visit: https://lab.dpdk.org/results/dashboard/preferences/subscriptions/