From mboxrd@z Thu Jan 1 00:00:00 1970 Return-Path: Received: from mails.dpdk.org (mails.dpdk.org [217.70.189.124]) by inbox.dpdk.org (Postfix) with ESMTP id AAC9748B0A for ; Fri, 14 Nov 2025 15:14:49 +0100 (CET) Received: from mails.dpdk.org (localhost [127.0.0.1]) by mails.dpdk.org (Postfix) with ESMTP id 85A5140151; Fri, 14 Nov 2025 15:14:49 +0100 (CET) Received: from mail-pl1-f228.google.com (mail-pl1-f228.google.com [209.85.214.228]) by mails.dpdk.org (Postfix) with ESMTP id 6BE5A40151 for ; Fri, 14 Nov 2025 15:14:48 +0100 (CET) Received: by mail-pl1-f228.google.com with SMTP id d9443c01a7336-2957850c63bso21449725ad.0 for ; Fri, 14 Nov 2025 06:14:48 -0800 (PST) DKIM-Signature: v=1; a=rsa-sha256; c=relaxed/relaxed; d=iol.unh.edu; s=unh-iol; t=1763129687; x=1763734487; darn=dpdk.org; h=references:in-reply-to:cc:to:from:subject:message-id:date:from:to :cc:subject:date:message-id:reply-to; bh=B3o1qrt/PAaHIQ9Et6gQqspFiUotw4TTlwCwg9S4yXc=; b=EDzdFrwna5vwgUGDJwDciemgjGy0DlRpqTW2iRh1OxxgcFYs6E+xSCAbN/V0+GxwE/ sPXX8cCxupdzqaLBsK+FeApAyPocrR/St9vcUwNhLqbViO16OG3PWNos8HmWeysn0fST 4fZ087VsnwXKLY74LKYA9s7egT8IkMTX09ZlE= X-Google-DKIM-Signature: v=1; a=rsa-sha256; c=relaxed/relaxed; d=1e100.net; s=20230601; t=1763129687; x=1763734487; h=references:in-reply-to:cc:to:from:subject:message-id:date:x-gm-gg :x-gm-message-state:from:to:cc:subject:date:message-id:reply-to; bh=B3o1qrt/PAaHIQ9Et6gQqspFiUotw4TTlwCwg9S4yXc=; b=Ts3K4wrtUJsIUM3c88rzZ/SxqfS0dxM2k8viAlh40mO6YxMalQsfthLBwPq72PnNrA mJe0UvbuxlYQfuZrRKUNXuibyeiSO72I+kOQ0vzCRkLBIfFCQeT8TBHRXnyT4nvZH0tB Q7AsLA9EQ6pwWPX5FLHS0xeRvcZ1Kpmk8HtLhR2fJuplrGJi17ntKLsZO9kkfpEFteLK aG1BlU1/2T9Yfl/gUI2+3tjorR8L8fqDDiI1/7fbKrp8uOeulgXfI4ydvs/QhYHDRLsZ MfMdc24d0BX95vPeThdE57oMU3afdZL8FNvxZNbCALmZhw5A/IBH732N3K3VoplET5f+ CzJw== X-Gm-Message-State: AOJu0YwdYBcFzlb4puzDd3QMLoHXkOvQgRYDeN1HDXJVw0S18qIxVRCN bnRu4FLibiyK+hRtaYi2PzsVLrc9MaesCykANaujzcmz5vKosvnl6KUjrKI5rtcw+ukO+R55rpC HX3IHwv0pccEDVGduartkjcFEYCbIlj9lpyNgKJ2GspBUOC4tm+uw8JnRArIy X-Gm-Gg: ASbGncvj26Q4Gp62JNhAE/o8e4mrZXnsyMVk+jvF5JchNHr3GJdIVj/51GAXy0hpr6n dA9RwHMJMpMz3z1aPh9JycFJD0y0qMgjqKFCwV188yDUBYJyhwRPL9TA/zXE6zj0UJzJBK/XZRg feGlZc0VIKjHTUCWPEuSXXYVqDvArKGfENC896n6xfbSt5dVOnH4w2DcyorxxPAo9e60D7OSded TWwxmqWsymEW6Hx0ycaf+dOE2Mw5yyAcjyO8UeqW2vXHwmbrhfbNPQr+7xFGo/MwuKjiqnlS2Qa TIADliZ5dl+uf1BNAueSqGQAHDWTQ+Qc9R4PXLRdUrKRVWfSlWufHF94kCJoArjMv3cP1SVDuca Zng8398yz X-Google-Smtp-Source: AGHT+IGh6A2f2RgLZfRcn6u+pzTIQurdjKL1t45fbXqrRLRiY+bE6J4cKvXUAKgwH1H2t10Wa8chqqIYQAjt X-Received: by 2002:a17:903:178e:b0:294:fc13:7e8c with SMTP id d9443c01a7336-29867f0e585mr40402485ad.13.1763129687462; Fri, 14 Nov 2025 06:14:47 -0800 (PST) Received: from postal.iol.unh.edu (postal.iol.unh.edu. [2606:4100:3880:1234::84]) by smtp-relay.gmail.com with ESMTPS id d9443c01a7336-2985c245e1esm5808295ad.23.2025.11.14.06.14.47 (version=TLS1_2 cipher=ECDHE-ECDSA-AES128-GCM-SHA256 bits=128/128); Fri, 14 Nov 2025 06:14:47 -0800 (PST) X-Relaying-Domain: iol.unh.edu Date: Fri, 14 Nov 2025 06:14:47 -0800 (PST) Message-ID: <69173957.170a0220.1be898.c081SMTPIN_ADDED_MISSING@mx.google.com> Received: from [172.21.0.2] (unknown [172.18.0.240]) by postal.iol.unh.edu (Postfix) with ESMTP id AA25460003E7; Fri, 14 Nov 2025 09:14:46 -0500 (EST) Subject: |SUCCESS| pw158755 [PATCH] [v1] net/axgbe: fix the build warninig fo From: dpdklab@iol.unh.edu To: Test Report Cc: dpdk-test-reports@iol.unh.edu, Stephen Hemminger In-Reply-To: <20251113113055.371-1-VenkatKumar.Ande@amd.com> References: <20251113113055.371-1-VenkatKumar.Ande@amd.com> Content-Type: text/plain X-BeenThere: test-report@dpdk.org X-Mailman-Version: 2.1.29 Precedence: list List-Id: automatic DPDK test reports List-Unsubscribe: , List-Archive: List-Post: List-Help: List-Subscribe: , Errors-To: test-report-bounces@dpdk.org Test-Label: iol-unit-amd64-testing Test-Status: SUCCESS http://dpdk.org/patch/158755 _Testing PASS_ Submitter: Venkat Kumar Ande Date: Thursday, November 13 2025 11:30:55 DPDK git baseline: Repo:dpdk-next-net Branch: master CommitID:29807269854f9bfc72f1323273de8e23adc724d4 158755 --> testing pass Upstream job id: Generic-VM-Unit-Test-DPDK#32537 Test environment and result as below: +-------------------------------+----------------+ | Environment | dpdk_unit_test | +===============================+================+ | CentOS Stream 9 | PASS | +-------------------------------+----------------+ | Debian GNU/Linux 12 | PASS | +-------------------------------+----------------+ | CentOS Stream 10 | PASS | +-------------------------------+----------------+ | Fedora Linux 40 | PASS | +-------------------------------+----------------+ | Fedora Linux 41 | PASS | +-------------------------------+----------------+ | Red Hat Enterprise Linux 8.10 | PASS | +-------------------------------+----------------+ | Red Hat Enterprise Linux 9.5 | PASS | +-------------------------------+----------------+ | Fedora Linux 42 | PASS | +-------------------------------+----------------+ | Ubuntu 20.04 | PASS | +-------------------------------+----------------+ | Ubuntu 22.04 | PASS | +-------------------------------+----------------+ | Ubuntu 24.04 | PASS | +-------------------------------+----------------+ | Windows Server 2022 | PASS | +-------------------------------+----------------+ CentOS Stream 9 Kernel: 5.15 Compiler: gcc gcc (GCC) 11.5.0 20240719 (Red Hat 11.5.0-11) Debian GNU/Linux 12 Kernel: 5.15 Compiler: gcc gcc (Debian 12.2.0-14+deb12u1) 12.2.0 CentOS Stream 10 Kernel: 5.15 Compiler: gcc gcc (GCC) 14.2.1 20250110 (Red Hat 14.2.1-8) Fedora Linux 40 Kernel: 5.15 Compiler: gcc gcc (GCC) 14.2.1 20240912 (Red Hat 14.2.1-3) Fedora Linux 41 Kernel: 5.15 Compiler: gcc gcc (GCC) 14.3.1 20250523 (Red Hat 14.3.1-1) Red Hat Enterprise Linux 8.10 Kernel: 5.15 Compiler: gcc gcc (GCC) 8.5.0 20210514 (Red Hat 8.5.0-22) Red Hat Enterprise Linux 9.5 Kernel: 5.15 Compiler: gcc gcc (GCC) 11.5.0 20240719 (Red Hat 11.5.0-2) Fedora Linux 42 Kernel: 5.15 Compiler: gcc gcc (GCC) 15.2.1 20250808 (Red Hat 15.2.1-1) Ubuntu 20.04 Kernel: 5.15 Compiler: gcc gcc (Ubuntu 9.4.0-1ubuntu1~20.04.2) 9.4.0 Ubuntu 22.04 Kernel: 5.15 Compiler: gcc gcc (Ubuntu 11.4.0-1ubuntu1~22.04) 11.4.0 Ubuntu 24.04 Kernel: 5.15 Compiler: gcc gcc (Ubuntu 13.3.0-6ubuntu2~24.04) 13.3.0 Windows Server 2022 Kernel: 10.0.20348.2031 Compiler: clang 15.0.7, gcc 14.1.0 (MinGW), and MSVC VS 19.39.33521 To view detailed results, visit: https://lab.dpdk.org/results/dashboard/patchsets/34572/ UNH-IOL DPDK Community Lab To manage your email subscriptions, visit: https://lab.dpdk.org/results/dashboard/preferences/subscriptions/