From mboxrd@z Thu Jan 1 00:00:00 1970 Return-Path: Received: from mails.dpdk.org (mails.dpdk.org [217.70.189.124]) by inbox.dpdk.org (Postfix) with ESMTP id 4525048B0A for ; Fri, 14 Nov 2025 15:22:03 +0100 (CET) Received: from mails.dpdk.org (localhost [127.0.0.1]) by mails.dpdk.org (Postfix) with ESMTP id 2330040151; Fri, 14 Nov 2025 15:22:03 +0100 (CET) Received: from mail-pj1-f100.google.com (mail-pj1-f100.google.com [209.85.216.100]) by mails.dpdk.org (Postfix) with ESMTP id 97A5840151 for ; Fri, 14 Nov 2025 15:22:01 +0100 (CET) Received: by mail-pj1-f100.google.com with SMTP id 98e67ed59e1d1-3418ac74bffso1516970a91.1 for ; Fri, 14 Nov 2025 06:22:01 -0800 (PST) DKIM-Signature: v=1; a=rsa-sha256; c=relaxed/relaxed; d=iol.unh.edu; s=unh-iol; t=1763130120; x=1763734920; darn=dpdk.org; h=references:in-reply-to:cc:to:from:subject:message-id:date:from:to :cc:subject:date:message-id:reply-to; bh=48rAJShc6L4Ux73WmEYUTAU8nQyd2N1bO29Yv7FwYvg=; b=Aygft803nKNj2tA7QPl2uVavinQxQBY6FTBb/iPlcZOF6zxu+pW/o2QOJ+/gLB/9jb l/8/o6258ndOO7p+bb+CMfg2Rzl7okwJElVhwG5zsSYkr4SACDuAPSdI2Gky87VzAioi IL6z7U30aGL5B60JsvhQ8OAgngM5iK0MmIfLM= X-Google-DKIM-Signature: v=1; a=rsa-sha256; c=relaxed/relaxed; d=1e100.net; s=20230601; t=1763130120; x=1763734920; h=references:in-reply-to:cc:to:from:subject:message-id:date:x-gm-gg :x-gm-message-state:from:to:cc:subject:date:message-id:reply-to; bh=48rAJShc6L4Ux73WmEYUTAU8nQyd2N1bO29Yv7FwYvg=; b=ZGbcySJKNLMmzsZl6DJeml3o2amYQiRCk4UdpmQmCEU7DY6SajT/kT+JF4+jLWfPnd +ZxzjydsuYt4eTxLFads/mDS+hDr6QnOFzBnpulGiCQ6wkX6Or+Co2hX+SB8F/EQbtdU 9jzb3GpcMSIkT1TmA1z4aBvmtWQYYn1TTvDeqHpaVsIDeOToX0IcOYN6MuTfnQ1NrrVU gLyTHueymt/8ZuU7lbFpflW45NrGo669iYU9x/4Ef5+2uU17t1dV1boDKutMeZQICZLa IWoslZQri5lIr726K2q6+VjBJXxgGONWcwgVFQTl/WDGIdOqP4Sbmum57zqiS0TcyGqE 3/rA== X-Gm-Message-State: AOJu0Yyk25UcLhyrBwiiyIPZeX9O3tWt3Nj2BbUGOSzvWL2ATD1oFTss yN4ejrTYXYBE0u77offEzKeur2T8OGXEJb9J94KHTMrg9OEN0Hg21gAi1zq9lNviLS4oCFW3APV 8ndER9ZG2UiIn6rHvbnNhHZCSD18oAxbP5xNUIN2TbMOEtAZdAlhjwMF5EZmg X-Gm-Gg: ASbGncv9JKPoQMZWevpVODcOyX96TghwtdLjsRz96AoddGJR3Fe5ksBWNInXpAx0O6Z 44h43kPMYetTMbGP3M0vllTrdumfDszlzFST7NnvL474XBizmneg4MF2DJOCgePWDiRgZQOFNkN tXxR6ddjZXP+PMExEPep5Q9Wjx9MrgmdtbTzQ1eoaTmqt+uwysPmloc8UAaYgzpVwYhqIaxeQOs 9Z4hW7g/okmSPztrH4430jRzLlCoee3fC0q00VWJTVvwxK/YHid+nT0VgjydFwlJGek6RX+I7gY MS4OqLlOe0r0PgJRk/0rzSOftA4D4SCdC/LHUKjwE7sU1fo5D5KGtWAXJ8a9q5bUmw3Lbo8S9wK hLywDKNrh X-Google-Smtp-Source: AGHT+IHIGQ9XSRWe3PmDW2Gyct4/ol8ESQWYplqnVPnVaPgorRomFPcB9cTAIQiWTN6uMmmrBpDDku0uw50k X-Received: by 2002:a17:90b:1d0a:b0:32e:3552:8c79 with SMTP id 98e67ed59e1d1-343fa73faebmr3987616a91.29.1763130120350; Fri, 14 Nov 2025 06:22:00 -0800 (PST) Received: from postal.iol.unh.edu (postal.iol.unh.edu. [2606:4100:3880:1234::84]) by smtp-relay.gmail.com with ESMTPS id 98e67ed59e1d1-343ed5724d6sm560527a91.6.2025.11.14.06.22.00 (version=TLS1_2 cipher=ECDHE-ECDSA-AES128-GCM-SHA256 bits=128/128); Fri, 14 Nov 2025 06:22:00 -0800 (PST) X-Relaying-Domain: iol.unh.edu Date: Fri, 14 Nov 2025 06:22:00 -0800 (PST) Message-ID: <69173b08.170a0220.32756.ba86SMTPIN_ADDED_MISSING@mx.google.com> Received: from [172.21.0.2] (unknown [172.18.0.240]) by postal.iol.unh.edu (Postfix) with ESMTP id 771596051830; Fri, 14 Nov 2025 09:21:59 -0500 (EST) Subject: |SUCCESS| pw158755 [PATCH] [v1] net/axgbe: fix the build warninig fo From: dpdklab@iol.unh.edu To: Test Report Cc: dpdk-test-reports@iol.unh.edu, Stephen Hemminger In-Reply-To: <20251113113055.371-1-VenkatKumar.Ande@amd.com> References: <20251113113055.371-1-VenkatKumar.Ande@amd.com> Content-Type: text/plain X-BeenThere: test-report@dpdk.org X-Mailman-Version: 2.1.29 Precedence: list List-Id: automatic DPDK test reports List-Unsubscribe: , List-Archive: List-Post: List-Help: List-Subscribe: , Errors-To: test-report-bounces@dpdk.org Test-Label: iol-unit-amd64-testing Test-Status: SUCCESS http://dpdk.org/patch/158755 _Testing PASS_ Submitter: Venkat Kumar Ande Date: Thursday, November 13 2025 11:30:55 DPDK git baseline: Repo:dpdk-next-net Branch: master CommitID:29807269854f9bfc72f1323273de8e23adc724d4 158755 --> testing pass Upstream job id: Generic-VM-Unit-Test-DPDK#32538 Test environment and result as below: +-------------------------------+----------------+ | Environment | dpdk_unit_test | +===============================+================+ | CentOS Stream 9 | PASS | +-------------------------------+----------------+ | Debian GNU/Linux 12 | PASS | +-------------------------------+----------------+ | CentOS Stream 10 | PASS | +-------------------------------+----------------+ | Fedora Linux 40 | PASS | +-------------------------------+----------------+ | Fedora Linux 41 | PASS | +-------------------------------+----------------+ | Red Hat Enterprise Linux 8.10 | PASS | +-------------------------------+----------------+ | Red Hat Enterprise Linux 9.5 | PASS | +-------------------------------+----------------+ | Fedora Linux 42 | PASS | +-------------------------------+----------------+ | Ubuntu 20.04 | PASS | +-------------------------------+----------------+ | Ubuntu 22.04 | PASS | +-------------------------------+----------------+ | Ubuntu 24.04 | PASS | +-------------------------------+----------------+ | Windows Server 2022 | PASS | +-------------------------------+----------------+ CentOS Stream 9 Kernel: 5.15 Compiler: gcc gcc (GCC) 11.5.0 20240719 (Red Hat 11.5.0-11) Debian GNU/Linux 12 Kernel: 5.15 Compiler: gcc gcc (Debian 12.2.0-14+deb12u1) 12.2.0 CentOS Stream 10 Kernel: 5.15 Compiler: gcc gcc (GCC) 14.2.1 20250110 (Red Hat 14.2.1-8) Fedora Linux 40 Kernel: 5.15 Compiler: gcc gcc (GCC) 14.2.1 20240912 (Red Hat 14.2.1-3) Fedora Linux 41 Kernel: 5.15 Compiler: gcc gcc (GCC) 14.3.1 20250523 (Red Hat 14.3.1-1) Red Hat Enterprise Linux 8.10 Kernel: 5.15 Compiler: gcc gcc (GCC) 8.5.0 20210514 (Red Hat 8.5.0-22) Red Hat Enterprise Linux 9.5 Kernel: 5.15 Compiler: gcc gcc (GCC) 11.5.0 20240719 (Red Hat 11.5.0-2) Fedora Linux 42 Kernel: 5.15 Compiler: gcc gcc (GCC) 15.2.1 20250808 (Red Hat 15.2.1-1) Ubuntu 20.04 Kernel: 5.15 Compiler: gcc gcc (Ubuntu 9.4.0-1ubuntu1~20.04.2) 9.4.0 Ubuntu 22.04 Kernel: 5.15 Compiler: gcc gcc (Ubuntu 11.4.0-1ubuntu1~22.04) 11.4.0 Ubuntu 24.04 Kernel: 5.15 Compiler: gcc gcc (Ubuntu 13.3.0-6ubuntu2~24.04) 13.3.0 Windows Server 2022 Kernel: 10.0.20348.2031 Compiler: clang 15.0.7, gcc 14.1.0 (MinGW), and MSVC VS 19.39.33521 To view detailed results, visit: https://lab.dpdk.org/results/dashboard/patchsets/34572/ UNH-IOL DPDK Community Lab To manage your email subscriptions, visit: https://lab.dpdk.org/results/dashboard/preferences/subscriptions/