From mboxrd@z Thu Jan 1 00:00:00 1970 Return-Path: Received: from mails.dpdk.org (mails.dpdk.org [217.70.189.124]) by inbox.dpdk.org (Postfix) with ESMTP id E321948B0A for ; Fri, 14 Nov 2025 15:42:52 +0100 (CET) Received: from mails.dpdk.org (localhost [127.0.0.1]) by mails.dpdk.org (Postfix) with ESMTP id C607140151; Fri, 14 Nov 2025 15:42:52 +0100 (CET) Received: from mail-io1-f99.google.com (mail-io1-f99.google.com [209.85.166.99]) by mails.dpdk.org (Postfix) with ESMTP id 261C940151 for ; Fri, 14 Nov 2025 15:42:51 +0100 (CET) Received: by mail-io1-f99.google.com with SMTP id ca18e2360f4ac-9486248f01bso72523139f.0 for ; Fri, 14 Nov 2025 06:42:51 -0800 (PST) DKIM-Signature: v=1; a=rsa-sha256; c=relaxed/relaxed; d=iol.unh.edu; s=unh-iol; t=1763131370; x=1763736170; darn=dpdk.org; h=references:in-reply-to:cc:to:from:subject:message-id:date:from:to :cc:subject:date:message-id:reply-to; bh=WvMaOL2QoMC6IXApPD51jHnrHjxTlH8xRJIe4DsDXxk=; b=Zup9xq4jLL0fR6aeosDGOFJhl+BdYNC7zTEGEhimdxZ51qaHoGP7WNhowyWk7km3lH S4uZ5jUt7SHJThB3ujGKqcSlcMRtku/9ExZ9t/X+hK1WJy5F+UoHsafGN6WiRs8rLoGF GvwdmyxVfJObOr7X30ktJLdTjMr8G4FbYqNS0= X-Google-DKIM-Signature: v=1; a=rsa-sha256; c=relaxed/relaxed; d=1e100.net; s=20230601; t=1763131370; x=1763736170; h=references:in-reply-to:cc:to:from:subject:message-id:date:x-gm-gg :x-gm-message-state:from:to:cc:subject:date:message-id:reply-to; bh=WvMaOL2QoMC6IXApPD51jHnrHjxTlH8xRJIe4DsDXxk=; b=W1n+/t4JkhZhReleDhpIIh1Y3222mlB1jGOB8ZjA1P0kv2r/wYAfTysEhEG78g54dc kfQDyWnkKGSyfPcjzywmxB3x7OeJcvwiW5EXyaiTnUOxz4c3gTCDmtuRfnw8kY2zNYG7 4oftha9J3Pu72BgFiFVMkl9fvDi8P/phR7jRVimrC+EdoniN59P34qFYhXorMUrp5Wr/ LKgIkRvMm44zut5QvJtqvq7hU2guQJlfKYUW5ThKImgiAFcuLtWnEJBzLIwYoLjSwgA6 +xcciQ+47T+SLrestPpul3nsluVCvRrgloHKlbWzb6gAz60HY57Vyh6roFdaJMbfDGIA n1Lg== X-Gm-Message-State: AOJu0YybZ7ooUAPBFLKlMWyztXE3Jq+xE3ahsOc3rMX9YKkRzs5emsY4 SMxlykMjUj+czZBorbqIMUo3x3hyphV/8EH64gRm7uRo5J7vt/FYEz6nvLsnSLnasqOQA5+zYZw 1vx1CXTn0aAWMyYp2/OfgGp1NTpy0Jj87c23jHHqxfAVM X-Gm-Gg: ASbGncvEtiAeJ3vwkoqK212W6uLOTokWwnvHuex0ijwEdk3eIu9AZK6Ofh9u3coQfB7 gF8jmeeBf+aP34OQ2hxLykfFXCY1foqKoiDGpN6tViUbqEvICApi+BMvXWJS5fjH69a4QGV7EWu 1w+w30v4OUe+aOPfeBqBEHcEpS7wTSS/WewDxM7pJ7b0mmUMsEu2mrfNz8njAY56hqNSgK4I8B/ F4Z90xbU4RhZx2vt4thv20C2ENru2kgNFerbKPH83yHBvg6bjQ9Y6q8+0WVn9sN1uKxv9pXjAKW +q196Ql99n85WtX52/AyW/ZT62Rupbl7YVXjFd6/DlAxoMIIN6YWzCVHkgPGFwuuvR9tcnJ1mn8 5jFjW/NNTfORD8mmWCzgljKbcjVe9oME= X-Google-Smtp-Source: AGHT+IFREp4ocFiyAubuYLn7kerfNdulX/hJnkj2J18A7rXcBChAv3MiR9+nAoHV0W0jW6IvyhwavMbdc8h+ X-Received: by 2002:a05:6602:6d07:b0:940:dca2:30e3 with SMTP id ca18e2360f4ac-948e0dc09camr489550639f.19.1763131370418; Fri, 14 Nov 2025 06:42:50 -0800 (PST) Received: from postal.iol.unh.edu (postal.iol.unh.edu. [132.177.123.84]) by smtp-relay.gmail.com with ESMTPS id ca18e2360f4ac-948d2b63ff7sm23101539f.3.2025.11.14.06.42.50 (version=TLS1_2 cipher=ECDHE-ECDSA-AES128-GCM-SHA256 bits=128/128); Fri, 14 Nov 2025 06:42:50 -0800 (PST) X-Relaying-Domain: iol.unh.edu Date: Fri, 14 Nov 2025 06:42:50 -0800 (PST) Message-ID: <69173fea.050a0220.209e41.b7b1SMTPIN_ADDED_MISSING@mx.google.com> Received: from [172.21.0.2] (unknown [172.18.0.240]) by postal.iol.unh.edu (Postfix) with ESMTP id 0D1116051830; Fri, 14 Nov 2025 09:42:50 -0500 (EST) Subject: |SUCCESS| pw158773-158774 [PATCH] [v4,2/2] dts: add QinQ test suite From: dpdklab@iol.unh.edu To: Test Report Cc: dpdk-test-reports@iol.unh.edu In-Reply-To: <20251113190309.310821-2-dmarx@iol.unh.edu> References: <20251113190309.310821-2-dmarx@iol.unh.edu> Content-Type: text/plain X-BeenThere: test-report@dpdk.org X-Mailman-Version: 2.1.29 Precedence: list List-Id: automatic DPDK test reports List-Unsubscribe: , List-Archive: List-Post: List-Help: List-Subscribe: , Errors-To: test-report-bounces@dpdk.org Test-Label: iol-compile-amd64-testing Test-Status: SUCCESS http://dpdk.org/patch/158774 _Testing PASS_ Submitter: Dean Marx Date: Thursday, November 13 2025 19:03:09 DPDK git baseline: Repo:dpdk-next-dts Branch: master CommitID:8dcc93a520b22330e0ad59d360a4594b854f9ddd 158773-158774 --> testing pass Upstream job id: Windows-Compile-DPDK-VS#7544 Test environment and result as below: +-------------------------------+--------------------+------------------+-------------------+ | Environment | dpdk_meson_compile | dpdk_compile_ovs | dpdk_msvc_compile | +===============================+====================+==================+===================+ | Ubuntu 20.04 | PASS | SKIPPED | SKIPPED | +-------------------------------+--------------------+------------------+-------------------+ | FreeBSD 14.2 | PASS | SKIPPED | SKIPPED | +-------------------------------+--------------------+------------------+-------------------+ | CentOS Stream 9 | PASS | SKIPPED | SKIPPED | +-------------------------------+--------------------+------------------+-------------------+ | CentOS Stream 10 | PASS | SKIPPED | SKIPPED | +-------------------------------+--------------------+------------------+-------------------+ | Debian GNU/Linux 12 | PASS | SKIPPED | SKIPPED | +-------------------------------+--------------------+------------------+-------------------+ | Fedora Linux 42 | PASS | PASS | SKIPPED | +-------------------------------+--------------------+------------------+-------------------+ | openSUSE Leap 15.6 | PASS | SKIPPED | SKIPPED | +-------------------------------+--------------------+------------------+-------------------+ | Red Hat Enterprise Linux 8.10 | PASS | SKIPPED | SKIPPED | +-------------------------------+--------------------+------------------+-------------------+ | Red Hat Enterprise Linux 9.5 | PASS | SKIPPED | SKIPPED | +-------------------------------+--------------------+------------------+-------------------+ | Ubuntu 22.04 | PASS | SKIPPED | SKIPPED | +-------------------------------+--------------------+------------------+-------------------+ | Ubuntu 24.04 | PASS | PASS | SKIPPED | +-------------------------------+--------------------+------------------+-------------------+ | Alpine Linux 3.22.0 | PASS | SKIPPED | SKIPPED | +-------------------------------+--------------------+------------------+-------------------+ | Windows Server 2022 | SKIPPED | SKIPPED | PASS | +-------------------------------+--------------------+------------------+-------------------+ Ubuntu 20.04 Kernel: 4.19 Compiler: gcc gcc (Ubuntu 9.4.0-1ubuntu1~20.04.2) 9.4.0 FreeBSD 14.2 Kernel: 14.2-RELEASE Compiler: clang 18.1.6 CentOS Stream 9 Kernel: 5.15 Compiler: gcc gcc (GCC) 11.5.0 20240719 (Red Hat 11.5.0-11) CentOS Stream 10 Kernel: 5.15 Compiler: gcc gcc (GCC) 14.2.1 20250110 (Red Hat 14.2.1-8) Debian GNU/Linux 12 Kernel: 5.15 Compiler: gcc gcc (Debian 12.2.0-14+deb12u1) 12.2.0 Fedora Linux 42 Kernel: 5.15 Compiler: clang gcc (GCC) 15.2.1 20250808 (Red Hat 15.2.1-1) openSUSE Leap 15.6 Kernel: 5.15 Compiler: gcc gcc (SUSE Linux) 7.5.0 Red Hat Enterprise Linux 8.10 Kernel: 5.15 Compiler: gcc gcc (GCC) 8.5.0 20210514 (Red Hat 8.5.0-22) Red Hat Enterprise Linux 9.5 Kernel: 5.15 Compiler: gcc gcc (GCC) 11.5.0 20240719 (Red Hat 11.5.0-2) Ubuntu 22.04 Kernel: 5.15 Compiler: gcc gcc (Ubuntu 11.4.0-1ubuntu1~22.04) 11.4.0 Ubuntu 24.04 Kernel: 5.15 Compiler: gcc gcc (Ubuntu 13.3.0-6ubuntu2~24.04) 13.3.0 Alpine Linux 3.22.0 Kernel: 5.15 Compiler: gcc gcc (Alpine 14.2.0) 14.2.0 Windows Server 2022 Kernel: 10.0.20348.2031 Compiler: clang 15.0.7, gcc 14.1.0 (MinGW), and MSVC VS 19.39.33521 To view detailed results, visit: https://lab.dpdk.org/results/dashboard/patchsets/34581/ UNH-IOL DPDK Community Lab To manage your email subscriptions, visit: https://lab.dpdk.org/results/dashboard/preferences/subscriptions/