From mboxrd@z Thu Jan 1 00:00:00 1970 Return-Path: Received: from mails.dpdk.org (mails.dpdk.org [217.70.189.124]) by inbox.dpdk.org (Postfix) with ESMTP id 65B2548B0A for ; Fri, 14 Nov 2025 15:48:04 +0100 (CET) Received: from mails.dpdk.org (localhost [127.0.0.1]) by mails.dpdk.org (Postfix) with ESMTP id 426E340151; Fri, 14 Nov 2025 15:48:04 +0100 (CET) Received: from mail-pl1-f228.google.com (mail-pl1-f228.google.com [209.85.214.228]) by mails.dpdk.org (Postfix) with ESMTP id 3552940151 for ; Fri, 14 Nov 2025 15:48:02 +0100 (CET) Received: by mail-pl1-f228.google.com with SMTP id d9443c01a7336-2953ad5517dso24365465ad.0 for ; Fri, 14 Nov 2025 06:48:02 -0800 (PST) DKIM-Signature: v=1; a=rsa-sha256; c=relaxed/relaxed; d=iol.unh.edu; s=unh-iol; t=1763131681; x=1763736481; darn=dpdk.org; h=references:in-reply-to:cc:to:from:subject:message-id:date:from:to :cc:subject:date:message-id:reply-to; bh=EQhAx8nw3LFq4yK1z0eIdEMCXj1uQQ9enGOL3E5o0RM=; b=HD+Ir+EDg2CnOtolSAJ2Vhm+FmYLt0CsqwTGIloJcy4R5MfcTSRfY7614ElfSma0Lj bvL4N9IhHhDVSGqPpPIUcJ7FvdKVKoUDMSizi6kgYpfvPqybzGoR1flZjvKxkOqh0V05 RfVuJdgC3GDZjOb4f13PxSH5RnNq7kGZpXA+g= X-Google-DKIM-Signature: v=1; a=rsa-sha256; c=relaxed/relaxed; d=1e100.net; s=20230601; t=1763131681; x=1763736481; h=references:in-reply-to:cc:to:from:subject:message-id:date:x-gm-gg :x-gm-message-state:from:to:cc:subject:date:message-id:reply-to; bh=EQhAx8nw3LFq4yK1z0eIdEMCXj1uQQ9enGOL3E5o0RM=; b=ZXA90mZxyhs42Q1jju9+bAJKVulH8zyHr7FKtWx6DPCcjdxaMpwalBJSZvvddXN+0m LMpMw27np2NlRsYUXtbkPC6r6AVLkmSvSG8iDH+OetTHkelPuxHC2slUyvjbhIp3byI+ 2ZPNngsNu9KMq8BnTLivHJzRaT30GkI8ZHHa3Md2JigYxWZ6H3Dqmw7VGcjvtFtiPD/A WeGxCxzBkXwhY9xJEiY5cefx00uOunsUh30bj1QT5NT7J9+NWQ2CKoAW836cB5PVFDDP Yym2jKeJUNRV+WMELyeb0VgEaoXrpMZzt0ZeysG6SLrUdoytL14q3gKj7J7atDc5LNDk l4KQ== X-Gm-Message-State: AOJu0YyfyOerBuJz+vZKfMDjim6MnZKxoS7YWvpLI4okwrO+kTuUVpPK /Ulxpa6GoFCCQiwOodL/xtN2lEIWaznmrC7z22o5iT/VTSXjYqbRdB4AtNcVGApms4XaKbk0nFz 2f+B0XqcE65PGYfpLKOWFWPmJLc6WroNotXE3HH/zlLx3dCe6JCDc1wKpu0o7 X-Gm-Gg: ASbGncvqNkxKxrvFw6KSO215wos0UiblJqDAifnwSwogaxH1LSKCIU5XDej5iM+pTrq Wv0xNVOX080MMCZA24auXbuTqZjbe171PhCyxphfeQeBjdEt4hE3I1i1vnMaaxlKHRxi2WYjthA YJ+mHFA2KFt9lK6asVW2bufsgVZxJYZXuidjMTwQoQGRCf9wqAxZ2v9OxnbebYEW9KmusEqvtDs DUOeoze74HjUCdX6nrV6uqOyYbUQwIlS8Scs/FDtsFdw50pN4g5xyPxgOHKIG3CdFVk1iMXKeJI ekVU4DG3etijcH+hfnp3+OoydQqW83oJ6befwtSRS30GcaH+FrLZFDN4AQrzK110oA6imilu04t rphX/QPzc X-Google-Smtp-Source: AGHT+IH8JioA9Up/N5Vdt87QCt7pjCFplea7IVrZTPE1CZOnTtaqbVGiFXhTzOKhjlnqwsKdglH4DTTmhi8X X-Received: by 2002:a17:903:a90:b0:269:b2e5:ee48 with SMTP id d9443c01a7336-2986a768760mr31773765ad.52.1763131681253; Fri, 14 Nov 2025 06:48:01 -0800 (PST) Received: from postal.iol.unh.edu (postal.iol.unh.edu. [2606:4100:3880:1234::84]) by smtp-relay.gmail.com with ESMTPS id d9443c01a7336-2985c2a8b2fsm5320385ad.30.2025.11.14.06.48.01 (version=TLS1_2 cipher=ECDHE-ECDSA-AES128-GCM-SHA256 bits=128/128); Fri, 14 Nov 2025 06:48:01 -0800 (PST) X-Relaying-Domain: iol.unh.edu Date: Fri, 14 Nov 2025 06:48:01 -0800 (PST) Message-ID: <69174121.170a0220.38d01a.99cdSMTPIN_ADDED_MISSING@mx.google.com> Received: from [172.21.0.2] (unknown [172.18.0.240]) by postal.iol.unh.edu (Postfix) with ESMTP id 741D160003E7; Fri, 14 Nov 2025 09:48:00 -0500 (EST) Subject: |SUCCESS| pw158696-158697 [PATCH] [v3,2/2] test/crypto: add QAT AES- From: dpdklab@iol.unh.edu To: Test Report Cc: dpdk-test-reports@iol.unh.edu, Akhil Goyal In-Reply-To: <20251112101911.2377840-2-emma.finn@intel.com> References: <20251112101911.2377840-2-emma.finn@intel.com> Content-Type: text/plain X-BeenThere: test-report@dpdk.org X-Mailman-Version: 2.1.29 Precedence: list List-Id: automatic DPDK test reports List-Unsubscribe: , List-Archive: List-Post: List-Help: List-Subscribe: , Errors-To: test-report-bounces@dpdk.org Test-Label: iol-compile-amd64-testing Test-Status: SUCCESS http://dpdk.org/patch/158697 _Testing PASS_ Submitter: Emma Finn Date: Wednesday, November 12 2025 10:19:11 DPDK git baseline: Repo:dpdk-next-crypto Branch: master CommitID:8ae4f1d511226fd65a979e9f8a1e51835281a59b 158696-158697 --> testing pass Upstream job id: Windows-Compile-DPDK-Native#32322 Test environment and result as below: +-------------------------------+--------------------+------------------+-------------------+-------------------------+ | Environment | dpdk_meson_compile | dpdk_compile_ovs | dpdk_msvc_compile | dpdk_llvm_clang_compile | +===============================+====================+==================+===================+=========================+ | FreeBSD 14.2 | PASS | SKIPPED | SKIPPED | SKIPPED | +-------------------------------+--------------------+------------------+-------------------+-------------------------+ | Ubuntu 20.04 | PASS | SKIPPED | SKIPPED | SKIPPED | +-------------------------------+--------------------+------------------+-------------------+-------------------------+ | CentOS Stream 9 | PASS | SKIPPED | SKIPPED | SKIPPED | +-------------------------------+--------------------+------------------+-------------------+-------------------------+ | CentOS Stream 10 | PASS | SKIPPED | SKIPPED | SKIPPED | +-------------------------------+--------------------+------------------+-------------------+-------------------------+ | Debian GNU/Linux 12 | PASS | SKIPPED | SKIPPED | SKIPPED | +-------------------------------+--------------------+------------------+-------------------+-------------------------+ | Fedora Linux 42 | PASS | PASS | SKIPPED | SKIPPED | +-------------------------------+--------------------+------------------+-------------------+-------------------------+ | openSUSE Leap 15.6 | PASS | SKIPPED | SKIPPED | SKIPPED | +-------------------------------+--------------------+------------------+-------------------+-------------------------+ | Red Hat Enterprise Linux 8.10 | PASS | SKIPPED | SKIPPED | SKIPPED | +-------------------------------+--------------------+------------------+-------------------+-------------------------+ | Red Hat Enterprise Linux 9.5 | PASS | SKIPPED | SKIPPED | SKIPPED | +-------------------------------+--------------------+------------------+-------------------+-------------------------+ | Ubuntu 22.04 | PASS | SKIPPED | SKIPPED | SKIPPED | +-------------------------------+--------------------+------------------+-------------------+-------------------------+ | Ubuntu 24.04 | PASS | PASS | SKIPPED | SKIPPED | +-------------------------------+--------------------+------------------+-------------------+-------------------------+ | Alpine Linux 3.22.0 | PASS | SKIPPED | SKIPPED | SKIPPED | +-------------------------------+--------------------+------------------+-------------------+-------------------------+ | Windows Server 2022 | SKIPPED | SKIPPED | PASS | PASS | +-------------------------------+--------------------+------------------+-------------------+-------------------------+ FreeBSD 14.2 Kernel: 14.2-RELEASE Compiler: clang 18.1.6 Ubuntu 20.04 Kernel: 4.19 Compiler: gcc gcc (Ubuntu 9.4.0-1ubuntu1~20.04.2) 9.4.0 CentOS Stream 9 Kernel: 5.15 Compiler: gcc gcc (GCC) 11.5.0 20240719 (Red Hat 11.5.0-11) CentOS Stream 10 Kernel: 5.15 Compiler: gcc gcc (GCC) 14.2.1 20250110 (Red Hat 14.2.1-8) Debian GNU/Linux 12 Kernel: 5.15 Compiler: gcc gcc (Debian 12.2.0-14+deb12u1) 12.2.0 Fedora Linux 42 Kernel: 5.15 Compiler: clang gcc (GCC) 15.2.1 20250808 (Red Hat 15.2.1-1) openSUSE Leap 15.6 Kernel: 5.15 Compiler: gcc gcc (SUSE Linux) 7.5.0 Red Hat Enterprise Linux 8.10 Kernel: 5.15 Compiler: gcc gcc (GCC) 8.5.0 20210514 (Red Hat 8.5.0-22) Red Hat Enterprise Linux 9.5 Kernel: 5.15 Compiler: gcc gcc (GCC) 11.5.0 20240719 (Red Hat 11.5.0-2) Ubuntu 22.04 Kernel: 5.15 Compiler: gcc gcc (Ubuntu 11.4.0-1ubuntu1~22.04) 11.4.0 Ubuntu 24.04 Kernel: 5.15 Compiler: gcc gcc (Ubuntu 13.3.0-6ubuntu2~24.04) 13.3.0 Alpine Linux 3.22.0 Kernel: 5.15 Compiler: gcc gcc (Alpine 14.2.0) 14.2.0 Windows Server 2022 Kernel: 10.0.20348.2031 Compiler: clang 15.0.7, gcc 14.1.0 (MinGW), and MSVC VS 19.39.33521 To view detailed results, visit: https://lab.dpdk.org/results/dashboard/patchsets/34546/ UNH-IOL DPDK Community Lab To manage your email subscriptions, visit: https://lab.dpdk.org/results/dashboard/preferences/subscriptions/