From mboxrd@z Thu Jan 1 00:00:00 1970 Return-Path: Received: from mails.dpdk.org (mails.dpdk.org [217.70.189.124]) by inbox.dpdk.org (Postfix) with ESMTP id 259D148B0A for ; Fri, 14 Nov 2025 15:56:16 +0100 (CET) Received: from mails.dpdk.org (localhost [127.0.0.1]) by mails.dpdk.org (Postfix) with ESMTP id 0207940151; Fri, 14 Nov 2025 15:56:16 +0100 (CET) Received: from mail-qv1-f97.google.com (mail-qv1-f97.google.com [209.85.219.97]) by mails.dpdk.org (Postfix) with ESMTP id 1311840151 for ; Fri, 14 Nov 2025 15:56:14 +0100 (CET) Received: by mail-qv1-f97.google.com with SMTP id 6a1803df08f44-88249766055so23091566d6.1 for ; Fri, 14 Nov 2025 06:56:14 -0800 (PST) DKIM-Signature: v=1; a=rsa-sha256; c=relaxed/relaxed; d=iol.unh.edu; s=unh-iol; t=1763132173; x=1763736973; darn=dpdk.org; h=references:in-reply-to:cc:to:from:subject:message-id:date:from:to :cc:subject:date:message-id:reply-to; bh=ezKHh0zs1ibua7M/8FMQqZvVgGyNmxnUlFd/Yw/B9ro=; b=UnA3sZWp6TIBktA2qVRMNts9/DD3F204cOEDe3CnFfkMXO+jLkiGMHErW0Vxik0+BP 3Fj5c7WZ9xcyPCq5Tj6DhMdGVYMsI81dT2qRFI5bGXLiSbzpISl7mV72r33NvP1yl1/v HEgam2hsf8+pXzrUJqXEmCOq1stUH4dYflx2o= X-Google-DKIM-Signature: v=1; a=rsa-sha256; c=relaxed/relaxed; d=1e100.net; s=20230601; t=1763132173; x=1763736973; h=references:in-reply-to:cc:to:from:subject:message-id:date:x-gm-gg :x-gm-message-state:from:to:cc:subject:date:message-id:reply-to; bh=ezKHh0zs1ibua7M/8FMQqZvVgGyNmxnUlFd/Yw/B9ro=; b=sRMroZoAY+1erJkYGt7IBDjzRgh5Jx2KtaZNDbcBd3ZJeUKVAkN8Lx91z1478M2mI/ OH/Z4L9yk3wW9HujZ7OhLgkveaoEDBBpQAccqagvDYwQh2f3RtC3KeXVs7EVCnAA/tB/ D+pXDKyrx+YE1rwwwWSX8vvAn0p9OAwmcXV0vJOkuJYQAetkFqfxeWYwxUV7kkH7LJN5 pReP9vNCAHW7J/R3BL9/PVyZ8NlLmgvjZDCTAlqDGBDTyBhdzfYRSKfVLy7i2htTLFbn 1nqatt/xVORMyUn5tv/A6yCL35pJUb1JBvxMlJyI9AHeL7OYFxyH8h7OSNplK8GEOdRp ya5w== X-Gm-Message-State: AOJu0YwEW3gQm9LITCIZdgyJVSZ+9IpZDqwkJ92AXQ56GJqP/nj4qzeX 1HylKdlp9cIorUb9jokuU+izrS3LD1F7NKqyZujK/3PHL+3vE/DUBFgq3az70VD3iqJlqMNTySj fHTO6fgDYCZt3Y+q2oDVW7i1QIWKxMcMGXRLNutwbW4x5mLCNtpVheBQnoE3D X-Gm-Gg: ASbGncsDduocY1fG5RF62xgQuMoL9pOKprE92wz9XRPJGR8/vpv8e2fz3r03fBYQzsr 5Kxq8YHdqFCSuSmRomwhMfEJi0+OjFjRtTqTJIHf4nlqYh1Q2vqL2h5JcQeQQ5gJI6VWjKHpebJ gwd7jb+vVTCXgqSHskQ8kuwkt43Xy8eu+pO9SLzkqtIJU8ahILw04hLOYesuboKl4QZskIRiSoG QRd42e2bGVr6Zf+JhxFE7rrvnRtWq9C+FgrFoZ7cD2UA8+G/fu03VDgNL6Ur6FxsqGVgkk4cFxh hNB+6hQDCda6iFBt6qZVWu2jyj3g+HL4o/swhlniCpz478GrAFEQzUT1UfQaNyZJz996Lw8HfZI hHo12uBWa X-Google-Smtp-Source: AGHT+IH5ebqgQyMMM51/fT++26QCMj3BuN6XpFyn3NGYuVbxetsZuKM+RAIAzRLOlwihSNpToZbz2Kvvnmab X-Received: by 2002:a05:6214:2023:b0:880:57ee:bb95 with SMTP id 6a1803df08f44-882926d25c3mr44159226d6.46.1763132173324; Fri, 14 Nov 2025 06:56:13 -0800 (PST) Received: from postal.iol.unh.edu (postal.iol.unh.edu. [2606:4100:3880:1234::84]) by smtp-relay.gmail.com with ESMTPS id 6a1803df08f44-88286139639sm5929626d6.0.2025.11.14.06.56.13 (version=TLS1_2 cipher=ECDHE-ECDSA-AES128-GCM-SHA256 bits=128/128); Fri, 14 Nov 2025 06:56:13 -0800 (PST) X-Relaying-Domain: iol.unh.edu Date: Fri, 14 Nov 2025 06:56:13 -0800 (PST) Message-ID: <6917430d.050a0220.391baa.c406SMTPIN_ADDED_MISSING@mx.google.com> Received: from [172.21.0.3] (unknown [172.18.0.240]) by postal.iol.unh.edu (Postfix) with ESMTP id 06C0B6051830; Fri, 14 Nov 2025 09:56:13 -0500 (EST) Subject: |SUCCESS| pw158756-158759 [PATCH] [v4,4/4] bus/fslmc: add support fo From: dpdklab@iol.unh.edu To: Test Report Cc: dpdk-test-reports@iol.unh.edu, Stephen Hemminger In-Reply-To: <20251113114355.2027438-4-hemant.agrawal@nxp.com> References: <20251113114355.2027438-4-hemant.agrawal@nxp.com> Content-Type: text/plain X-BeenThere: test-report@dpdk.org X-Mailman-Version: 2.1.29 Precedence: list List-Id: automatic DPDK test reports List-Unsubscribe: , List-Archive: List-Post: List-Help: List-Subscribe: , Errors-To: test-report-bounces@dpdk.org Test-Label: iol-unit-amd64-testing Test-Status: SUCCESS http://dpdk.org/patch/158759 _Testing PASS_ Submitter: Hemant Agrawal Date: Thursday, November 13 2025 11:43:55 DPDK git baseline: Repo:dpdk-next-net Branch: master CommitID:29807269854f9bfc72f1323273de8e23adc724d4 158756-158759 --> testing pass Upstream job id: Generic-VM-Unit-Test-DPDK#32539 Test environment and result as below: +-------------------------------+----------------+ | Environment | dpdk_unit_test | +===============================+================+ | CentOS Stream 10 | PASS | +-------------------------------+----------------+ | Debian GNU/Linux 12 | PASS | +-------------------------------+----------------+ | CentOS Stream 9 | PASS | +-------------------------------+----------------+ | Fedora Linux 40 | PASS | +-------------------------------+----------------+ | Fedora Linux 41 | PASS | +-------------------------------+----------------+ | Red Hat Enterprise Linux 8.10 | PASS | +-------------------------------+----------------+ | Fedora Linux 42 | PASS | +-------------------------------+----------------+ | Red Hat Enterprise Linux 9.5 | PASS | +-------------------------------+----------------+ | Ubuntu 22.04 | PASS | +-------------------------------+----------------+ | Ubuntu 20.04 | PASS | +-------------------------------+----------------+ | Ubuntu 24.04 | PASS | +-------------------------------+----------------+ | Windows Server 2022 | PASS | +-------------------------------+----------------+ CentOS Stream 10 Kernel: 5.15 Compiler: gcc gcc (GCC) 14.2.1 20250110 (Red Hat 14.2.1-8) Debian GNU/Linux 12 Kernel: 5.15 Compiler: gcc gcc (Debian 12.2.0-14+deb12u1) 12.2.0 CentOS Stream 9 Kernel: 5.15 Compiler: gcc gcc (GCC) 11.5.0 20240719 (Red Hat 11.5.0-11) Fedora Linux 40 Kernel: 5.15 Compiler: gcc gcc (GCC) 14.2.1 20240912 (Red Hat 14.2.1-3) Fedora Linux 41 Kernel: 5.15 Compiler: gcc gcc (GCC) 14.3.1 20250523 (Red Hat 14.3.1-1) Red Hat Enterprise Linux 8.10 Kernel: 5.15 Compiler: gcc gcc (GCC) 8.5.0 20210514 (Red Hat 8.5.0-22) Fedora Linux 42 Kernel: 5.15 Compiler: clang gcc (GCC) 15.2.1 20250808 (Red Hat 15.2.1-1) Red Hat Enterprise Linux 9.5 Kernel: 5.15 Compiler: gcc gcc (GCC) 11.5.0 20240719 (Red Hat 11.5.0-2) Ubuntu 22.04 Kernel: 5.15 Compiler: gcc gcc (Ubuntu 11.4.0-1ubuntu1~22.04) 11.4.0 Ubuntu 20.04 Kernel: 5.15 Compiler: gcc gcc (Ubuntu 9.4.0-1ubuntu1~20.04.2) 9.4.0 Ubuntu 24.04 Kernel: 5.15 Compiler: gcc gcc (Ubuntu 13.3.0-6ubuntu2~24.04) 13.3.0 Windows Server 2022 Kernel: 10.0.20348.2031 Compiler: clang 15.0.7, gcc 14.1.0 (MinGW), and MSVC VS 19.39.33521 To view detailed results, visit: https://lab.dpdk.org/results/dashboard/patchsets/34573/ UNH-IOL DPDK Community Lab To manage your email subscriptions, visit: https://lab.dpdk.org/results/dashboard/preferences/subscriptions/