From mboxrd@z Thu Jan 1 00:00:00 1970 Return-Path: Received: from mails.dpdk.org (mails.dpdk.org [217.70.189.124]) by inbox.dpdk.org (Postfix) with ESMTP id CE72A48B0B for ; Fri, 14 Nov 2025 16:04:13 +0100 (CET) Received: from mails.dpdk.org (localhost [127.0.0.1]) by mails.dpdk.org (Postfix) with ESMTP id A5F3940151; Fri, 14 Nov 2025 16:04:13 +0100 (CET) Received: from mail-qv1-f99.google.com (mail-qv1-f99.google.com [209.85.219.99]) by mails.dpdk.org (Postfix) with ESMTP id 14DD340151 for ; Fri, 14 Nov 2025 16:04:12 +0100 (CET) Received: by mail-qv1-f99.google.com with SMTP id 6a1803df08f44-8824ce9812cso21444416d6.0 for ; Fri, 14 Nov 2025 07:04:12 -0800 (PST) DKIM-Signature: v=1; a=rsa-sha256; c=relaxed/relaxed; d=iol.unh.edu; s=unh-iol; t=1763132651; x=1763737451; darn=dpdk.org; h=references:in-reply-to:cc:to:from:subject:message-id:date:from:to :cc:subject:date:message-id:reply-to; bh=KeBlRtJ8JBfOXmR0T4vOv8Jr+t3fBvkWaLdZKBsKJ20=; b=Uq/sWVXgKOh6EQPF1jprdau1s8a9GmglPvvz/qBru8uN5FVJD9DKO0DqW/+K9xjfjh faImQdjP6915k1DvqRnpDQjFunjnjYWvrSk4uDHlLkIehB3Zbbwo+QZ8Rqf1h9TD0tZ4 LdhU1a/KW1zpInDF86mxUd8IvTBUlJ27xqiX4= X-Google-DKIM-Signature: v=1; a=rsa-sha256; c=relaxed/relaxed; d=1e100.net; s=20230601; t=1763132651; x=1763737451; h=references:in-reply-to:cc:to:from:subject:message-id:date:x-gm-gg :x-gm-message-state:from:to:cc:subject:date:message-id:reply-to; bh=KeBlRtJ8JBfOXmR0T4vOv8Jr+t3fBvkWaLdZKBsKJ20=; b=SPmKbA9WsgkPpN7iYvGXx8OovxDkChVTrCEQ33OG9L3Xq3hFv+lNWgNNJndDo/AEu/ 6ZhUh9nzTMPVE2iu/+27AEUzJO4Y35RZoNQMaNhZyyqUZJMVttVlxWuXqEMBb6Yz8CZJ MqHQuum9RE6mzlajuon6CuxSCkprfLtsfEY4xqmzFUCvtmXuZzs+3zVGFPBec5J0rQGO 6+mzGvt8MbH/JXzlE5ll58P24M6H3hOlC0s/1g2sE+V8JR1zVZvkesSHeyJZc5wqVZIi rG84S/o7KoZrLFso1s5IVWpXZl9wBOr4Hke+H37G9hZc5ikcV71B/zOmrvSElYOpmhIm sGRA== X-Gm-Message-State: AOJu0YzRRGXuj0+mXrAGLfFtoc+ElERRtFTeUig5bMV8kVP1dHtZVl6z HyCUYfqQKEl/m0WA+PfLvWHP/66l3LOIcwvC0zXjbk92lLi9/lvNdkimACJCf5l7skej9jlH73c bu5nPmLB4aBKYrqCK36za8xuz0J0szyiBkvs1GEIalbPh0kD5rdlG50gzq/mA X-Gm-Gg: ASbGncuRwDedlp5uvSYkdzh4s2QbqC12jT7jEPXT/jkFJatU3PonBOZ6Wy2tpWhjolp YOmZ/YSWAV3x62L2Lr3UlitmtrDfeVh2X2ZYqAZ2KqIGISfbHj5K1/PYhDN1HQVTVo+7O1sKHr7 3z0xYobMLg2myxyd0315ZisDargDhYS14fufOdjhcgY5i1fwVkyNiuAoiOM1AMj1UDjDZFswzsh MiX4NDa8lpTiT9gg07iamGbXCzAzexoVLo7zKTahG5je9yQahliCzkH6yczORXu67aRg5y6WIDM u/YjUlSV0j9t9NWbvt2AVTdJRsTbNtqUFfe3Re5uXDJpMuTAsBZfmIAKZk5S3rppdLyEZmFhKHn krHqojxyI X-Google-Smtp-Source: AGHT+IFRhPSzNI955ZDUGurMXKvWdFQ1oiSx7RKdJtCZgBsQ3HKBkQdja764YY0L6GRa2W1OuwnRiMf3rjVD X-Received: by 2002:a05:6214:1ccf:b0:880:47d8:dec7 with SMTP id 6a1803df08f44-882926b36c3mr43136506d6.44.1763132650336; Fri, 14 Nov 2025 07:04:10 -0800 (PST) Received: from postal.iol.unh.edu (postal.iol.unh.edu. [2606:4100:3880:1234::84]) by smtp-relay.gmail.com with ESMTPS id 6a1803df08f44-88286572dd5sm5694706d6.25.2025.11.14.07.04.10 (version=TLS1_2 cipher=ECDHE-ECDSA-AES128-GCM-SHA256 bits=128/128); Fri, 14 Nov 2025 07:04:10 -0800 (PST) X-Relaying-Domain: iol.unh.edu Date: Fri, 14 Nov 2025 07:04:10 -0800 (PST) Message-ID: <691744ea.050a0220.21433e.bb72SMTPIN_ADDED_MISSING@mx.google.com> Received: from [172.21.0.2] (unknown [172.18.0.240]) by postal.iol.unh.edu (Postfix) with ESMTP id 0F27D6051830; Fri, 14 Nov 2025 10:04:10 -0500 (EST) Subject: |SUCCESS| pw158756-158759 [PATCH] [v4,4/4] bus/fslmc: add support fo From: dpdklab@iol.unh.edu To: Test Report Cc: dpdk-test-reports@iol.unh.edu, Stephen Hemminger In-Reply-To: <20251113114355.2027438-4-hemant.agrawal@nxp.com> References: <20251113114355.2027438-4-hemant.agrawal@nxp.com> Content-Type: text/plain X-BeenThere: test-report@dpdk.org X-Mailman-Version: 2.1.29 Precedence: list List-Id: automatic DPDK test reports List-Unsubscribe: , List-Archive: List-Post: List-Help: List-Subscribe: , Errors-To: test-report-bounces@dpdk.org Test-Label: iol-unit-amd64-testing Test-Status: SUCCESS http://dpdk.org/patch/158759 _Testing PASS_ Submitter: Hemant Agrawal Date: Thursday, November 13 2025 11:43:55 DPDK git baseline: Repo:dpdk-next-net Branch: master CommitID:29807269854f9bfc72f1323273de8e23adc724d4 158756-158759 --> testing pass Upstream job id: Generic-VM-Unit-Test-DPDK#32540 Test environment and result as below: +-------------------------------+----------------+ | Environment | dpdk_unit_test | +===============================+================+ | CentOS Stream 10 | PASS | +-------------------------------+----------------+ | Debian GNU/Linux 12 | PASS | +-------------------------------+----------------+ | CentOS Stream 9 | PASS | +-------------------------------+----------------+ | Fedora Linux 40 | PASS | +-------------------------------+----------------+ | Fedora Linux 41 | PASS | +-------------------------------+----------------+ | Red Hat Enterprise Linux 8.10 | PASS | +-------------------------------+----------------+ | Fedora Linux 42 | PASS | +-------------------------------+----------------+ | Red Hat Enterprise Linux 9.5 | PASS | +-------------------------------+----------------+ | Ubuntu 22.04 | PASS | +-------------------------------+----------------+ | Ubuntu 20.04 | PASS | +-------------------------------+----------------+ | Ubuntu 24.04 | PASS | +-------------------------------+----------------+ | Windows Server 2022 | PASS | +-------------------------------+----------------+ CentOS Stream 10 Kernel: 5.15 Compiler: gcc gcc (GCC) 14.2.1 20250110 (Red Hat 14.2.1-8) Debian GNU/Linux 12 Kernel: 5.15 Compiler: gcc gcc (Debian 12.2.0-14+deb12u1) 12.2.0 CentOS Stream 9 Kernel: 5.15 Compiler: gcc gcc (GCC) 11.5.0 20240719 (Red Hat 11.5.0-11) Fedora Linux 40 Kernel: 5.15 Compiler: gcc gcc (GCC) 14.2.1 20240912 (Red Hat 14.2.1-3) Fedora Linux 41 Kernel: 5.15 Compiler: gcc gcc (GCC) 14.3.1 20250523 (Red Hat 14.3.1-1) Red Hat Enterprise Linux 8.10 Kernel: 5.15 Compiler: gcc gcc (GCC) 8.5.0 20210514 (Red Hat 8.5.0-22) Fedora Linux 42 Kernel: 5.15 Compiler: clang gcc (GCC) 15.2.1 20250808 (Red Hat 15.2.1-1) Red Hat Enterprise Linux 9.5 Kernel: 5.15 Compiler: gcc gcc (GCC) 11.5.0 20240719 (Red Hat 11.5.0-2) Ubuntu 22.04 Kernel: 5.15 Compiler: gcc gcc (Ubuntu 11.4.0-1ubuntu1~22.04) 11.4.0 Ubuntu 20.04 Kernel: 5.15 Compiler: gcc gcc (Ubuntu 9.4.0-1ubuntu1~20.04.2) 9.4.0 Ubuntu 24.04 Kernel: 5.15 Compiler: gcc gcc (Ubuntu 13.3.0-6ubuntu2~24.04) 13.3.0 Windows Server 2022 Kernel: 10.0.20348.2031 Compiler: clang 15.0.7, gcc 14.1.0 (MinGW), and MSVC VS 19.39.33521 To view detailed results, visit: https://lab.dpdk.org/results/dashboard/patchsets/34573/ UNH-IOL DPDK Community Lab To manage your email subscriptions, visit: https://lab.dpdk.org/results/dashboard/preferences/subscriptions/