From mboxrd@z Thu Jan 1 00:00:00 1970 Return-Path: Received: from mails.dpdk.org (mails.dpdk.org [217.70.189.124]) by inbox.dpdk.org (Postfix) with ESMTP id 4E70648B0B for ; Fri, 14 Nov 2025 16:09:10 +0100 (CET) Received: from mails.dpdk.org (localhost [127.0.0.1]) by mails.dpdk.org (Postfix) with ESMTP id 1D36640151; Fri, 14 Nov 2025 16:09:10 +0100 (CET) Received: from mail-qk1-f226.google.com (mail-qk1-f226.google.com [209.85.222.226]) by mails.dpdk.org (Postfix) with ESMTP id B36B840151 for ; Fri, 14 Nov 2025 16:09:08 +0100 (CET) Received: by mail-qk1-f226.google.com with SMTP id af79cd13be357-8b0f54370ecso199126485a.2 for ; Fri, 14 Nov 2025 07:09:08 -0800 (PST) DKIM-Signature: v=1; a=rsa-sha256; c=relaxed/relaxed; d=iol.unh.edu; s=unh-iol; t=1763132948; x=1763737748; darn=dpdk.org; h=references:in-reply-to:cc:to:from:subject:message-id:date:from:to :cc:subject:date:message-id:reply-to; bh=GtYCYSyQEKOpLVPxHfyG3RUT8yJO+fWFBPl3UHM6XWQ=; b=F45TgIkLFLwElYgd0flXe7+yeI0c3PLWd5quSBwNFvuXE9D1jybuHbXleTZoBNG/9S OGHz9VMJsfTimfhMQ1IXxDKdjJcuceqBI+B1h3FXy5OCZ9zAWQGaZtD/igSVMTSFpv/l 4BZnvuXa1/ocgiajnVXQ73dWnvR5SrqLZVsBw= X-Google-DKIM-Signature: v=1; a=rsa-sha256; c=relaxed/relaxed; d=1e100.net; s=20230601; t=1763132948; x=1763737748; h=references:in-reply-to:cc:to:from:subject:message-id:date:x-gm-gg :x-gm-message-state:from:to:cc:subject:date:message-id:reply-to; bh=GtYCYSyQEKOpLVPxHfyG3RUT8yJO+fWFBPl3UHM6XWQ=; b=pmCFMpCZHZMf+QzyFyf1qRavzRp3gJU4doxrS0pU5cKMeDDlF7bUSFBzkSjXfp/lWZ pA218hUYQQEGq87fjUbp6/8jbesKK6LZmAElM/wlUBAxSkgXVEvxlMj88bZs7xnS/S/d C4wsGYn/gwcHH9d41sY0dPEIZOrvqsAlk9ag5kn6WCB97YMNibFgqeZzCiHHgQaOVLdQ LtnK2yrRUQqv5GAckz+rgpZsSOi00YabFTWoTjqMIecsNAiAyo5+GPBuaLVwKGtd4Wi3 coAoHQeENKhKhAX7MwLiecsxyWblxc2NYAgIvYJwwSx0pf/jM78cLmay5tLAfwadjRKr I7kQ== X-Gm-Message-State: AOJu0YwZicm8BOD1eHseJY2s1PDGFtVC2Mip8dnMgFzUHagqQZyMkwqx d5EkCg9Ql9xbaGyM1ui2cAQdoZFhBgYxBXy9qOvEeES5Ad1vj25mGBWKP9qMNnYPouaL5Uj+2sB i8p46ZHGYO0sLkTa9th0YkeWqXqPiwY0ab8l4CQCMqHID X-Gm-Gg: ASbGncvIYKbiU/3a4m/q9/pkdejfOD5kiiT7t/W4FrYWoWHmXnReA+5z8InuF8RBxHo SO7ETjN0tGMvwTbGoLmeYcefF8gPFN6tT1Mr6YBXqLQ42qCbCoOtS38HCY25uRiDd95xAt92FOc msPZwcN0INMaty05RNoaeVy2Mj4/g0oiRrPguV/PN9R15D4GuJViLD7NsSndps0hRcpSuo0g3lA iunxuZjPj17hT/vMYt64vCo4zHXA5BpDhuR0v7702wzmi71qC1hIwD1M0VY8wnqwVw1ioVePIP3 h/Wl1MOEA6whH8L15CkfRaZp/fh+EUugBitEE+ERdhCMbLJRiAOyJuTVt8R+E9pjcOWrI0krgf1 0vk27Uyxt0Iy0CGX9GdxxdhgWd1FLY7g= X-Google-Smtp-Source: AGHT+IFjVILtpXSno20ueKQB5FW/r1XGZOtAJ3t9sz7/fSKijregQQjvaROHsYW88DJMR8dll61I2RO6kW68 X-Received: by 2002:a05:620a:4105:b0:88e:4d7b:f5c8 with SMTP id af79cd13be357-8b2c316215amr432754885a.20.1763132947787; Fri, 14 Nov 2025 07:09:07 -0800 (PST) Received: from postal.iol.unh.edu (postal.iol.unh.edu. [132.177.123.84]) by smtp-relay.gmail.com with ESMTPS id af79cd13be357-8b2aef3aaf2sm51771585a.8.2025.11.14.07.09.07 (version=TLS1_2 cipher=ECDHE-ECDSA-AES128-GCM-SHA256 bits=128/128); Fri, 14 Nov 2025 07:09:07 -0800 (PST) X-Relaying-Domain: iol.unh.edu Date: Fri, 14 Nov 2025 07:09:07 -0800 (PST) Message-ID: <69174613.050a0220.8ac6.8e98SMTPIN_ADDED_MISSING@mx.google.com> Received: from [172.21.0.2] (unknown [172.18.0.240]) by postal.iol.unh.edu (Postfix) with ESMTP id 738E460003E7; Fri, 14 Nov 2025 10:09:07 -0500 (EST) Subject: |SUCCESS| pw158765-158768 [PATCH] [v5,4/4] vhost_user: Function defs From: dpdklab@iol.unh.edu To: Test Report Cc: dpdk-test-reports@iol.unh.edu, Chenbo Xia , Maxime Coquelin In-Reply-To: <20251113124425.2913881-5-pravin.bathija@dell.com> References: <20251113124425.2913881-5-pravin.bathija@dell.com> Content-Type: text/plain X-BeenThere: test-report@dpdk.org X-Mailman-Version: 2.1.29 Precedence: list List-Id: automatic DPDK test reports List-Unsubscribe: , List-Archive: List-Post: List-Help: List-Subscribe: , Errors-To: test-report-bounces@dpdk.org Test-Label: iol-compile-arm64-testing Test-Status: SUCCESS http://dpdk.org/patch/158768 _Testing PASS_ Submitter: Bathija, Pravin Date: Thursday, November 13 2025 12:44:25 DPDK git baseline: Repo:dpdk-next-virtio Branch: master CommitID:6b37c26a95388aa41bb5267c7c42f604fd571a38 158765-158768 --> testing pass Upstream job id: Generic-DPDK-Compile-Meson#444081 Test environment and result as below: +------------------------------+--------------------+ | Environment | dpdk_meson_compile | +==============================+====================+ | Red Hat Enterprise Linux 9.5 | PASS | +------------------------------+--------------------+ | Ubuntu 20.04 | PASS | +------------------------------+--------------------+ | Debian GNU/Linux 12 | PASS | +------------------------------+--------------------+ | Fedora Linux 42 | PASS | +------------------------------+--------------------+ | Ubuntu 22.04 | PASS | +------------------------------+--------------------+ | CentOS Stream 9 | PASS | +------------------------------+--------------------+ | Ubuntu 24.04 | PASS | +------------------------------+--------------------+ | CentOS Stream 10 | PASS | +------------------------------+--------------------+ Red Hat Enterprise Linux 9.5 Kernel: 5.4 Compiler: gcc gcc (GCC) 11.5.0 20240719 (Red Hat 11.5.0-2) Ubuntu 20.04 Kernel: 5.15 Compiler: aarch64-linux-gnu-gcc gcc (Ubuntu 9.4.0-1ubuntu1~20.04.2) 9.4.0 Debian GNU/Linux 12 Kernel: 5.4 Compiler: gcc gcc (Debian 12.2.0-14+deb12u1) 12.2.0 Fedora Linux 42 Kernel: 5.4 Compiler: gcc gcc (GCC) 15.2.1 20250808 (Red Hat 15.2.1-1) Ubuntu 22.04 Kernel: 5.4 Compiler: gcc gcc (Ubuntu 11.4.0-1ubuntu1~22.04) 11.4.0 CentOS Stream 9 Kernel: 5.4 Compiler: gcc gcc (GCC) 11.5.0 20240719 (Red Hat 11.5.0-11) Ubuntu 24.04 Kernel: 5.4 Compiler: gcc gcc (Ubuntu 13.3.0-6ubuntu2~24.04) 13.3.0 CentOS Stream 10 Kernel: 5.4 Compiler: gcc gcc (GCC) 14.2.1 20250110 (Red Hat 14.2.1-8) To view detailed results, visit: https://lab.dpdk.org/results/dashboard/patchsets/34576/ UNH-IOL DPDK Community Lab To manage your email subscriptions, visit: https://lab.dpdk.org/results/dashboard/preferences/subscriptions/