From mboxrd@z Thu Jan 1 00:00:00 1970 Return-Path: Received: from mails.dpdk.org (mails.dpdk.org [217.70.189.124]) by inbox.dpdk.org (Postfix) with ESMTP id DC1CC48B0B for ; Fri, 14 Nov 2025 16:29:44 +0100 (CET) Received: from mails.dpdk.org (localhost [127.0.0.1]) by mails.dpdk.org (Postfix) with ESMTP id BF30040151; Fri, 14 Nov 2025 16:29:44 +0100 (CET) Received: from mail-pl1-f227.google.com (mail-pl1-f227.google.com [209.85.214.227]) by mails.dpdk.org (Postfix) with ESMTP id C812F40151 for ; Fri, 14 Nov 2025 16:29:42 +0100 (CET) Received: by mail-pl1-f227.google.com with SMTP id d9443c01a7336-2953ad5517dso24975355ad.0 for ; Fri, 14 Nov 2025 07:29:42 -0800 (PST) DKIM-Signature: v=1; a=rsa-sha256; c=relaxed/relaxed; d=iol.unh.edu; s=unh-iol; t=1763134182; x=1763738982; darn=dpdk.org; h=references:in-reply-to:cc:to:from:subject:message-id:date:from:to :cc:subject:date:message-id:reply-to; bh=OUHrKWjCpr+kQVA8H/Nlw4e5Rz5dcBsBMi5f35tiJGQ=; b=HP1+YE5fT3Jba1o91te3bKT4R9TzOSoOWR8di/KC1fCugWXqMLxlalz+ucnscFON7y uXrb8BxSScu+KAsa+9GMtgA0d1RNgJUi1YLnxWT1EY/q1hsEXOMVFQH+Q9H44Ojz4FHh c8Ij5kYnAueW9/nJuw8oVWhu9syKfDRidJuKM= X-Google-DKIM-Signature: v=1; a=rsa-sha256; c=relaxed/relaxed; d=1e100.net; s=20230601; t=1763134182; x=1763738982; h=references:in-reply-to:cc:to:from:subject:message-id:date:x-gm-gg :x-gm-message-state:from:to:cc:subject:date:message-id:reply-to; bh=OUHrKWjCpr+kQVA8H/Nlw4e5Rz5dcBsBMi5f35tiJGQ=; b=R7Y/KwJn+Mvu+Kc9HKzeYZkgdUPaLI11UYOw4ij1eVMzbiTTH1LoT65T2llsi9NwnM NZ8Ff7OWaogVASXhFtC2MCZeW1FMCUGkofPqfnuxuF4gedCQlYQMQdjsj/mv43cqIlX2 +WAsUZRV8Z+w0RAAUm5OEfQUvV+iEOI/xH2VjsQdMwhi4pl3+6mrsDUPuv0JHrWPg4LB ipOHd3jfpmaIKfR2zwDbEYigqdBJxtEmNzakwKBSz+mkFLLovmrBSzjbz0TMIvAthrbr COxo6CEFjIIX2duJ6/aCSMeJKRLTFul+hvm6v4YltfoBMY2V+Fr+pAiV0J7iumyzkkJb UXIQ== X-Gm-Message-State: AOJu0YyKFaM2WedyMa6mwGzuvDODLkC6Mvk8nWsj6O5rrj7tEXokLxAt Eyb8pf8gTtkxUrjHQqT/nhyHQGQcg9pkH/JfvvvvJIv1BXGJlsdoIf92UIl07lmRUeQ1upxQhx3 HSG3tDImTY7zo8ZybrzNdxcW8ZwaAYqJ1WAjJ3xDgo0zV X-Gm-Gg: ASbGncsa99NGk4jxoE4OmVY2nxbIWsM91cwS1IjP9CtMrKE3VB4rzdA7QTfDgowbCpO zTIarQyRvBDkIj5k7DuYxlTH6lrdpS2rl9OywKRoHZIQE5kDdZi36MeH3ETB4Pfwtp1O0jyhcHV BQTh6I2a7JSWI0pt8NAEF+XVEfD2fnKQAO9CUfygIqEhQGosK18A0/IHON7omedEHNvMhNzo/BJ xhlo58glyuhbpVFDy/IgGS/Lufq0+OzHLbyFwGRcCFE5oUoZMyzg0ARe6bAXiBhlqFaK2hZm9HW 0b9rrQ/+OtF3ODtwlqyVkOKI2lAGGHNbZtQchVn2Bg76OleEE6TlHNJIFb2J6T2B9ycSLrHmfES unq2KJ5ZTPHa4aRHjbRD6L8PTermCA6o= X-Google-Smtp-Source: AGHT+IEZnj6wM3yDiiTxGaCI2o3HP0GK5QtK7IVXssCIoljw/OsM8FLJhoKCTciF/M6j5MVyVIW3EQn6KWj6 X-Received: by 2002:a17:903:1b2f:b0:295:3f35:a312 with SMTP id d9443c01a7336-2986a6cfeefmr37822905ad.20.1763134181628; Fri, 14 Nov 2025 07:29:41 -0800 (PST) Received: from postal.iol.unh.edu (postal.iol.unh.edu. [132.177.123.84]) by smtp-relay.gmail.com with ESMTPS id d9443c01a7336-2985c241a5asm5566275ad.15.2025.11.14.07.29.41 (version=TLS1_2 cipher=ECDHE-ECDSA-AES128-GCM-SHA256 bits=128/128); Fri, 14 Nov 2025 07:29:41 -0800 (PST) X-Relaying-Domain: iol.unh.edu Date: Fri, 14 Nov 2025 07:29:41 -0800 (PST) Message-ID: <69174ae5.170a0220.123ea8.b684SMTPIN_ADDED_MISSING@mx.google.com> Received: from [172.21.0.2] (unknown [172.18.0.240]) by postal.iol.unh.edu (Postfix) with ESMTP id EE1256051830; Fri, 14 Nov 2025 10:29:40 -0500 (EST) Subject: |SUCCESS| pw158775 [PATCH] net/mlx5: fix state corruption in dev sta From: dpdklab@iol.unh.edu To: Test Report Cc: dpdk-test-reports@iol.unh.edu In-Reply-To: <20251113193711.7883-1-mkashani@nvidia.com> References: <20251113193711.7883-1-mkashani@nvidia.com> Content-Type: text/plain X-BeenThere: test-report@dpdk.org X-Mailman-Version: 2.1.29 Precedence: list List-Id: automatic DPDK test reports List-Unsubscribe: , List-Archive: List-Post: List-Help: List-Subscribe: , Errors-To: test-report-bounces@dpdk.org Test-Label: iol-compile-amd64-testing Test-Status: SUCCESS http://dpdk.org/patch/158775 _Testing PASS_ Submitter: Maayan Kashani Date: Thursday, November 13 2025 19:37:11 DPDK git baseline: Repo:dpdk-next-net-mlx Branch: master CommitID:ae657d56b1f0ea979b3f611edf28d773efc2ddcf 158775 --> testing pass Upstream job id: Windows-Compile-DPDK-VS#7545 Test environment and result as below: +-------------------------------+--------------------+------------------+-------------------+ | Environment | dpdk_meson_compile | dpdk_compile_ovs | dpdk_msvc_compile | +===============================+====================+==================+===================+ | Ubuntu 20.04 | PASS | SKIPPED | SKIPPED | +-------------------------------+--------------------+------------------+-------------------+ | FreeBSD 14.2 | PASS | SKIPPED | SKIPPED | +-------------------------------+--------------------+------------------+-------------------+ | Alpine Linux 3.22.0 | PASS | SKIPPED | SKIPPED | +-------------------------------+--------------------+------------------+-------------------+ | CentOS Stream 9 | PASS | SKIPPED | SKIPPED | +-------------------------------+--------------------+------------------+-------------------+ | CentOS Stream 10 | PASS | SKIPPED | SKIPPED | +-------------------------------+--------------------+------------------+-------------------+ | Debian GNU/Linux 12 | PASS | SKIPPED | SKIPPED | +-------------------------------+--------------------+------------------+-------------------+ | Fedora Linux 42 | PASS | PASS | SKIPPED | +-------------------------------+--------------------+------------------+-------------------+ | openSUSE Leap 15.6 | PASS | SKIPPED | SKIPPED | +-------------------------------+--------------------+------------------+-------------------+ | Red Hat Enterprise Linux 8.10 | PASS | SKIPPED | SKIPPED | +-------------------------------+--------------------+------------------+-------------------+ | Red Hat Enterprise Linux 9.5 | PASS | SKIPPED | SKIPPED | +-------------------------------+--------------------+------------------+-------------------+ | Ubuntu 22.04 | PASS | SKIPPED | SKIPPED | +-------------------------------+--------------------+------------------+-------------------+ | Ubuntu 24.04 | PASS | PASS | SKIPPED | +-------------------------------+--------------------+------------------+-------------------+ | Windows Server 2022 | SKIPPED | SKIPPED | PASS | +-------------------------------+--------------------+------------------+-------------------+ Ubuntu 20.04 Kernel: 4.19 Compiler: gcc gcc (Ubuntu 9.4.0-1ubuntu1~20.04.2) 9.4.0 FreeBSD 14.2 Kernel: 14.2-RELEASE Compiler: clang 18.1.6 Alpine Linux 3.22.0 Kernel: 5.15 Compiler: gcc gcc (Alpine 14.2.0) 14.2.0 CentOS Stream 9 Kernel: 5.15 Compiler: gcc gcc (GCC) 11.5.0 20240719 (Red Hat 11.5.0-11) CentOS Stream 10 Kernel: 5.15 Compiler: gcc gcc (GCC) 14.2.1 20250110 (Red Hat 14.2.1-8) Debian GNU/Linux 12 Kernel: 5.15 Compiler: gcc gcc (Debian 12.2.0-14+deb12u1) 12.2.0 Fedora Linux 42 Kernel: 5.15 Compiler: clang gcc (GCC) 15.2.1 20250808 (Red Hat 15.2.1-1) openSUSE Leap 15.6 Kernel: 5.15 Compiler: gcc gcc (SUSE Linux) 7.5.0 Red Hat Enterprise Linux 8.10 Kernel: 5.15 Compiler: gcc gcc (GCC) 8.5.0 20210514 (Red Hat 8.5.0-22) Red Hat Enterprise Linux 9.5 Kernel: 5.15 Compiler: gcc gcc (GCC) 11.5.0 20240719 (Red Hat 11.5.0-2) Ubuntu 22.04 Kernel: 5.15 Compiler: gcc gcc (Ubuntu 11.4.0-1ubuntu1~22.04) 11.4.0 Ubuntu 24.04 Kernel: 5.15 Compiler: gcc gcc (Ubuntu 13.3.0-6ubuntu2~24.04) 13.3.0 Windows Server 2022 Kernel: 10.0.20348.2031 Compiler: clang 15.0.7, gcc 14.1.0 (MinGW), and MSVC VS 19.39.33521 To view detailed results, visit: https://lab.dpdk.org/results/dashboard/patchsets/34582/ UNH-IOL DPDK Community Lab To manage your email subscriptions, visit: https://lab.dpdk.org/results/dashboard/preferences/subscriptions/