From mboxrd@z Thu Jan 1 00:00:00 1970 Return-Path: Received: from mails.dpdk.org (mails.dpdk.org [217.70.189.124]) by inbox.dpdk.org (Postfix) with ESMTP id 0DA0248B0B for ; Fri, 14 Nov 2025 16:31:51 +0100 (CET) Received: from mails.dpdk.org (localhost [127.0.0.1]) by mails.dpdk.org (Postfix) with ESMTP id E8F1640151; Fri, 14 Nov 2025 16:31:50 +0100 (CET) Received: from mail-vk1-f225.google.com (mail-vk1-f225.google.com [209.85.221.225]) by mails.dpdk.org (Postfix) with ESMTP id 7092D40151 for ; Fri, 14 Nov 2025 16:31:49 +0100 (CET) Received: by mail-vk1-f225.google.com with SMTP id 71dfb90a1353d-55b0d4b560aso1277278e0c.0 for ; Fri, 14 Nov 2025 07:31:49 -0800 (PST) DKIM-Signature: v=1; a=rsa-sha256; c=relaxed/relaxed; d=iol.unh.edu; s=unh-iol; t=1763134308; x=1763739108; darn=dpdk.org; h=references:in-reply-to:cc:to:from:subject:message-id:date:from:to :cc:subject:date:message-id:reply-to; bh=ytqoXTdvXQJ47o9CHHpxTC0oqRzyKVZqYc6ZXSz3j9I=; b=jNKzvEeeUIJvj5+ZWSAj0N85sexufOQUjBAUaq94mKhmOt2vVmyqAHzMiiMM82W36R zV7dDB6MK/YF977JPKuUvz5Mks4Fdwbv7I1vm+k/1x6BpnUhcKXYYSQSDoIf/jsAHmM/ I2z8cBYw9b3Pl4ch37um6bmHhk+rw5M+e2yU0= X-Google-DKIM-Signature: v=1; a=rsa-sha256; c=relaxed/relaxed; d=1e100.net; s=20230601; t=1763134308; x=1763739108; h=references:in-reply-to:cc:to:from:subject:message-id:date:x-gm-gg :x-gm-message-state:from:to:cc:subject:date:message-id:reply-to; bh=ytqoXTdvXQJ47o9CHHpxTC0oqRzyKVZqYc6ZXSz3j9I=; b=vztXKbstml2+kHqDrg5k0UStLVxd65F6JTEOeLkLc0+zdtwhHvO67raXkqbQQnhqmN eo+EPeOw6fBZJ2C8afkF6WGfDLnXr8VaHpa+KRig0fQs5diLPY3wotuO5G1zo+MYDoDu ah+D9Rs+uCyL9ExsPUgbVM9hpXg0QNKFryqwJ4bOJLnrsWpND//4iSk1H8G+dZeL77bP JSLwoIUILx43OdJvLQRWTBiPqvB6KpfuZlY/oiFhoG2Uz1goMfv7LqSglL3zS5b5Z/mI WOJ3Sbnhq78ipiOtA4nTqQnrD2w1HniKWtPFwDjMcZo0/kEYSjpmKKDz7aZCTLyzrKwc 5qhg== X-Gm-Message-State: AOJu0YzLafGqdEIt2BdL12+1Pd3X6yST+AGvNXD5z6MjxVAX4bGHkkx/ WZ2CrzEiyZaKV7tnWX7THyj93SyS13gBbJJH4Via15HucU7ESH2N3jHmVCC7d1xXAdUVxbC+Tyj 45w+AM53UyVAH+8dNbFWg0a5z8mrWpkRXb4kajjJbP/wj X-Gm-Gg: ASbGnctLHW70O2mIAZavZG0ge3VJgDKGVcEmgGquaiBTPJn5+riUayhnUi4Tgfvwugb RgSnY5DTu4RyWg42vIJlzRSkYfsg9LjVgX7wHw61eInoTsQa0R6D1UPIuTjiBC8GteUREbhFCDK fBrx38MKOGgqyaEzeIATmNWddGzV3rdFfkmq3w0JAA+PncGqLwTmw9HRNAwkHrz6CiLQtoilArt FSH7C2WwRt3bdeTrayi8PeeHNj2niiEzRP3qgGmetYnkcJAYPIi+84tNNdXs+TwgapAB2p9Ua3g 1+psBtCWYStWJ0c5WTIYVDW/AURKJSIsKKdVv0JzOi4UELeEL+PM9ln0lBil56Hot/H2U7tR/ZW 9QZYAIs7PhRCFbMs62ADLQRFnRBsBbQQ= X-Google-Smtp-Source: AGHT+IEzzqLDYtozGfN1r+MlVkGsuE6wcLElODzCBTs8r2OfqtVe+iH0fLKpsqlJoQ9hQNCk+14I6P+/fBWy X-Received: by 2002:a05:6102:5a98:b0:5dd:b240:ca8 with SMTP id ada2fe7eead31-5dfc554b168mr1365765137.1.1763134308435; Fri, 14 Nov 2025 07:31:48 -0800 (PST) Received: from postal.iol.unh.edu (postal.iol.unh.edu. [132.177.123.84]) by smtp-relay.gmail.com with ESMTPS id ada2fe7eead31-5dfb6c7a0d0sm529155137.0.2025.11.14.07.31.48 (version=TLS1_2 cipher=ECDHE-ECDSA-AES128-GCM-SHA256 bits=128/128); Fri, 14 Nov 2025 07:31:48 -0800 (PST) X-Relaying-Domain: iol.unh.edu Date: Fri, 14 Nov 2025 07:31:48 -0800 (PST) Message-ID: <69174b64.050a0220.19b74f.96d4SMTPIN_ADDED_MISSING@mx.google.com> Received: from [172.21.0.2] (unknown [172.18.0.240]) by postal.iol.unh.edu (Postfix) with ESMTP id 0CC5160003E7; Fri, 14 Nov 2025 10:31:48 -0500 (EST) Subject: |SUCCESS| pw158696-158697 [PATCH] [v3,2/2] test/crypto: add QAT AES- From: dpdklab@iol.unh.edu To: Test Report Cc: dpdk-test-reports@iol.unh.edu, Akhil Goyal In-Reply-To: <20251112101911.2377840-2-emma.finn@intel.com> References: <20251112101911.2377840-2-emma.finn@intel.com> Content-Type: text/plain X-BeenThere: test-report@dpdk.org X-Mailman-Version: 2.1.29 Precedence: list List-Id: automatic DPDK test reports List-Unsubscribe: , List-Archive: List-Post: List-Help: List-Subscribe: , Errors-To: test-report-bounces@dpdk.org Test-Label: iol-compile-amd64-testing Test-Status: SUCCESS http://dpdk.org/patch/158697 _Testing PASS_ Submitter: Emma Finn Date: Wednesday, November 12 2025 10:19:11 DPDK git baseline: Repo:dpdk-next-crypto Branch: master CommitID:8ae4f1d511226fd65a979e9f8a1e51835281a59b 158696-158697 --> testing pass Upstream job id: Windows-Compile-DPDK-Native#32323 Test environment and result as below: +-------------------------------+--------------------+------------------+-------------------+-------------------------+----------------------+ | Environment | dpdk_meson_compile | dpdk_compile_ovs | dpdk_msvc_compile | dpdk_llvm_clang_compile | dpdk_mingw64_compile | +===============================+====================+==================+===================+=========================+======================+ | FreeBSD 14.2 | PASS | SKIPPED | SKIPPED | SKIPPED | SKIPPED | +-------------------------------+--------------------+------------------+-------------------+-------------------------+----------------------+ | Ubuntu 20.04 | PASS | SKIPPED | SKIPPED | SKIPPED | SKIPPED | +-------------------------------+--------------------+------------------+-------------------+-------------------------+----------------------+ | CentOS Stream 9 | PASS | SKIPPED | SKIPPED | SKIPPED | SKIPPED | +-------------------------------+--------------------+------------------+-------------------+-------------------------+----------------------+ | CentOS Stream 10 | PASS | SKIPPED | SKIPPED | SKIPPED | SKIPPED | +-------------------------------+--------------------+------------------+-------------------+-------------------------+----------------------+ | Debian GNU/Linux 12 | PASS | SKIPPED | SKIPPED | SKIPPED | SKIPPED | +-------------------------------+--------------------+------------------+-------------------+-------------------------+----------------------+ | Fedora Linux 42 | PASS | PASS | SKIPPED | SKIPPED | SKIPPED | +-------------------------------+--------------------+------------------+-------------------+-------------------------+----------------------+ | openSUSE Leap 15.6 | PASS | SKIPPED | SKIPPED | SKIPPED | SKIPPED | +-------------------------------+--------------------+------------------+-------------------+-------------------------+----------------------+ | Red Hat Enterprise Linux 8.10 | PASS | SKIPPED | SKIPPED | SKIPPED | SKIPPED | +-------------------------------+--------------------+------------------+-------------------+-------------------------+----------------------+ | Red Hat Enterprise Linux 9.5 | PASS | SKIPPED | SKIPPED | SKIPPED | SKIPPED | +-------------------------------+--------------------+------------------+-------------------+-------------------------+----------------------+ | Ubuntu 22.04 | PASS | SKIPPED | SKIPPED | SKIPPED | SKIPPED | +-------------------------------+--------------------+------------------+-------------------+-------------------------+----------------------+ | Ubuntu 24.04 | PASS | PASS | SKIPPED | SKIPPED | SKIPPED | +-------------------------------+--------------------+------------------+-------------------+-------------------------+----------------------+ | Alpine Linux 3.22.0 | PASS | SKIPPED | SKIPPED | SKIPPED | SKIPPED | +-------------------------------+--------------------+------------------+-------------------+-------------------------+----------------------+ | Windows Server 2022 | SKIPPED | SKIPPED | PASS | PASS | PASS | +-------------------------------+--------------------+------------------+-------------------+-------------------------+----------------------+ FreeBSD 14.2 Kernel: 14.2-RELEASE Compiler: clang 18.1.6 Ubuntu 20.04 Kernel: 4.19 Compiler: gcc gcc (Ubuntu 9.4.0-1ubuntu1~20.04.2) 9.4.0 CentOS Stream 9 Kernel: 5.15 Compiler: gcc gcc (GCC) 11.5.0 20240719 (Red Hat 11.5.0-11) CentOS Stream 10 Kernel: 5.15 Compiler: gcc gcc (GCC) 14.2.1 20250110 (Red Hat 14.2.1-8) Debian GNU/Linux 12 Kernel: 5.15 Compiler: gcc gcc (Debian 12.2.0-14+deb12u1) 12.2.0 Fedora Linux 42 Kernel: 5.15 Compiler: clang gcc (GCC) 15.2.1 20250808 (Red Hat 15.2.1-1) openSUSE Leap 15.6 Kernel: 5.15 Compiler: gcc gcc (SUSE Linux) 7.5.0 Red Hat Enterprise Linux 8.10 Kernel: 5.15 Compiler: gcc gcc (GCC) 8.5.0 20210514 (Red Hat 8.5.0-22) Red Hat Enterprise Linux 9.5 Kernel: 5.15 Compiler: gcc gcc (GCC) 11.5.0 20240719 (Red Hat 11.5.0-2) Ubuntu 22.04 Kernel: 5.15 Compiler: gcc gcc (Ubuntu 11.4.0-1ubuntu1~22.04) 11.4.0 Ubuntu 24.04 Kernel: 5.15 Compiler: gcc gcc (Ubuntu 13.3.0-6ubuntu2~24.04) 13.3.0 Alpine Linux 3.22.0 Kernel: 5.15 Compiler: gcc gcc (Alpine 14.2.0) 14.2.0 Windows Server 2022 Kernel: 10.0.20348.2031 Compiler: clang 15.0.7, gcc 14.1.0 (MinGW), and MSVC VS 19.39.33521 To view detailed results, visit: https://lab.dpdk.org/results/dashboard/patchsets/34546/ UNH-IOL DPDK Community Lab To manage your email subscriptions, visit: https://lab.dpdk.org/results/dashboard/preferences/subscriptions/